Workbook

Sheet Основной тариф
B2: Выберите тип тарифа | I2: Открытый тариф | S2: Выберите тип питания | U2: Завтрак
A5: ТАРИФЫ
A6: ФЕВРАЛЬ 2026
A7: День | C7: Стандарт | E7: Стандарт улучшенный с двухъярусной кроватью | G7: Полулюкс | I7: Люкс | K7: Люкс Королевы | M7: Люкс Короля | O7: Президентский люкс
C8: 1-мест. | D8: 2-мест. | E8: 1-мест. | F8: 2-мест. | G8: 1-мест. | H8: 2-мест. | I8: 1-мест. | J8: 2-мест. | K8: 1-мест. | L8: 2-мест. | M8: 1-мест. | N8: 2-мест. | O8: 1-мест. | P8: 2-мест.
A9: ЧТ | B9: 12 | C9: {=IF($I$2="Открытый тариф", INDEX(GRID!$B$4:$BI$10,MATCH($C$7,GRID!$A$4:$A$10,0),MATCH(1,($U$2=GRID!$B$1:$BI$1)*(КАЛЕНДАРЬ!AQ15=GRID!$B$3:$BI$3), 0)), INDEX(GRID!$B$4:$BI$10,MATCH($C$7,GRID!$A$4:$A$10,0),MATCH(1,($U$2=GRID!$B$1:$BI$1)*(КАЛЕНДАРЬ!AQ15=GRID!$B$3:$BI$3), 0))*(1-GRID!$B$29))} -> 10200 | D9: {=IF($I$2="Открытый тариф", INDEX(GRID!$B$13:$BI$19,MATCH($C$7,GRID!$A$13:$A$19,0),MATCH(1,($U$2=GRID!$B$1:$BI$1)*(КАЛЕНДАРЬ!$AQ15=GRID!$B$3:$BI$3), 0)), INDEX(GRID!$B$13:$BI$19,MATCH($C$7,GRID!$A$13:$A$19,0),MATCH(1,($U$2=GRID!$B$1:$BI$1)*(КАЛЕНДАРЬ!$AQ15=GRID!$B$3:$BI$3), 0))*(1-GRID!$B$29))} -> 13500 | E9: {=IF($I$2="Открытый тариф", INDEX(GRID!$B$4:$BI$10,MATCH($E$7,GRID!$A$4:$A$10,0),MATCH(1,($U$2=GRID!$B$1:$BI$1)*(КАЛЕНДАРЬ!AQ15=GRID!$B$3:$BI$3), 0)), INDEX(GRID!$B$4:$BI$10,MATCH($E$7,GRID!$A$4:$A$10,0),MATCH(1,($U$2=GRID!$B$1:$BI$1)*(КАЛЕНДАРЬ!AQ15=GRID!$B$3:$BI$3), 0))*(1-GRID!$B$29))} -> 12400 | F9: {=IF($I$2="Открытый тариф", INDEX(GRID!$B$13:$BI$19,MATCH($E$7,GRID!$A$13:$A$19,0),MATCH(1,($U$2=GRID!$B$1:$BI$1)*(КАЛЕНДАРЬ!$AQ15=GRID!$B$3:$BI$3), 0)), INDEX(GRID!$B$13:$BI$19,MATCH($E$7,GRID!$A$13:$A$19,0),MATCH(1,($U$2=GRID!$B$1:$BI$1)*(КАЛЕНДАРЬ!$AQ15=GRID!$B$3:$BI$3), 0))*(1-GRID!$B$29))} -> 15700 | G9: {=IF($I$2="Открытый тариф", INDEX(GRID!$B$4:$BI$10,MATCH($G$7,GRID!$A$4:$A$10,0),MATCH(1,($U$2=GRID!$B$1:$BI$1)*(КАЛЕНДАРЬ!AQ15=GRID!$B$3:$BI$3), 0)), INDEX(GRID!$B$4:$BI$10,MATCH($G$7,GRID!$A$4:$A$10,0),MATCH(1,($U$2=GRID!$B$1:$BI$1)*(КАЛЕНДАРЬ!AQ15=GRID!$B$3:$BI$3), 0))*(1-GRID!$B$29))} -> 15000 | H9: {=IF($I$2="Открытый тариф", INDEX(GRID!$B$13:$BI$19,MATCH($G$7,GRID!$A$13:$A$19,0),MATCH(1,($U$2=GRID!$B$1:$BI$1)*(КАЛЕНДАРЬ!$AQ15=GRID!$B$3:$BI$3), 0)), INDEX(GRID!$B$13:$BI$19,MATCH($G$7,GRID!$A$13:$A$19,0),MATCH(1,($U$2=GRID!$B$1:$BI$1)*(КАЛЕНДАРЬ!$AQ15=GRID!$B$3:$BI$3), 0))*(1-GRID!$B$29))} -> 18300 | I9: {=IF($I$2="Открытый тариф", INDEX(GRID!$B$4:$BI$10,MATCH($I$7,GRID!$A$4:$A$10,0),MATCH(1,($U$2=GRID!$B$1:$BI$1)*(КАЛЕНДАРЬ!AQ15=GRID!$B$3:$BI$3), 0)), INDEX(GRID!$B$4:$BI$10,MATCH($I$7,GRID!$A$4:$A$10,0),MATCH(1,($U$2=GRID!$B$1:$BI$1)*(КАЛЕНДАРЬ!AQ15=GRID!$B$3:$BI$3), 0))*(1-GRID!$B$29))} -> 21000 | J9: {=IF($I$2="Открытый тариф", INDEX(GRID!$B$13:$BI$19,MATCH($I$7,GRID!$A$13:$A$19,0),MATCH(1,($U$2=GRID!$B$1:$BI$1)*(КАЛЕНДАРЬ!$AQ15=GRID!$B$3:$BI$3), 0)), INDEX(GRID!$B$13:$BI$19,MATCH($I$7,GRID!$A$13:$A$19,0),MATCH(1,($U$2=GRID!$B$1:$BI$1)*(КАЛЕНДАРЬ!$AQ15=GRID!$B$3:$BI$3), 0))*(1-GRID!$B$29))} -> 24300 | K9: {=IF($I$2="Открытый тариф", INDEX(GRID!$B$4:$BI$10,MATCH($K$7,GRID!$A$4:$A$10,0),MATCH(1,($U$2=GRID!$B$1:$BI$1)*(КАЛЕНДАРЬ!AQ15=GRID!$B$3:$BI$3), 0)), INDEX(GRID!$B$4:$BI$10,MATCH($K$7,GRID!$A$4:$A$10,0),MATCH(1,($U$2=GRID!$B$1:$BI$1)*(КАЛЕНДАРЬ!AQ15=GRID!$B$3:$BI$3), 0))*(1-GRID!$B$29))} -> 29500 | L9: {=IF($I$2="Открытый тариф", INDEX(GRID!$B$13:$BI$19,MATCH($K$7,GRID!$A$13:$A$19,0),MATCH(1,($U$2=GRID!$B$1:$BI$1)*(КАЛЕНДАРЬ!$AQ15=GRID!$B$3:$BI$3), 0)), INDEX(GRID!$B$13:$BI$19,MATCH($K$7,GRID!$A$13:$A$19,0),MATCH(1,($U$2=GRID!$B$1:$BI$1)*(КАЛЕНДАРЬ!$AQ15=GRID!$B$3:$BI$3), 0))*(1-GRID!$B$29))} -> 32800 | M9: {=IF($I$2="Открытый тариф", INDEX(GRID!$B$4:$BI$10,MATCH($M$7,GRID!$A$4:$A$10,0),MATCH(1,($U$2=GRID!$B$1:$BI$1)*(КАЛЕНДАРЬ!AQ15=GRID!$B$3:$BI$3), 0)), INDEX(GRID!$B$4:$BI$10,MATCH($M$7,GRID!$A$4:$A$10,0),MATCH(1,($U$2=GRID!$B$1:$BI$1)*(КАЛЕНДАРЬ!AQ15=GRID!$B$3:$BI$3), 0))*(1-GRID!$B$29))} -> 42300 | N9: {=IF($I$2="Открытый тариф", INDEX(GRID!$B$13:$BI$19,MATCH($M$7,GRID!$A$13:$A$19,0),MATCH(1,($U$2=GRID!$B$1:$BI$1)*(КАЛЕНДАРЬ!$AQ15=GRID!$B$3:$BI$3), 0)), INDEX(GRID!$B$13:$BI$19,MATCH($M$7,GRID!$A$13:$A$19,0),MATCH(1,($U$2=GRID!$B$1:$BI$1)*(КАЛЕНДАРЬ!$AQ15=GRID!$B$3:$BI$3), 0))*(1-GRID!$B$29))} -> 45600 | O9: {=IF($I$2="Открытый тариф", INDEX(GRID!$B$4:$BI$10,MATCH($O$7,GRID!$A$4:$A$10,0),MATCH(1,($U$2=GRID!$B$1:$BI$1)*(КАЛЕНДАРЬ!AQ15=GRID!$B$3:$BI$3), 0)), INDEX(GRID!$B$4:$BI$10,MATCH($O$7,GRID!$A$4:$A$10,0),MATCH(1,($U$2=GRID!$B$1:$BI$1)*(КАЛЕНДАРЬ!AQ15=GRID!$B$3:$BI$3), 0))*(1-GRID!$B$29))} -> 95400 | P9: {=IF($I$2="Открытый тариф", INDEX(GRID!$B$13:$BI$19,MATCH($O$7,GRID!$A$13:$A$19,0),MATCH(1,($U$2=GRID!$B$1:$BI$1)*(КАЛЕНДАРЬ!$AQ15=GRID!$B$3:$BI$3), 0)), INDEX(GRID!$B$13:$BI$19,MATCH($O$7,GRID!$A$13:$A$19,0),MATCH(1,($U$2=GRID!$B$1:$BI$1)*(КАЛЕНДАРЬ!$AQ15=GRID!$B$3:$BI$3), 0))*(1-GRID!$B$29))} -> 98700
A10: ПТ | B10: 13 | C10: {=IF($I$2="Открытый тариф", INDEX(GRID!$B$4:$BI$10,MATCH($C$7,GRID!$A$4:$A$10,0),MATCH(1,($U$2=GRID!$B$1:$BI$1)*(КАЛЕНДАРЬ!AQ16=GRID!$B$3:$BI$3), 0)), INDEX(GRID!$B$4:$BI$10,MATCH($C$7,GRID!$A$4:$A$10,0),MATCH(1,($U$2=GRID!$B$1:$BI$1)*(КАЛЕНДАРЬ!AQ16=GRID!$B$3:$BI$3), 0))*(1-GRID!$B$29))} -> 12800 | D10: {=IF($I$2="Открытый тариф", INDEX(GRID!$B$13:$BI$19,MATCH($C$7,GRID!$A$13:$A$19,0),MATCH(1,($U$2=GRID!$B$1:$BI$1)*(КАЛЕНДАРЬ!$AQ16=GRID!$B$3:$BI$3), 0)), INDEX(GRID!$B$13:$BI$19,MATCH($C$7,GRID!$A$13:$A$19,0),MATCH(1,($U$2=GRID!$B$1:$BI$1)*(КАЛЕНДАРЬ!$AQ16=GRID!$B$3:$BI$3), 0))*(1-GRID!$B$29))} -> 16100 | E10: {=IF($I$2="Открытый тариф", INDEX(GRID!$B$4:$BI$10,MATCH($E$7,GRID!$A$4:$A$10,0),MATCH(1,($U$2=GRID!$B$1:$BI$1)*(КАЛЕНДАРЬ!AQ16=GRID!$B$3:$BI$3), 0)), INDEX(GRID!$B$4:$BI$10,MATCH($E$7,GRID!$A$4:$A$10,0),MATCH(1,($U$2=GRID!$B$1:$BI$1)*(КАЛЕНДАРЬ!AQ16=GRID!$B$3:$BI$3), 0))*(1-GRID!$B$29))} -> 15700 | F10: {=IF($I$2="Открытый тариф", INDEX(GRID!$B$13:$BI$19,MATCH($E$7,GRID!$A$13:$A$19,0),MATCH(1,($U$2=GRID!$B$1:$BI$1)*(КАЛЕНДАРЬ!$AQ16=GRID!$B$3:$BI$3), 0)), INDEX(GRID!$B$13:$BI$19,MATCH($E$7,GRID!$A$13:$A$19,0),MATCH(1,($U$2=GRID!$B$1:$BI$1)*(КАЛЕНДАРЬ!$AQ16=GRID!$B$3:$BI$3), 0))*(1-GRID!$B$29))} -> 19000 | G10: {=IF($I$2="Открытый тариф", INDEX(GRID!$B$4:$BI$10,MATCH($G$7,GRID!$A$4:$A$10,0),MATCH(1,($U$2=GRID!$B$1:$BI$1)*(КАЛЕНДАРЬ!AQ16=GRID!$B$3:$BI$3), 0)), INDEX(GRID!$B$4:$BI$10,MATCH($G$7,GRID!$A$4:$A$10,0),MATCH(1,($U$2=GRID!$B$1:$BI$1)*(КАЛЕНДАРЬ!AQ16=GRID!$B$3:$BI$3), 0))*(1-GRID!$B$29))} -> 19200 | H10: {=IF($I$2="Открытый тариф", INDEX(GRID!$B$13:$BI$19,MATCH($G$7,GRID!$A$13:$A$19,0),MATCH(1,($U$2=GRID!$B$1:$BI$1)*(КАЛЕНДАРЬ!$AQ16=GRID!$B$3:$BI$3), 0)), INDEX(GRID!$B$13:$BI$19,MATCH($G$7,GRID!$A$13:$A$19,0),MATCH(1,($U$2=GRID!$B$1:$BI$1)*(КАЛЕНДАРЬ!$AQ16=GRID!$B$3:$BI$3), 0))*(1-GRID!$B$29))} -> 22500 | I10: {=IF($I$2="Открытый тариф", INDEX(GRID!$B$4:$BI$10,MATCH($I$7,GRID!$A$4:$A$10,0),MATCH(1,($U$2=GRID!$B$1:$BI$1)*(КАЛЕНДАРЬ!AQ16=GRID!$B$3:$BI$3), 0)), INDEX(GRID!$B$4:$BI$10,MATCH($I$7,GRID!$A$4:$A$10,0),MATCH(1,($U$2=GRID!$B$1:$BI$1)*(КАЛЕНДАРЬ!AQ16=GRID!$B$3:$BI$3), 0))*(1-GRID!$B$29))} -> 27300 | J10: {=IF($I$2="Открытый тариф", INDEX(GRID!$B$13:$BI$19,MATCH($I$7,GRID!$A$13:$A$19,0),MATCH(1,($U$2=GRID!$B$1:$BI$1)*(КАЛЕНДАРЬ!$AQ16=GRID!$B$3:$BI$3), 0)), INDEX(GRID!$B$13:$BI$19,MATCH($I$7,GRID!$A$13:$A$19,0),MATCH(1,($U$2=GRID!$B$1:$BI$1)*(КАЛЕНДАРЬ!$AQ16=GRID!$B$3:$BI$3), 0))*(1-GRID!$B$29))} -> 30600 | K10: {=IF($I$2="Открытый тариф", INDEX(GRID!$B$4:$BI$10,MATCH($K$7,GRID!$A$4:$A$10,0),MATCH(1,($U$2=GRID!$B$1:$BI$1)*(КАЛЕНДАРЬ!AQ16=GRID!$B$3:$BI$3), 0)), INDEX(GRID!$B$4:$BI$10,MATCH($K$7,GRID!$A$4:$A$10,0),MATCH(1,($U$2=GRID!$B$1:$BI$1)*(КАЛЕНДАРЬ!AQ16=GRID!$B$3:$BI$3), 0))*(1-GRID!$B$29))} -> 38800 | L10: {=IF($I$2="Открытый тариф", INDEX(GRID!$B$13:$BI$19,MATCH($K$7,GRID!$A$13:$A$19,0),MATCH(1,($U$2=GRID!$B$1:$BI$1)*(КАЛЕНДАРЬ!$AQ16=GRID!$B$3:$BI$3), 0)), INDEX(GRID!$B$13:$BI$19,MATCH($K$7,GRID!$A$13:$A$19,0),MATCH(1,($U$2=GRID!$B$1:$BI$1)*(КАЛЕНДАРЬ!$AQ16=GRID!$B$3:$BI$3), 0))*(1-GRID!$B$29))} -> 42100 | M10: {=IF($I$2="Открытый тариф", INDEX(GRID!$B$4:$BI$10,MATCH($M$7,GRID!$A$4:$A$10,0),MATCH(1,($U$2=GRID!$B$1:$BI$1)*(КАЛЕНДАРЬ!AQ16=GRID!$B$3:$BI$3), 0)), INDEX(GRID!$B$4:$BI$10,MATCH($M$7,GRID!$A$4:$A$10,0),MATCH(1,($U$2=GRID!$B$1:$BI$1)*(КАЛЕНДАРЬ!AQ16=GRID!$B$3:$BI$3), 0))*(1-GRID!$B$29))} -> 56100 | N10: {=IF($I$2="Открытый тариф", INDEX(GRID!$B$13:$BI$19,MATCH($M$7,GRID!$A$13:$A$19,0),MATCH(1,($U$2=GRID!$B$1:$BI$1)*(КАЛЕНДАРЬ!$AQ16=GRID!$B$3:$BI$3), 0)), INDEX(GRID!$B$13:$BI$19,MATCH($M$7,GRID!$A$13:$A$19,0),MATCH(1,($U$2=GRID!$B$1:$BI$1)*(КАЛЕНДАРЬ!$AQ16=GRID!$B$3:$BI$3), 0))*(1-GRID!$B$29))} -> 59400 | O10: {=IF($I$2="Открытый тариф", INDEX(GRID!$B$4:$BI$10,MATCH($O$7,GRID!$A$4:$A$10,0),MATCH(1,($U$2=GRID!$B$1:$BI$1)*(КАЛЕНДАРЬ!AQ16=GRID!$B$3:$BI$3), 0)), INDEX(GRID!$B$4:$BI$10,MATCH($O$7,GRID!$A$4:$A$10,0),MATCH(1,($U$2=GRID!$B$1:$BI$1)*(КАЛЕНДАРЬ!AQ16=GRID!$B$3:$BI$3), 0))*(1-GRID!$B$29))} -> 132000 | P10: {=IF($I$2="Открытый тариф", INDEX(GRID!$B$13:$BI$19,MATCH($O$7,GRID!$A$13:$A$19,0),MATCH(1,($U$2=GRID!$B$1:$BI$1)*(КАЛЕНДАРЬ!$AQ16=GRID!$B$3:$BI$3), 0)), INDEX(GRID!$B$13:$BI$19,MATCH($O$7,GRID!$A$13:$A$19,0),MATCH(1,($U$2=GRID!$B$1:$BI$1)*(КАЛЕНДАРЬ!$AQ16=GRID!$B$3:$BI$3), 0))*(1-GRID!$B$29))} -> 135300
A11: СБ | B11: 14 | C11: {=IF($I$2="Открытый тариф", INDEX(GRID!$B$4:$BI$10,MATCH($C$7,GRID!$A$4:$A$10,0),MATCH(1,($U$2=GRID!$B$1:$BI$1)*(КАЛЕНДАРЬ!AQ17=GRID!$B$3:$BI$3), 0)), INDEX(GRID!$B$4:$BI$10,MATCH($C$7,GRID!$A$4:$A$10,0),MATCH(1,($U$2=GRID!$B$1:$BI$1)*(КАЛЕНДАРЬ!AQ17=GRID!$B$3:$BI$3), 0))*(1-GRID!$B$29))} -> 12800 | D11: {=IF($I$2="Открытый тариф", INDEX(GRID!$B$13:$BI$19,MATCH($C$7,GRID!$A$13:$A$19,0),MATCH(1,($U$2=GRID!$B$1:$BI$1)*(КАЛЕНДАРЬ!$AQ17=GRID!$B$3:$BI$3), 0)), INDEX(GRID!$B$13:$BI$19,MATCH($C$7,GRID!$A$13:$A$19,0),MATCH(1,($U$2=GRID!$B$1:$BI$1)*(КАЛЕНДАРЬ!$AQ17=GRID!$B$3:$BI$3), 0))*(1-GRID!$B$29))} -> 16100 | E11: {=IF($I$2="Открытый тариф", INDEX(GRID!$B$4:$BI$10,MATCH($E$7,GRID!$A$4:$A$10,0),MATCH(1,($U$2=GRID!$B$1:$BI$1)*(КАЛЕНДАРЬ!AQ17=GRID!$B$3:$BI$3), 0)), INDEX(GRID!$B$4:$BI$10,MATCH($E$7,GRID!$A$4:$A$10,0),MATCH(1,($U$2=GRID!$B$1:$BI$1)*(КАЛЕНДАРЬ!AQ17=GRID!$B$3:$BI$3), 0))*(1-GRID!$B$29))} -> 15700 | F11: {=IF($I$2="Открытый тариф", INDEX(GRID!$B$13:$BI$19,MATCH($E$7,GRID!$A$13:$A$19,0),MATCH(1,($U$2=GRID!$B$1:$BI$1)*(КАЛЕНДАРЬ!$AQ17=GRID!$B$3:$BI$3), 0)), INDEX(GRID!$B$13:$BI$19,MATCH($E$7,GRID!$A$13:$A$19,0),MATCH(1,($U$2=GRID!$B$1:$BI$1)*(КАЛЕНДАРЬ!$AQ17=GRID!$B$3:$BI$3), 0))*(1-GRID!$B$29))} -> 19000 | G11: {=IF($I$2="Открытый тариф", INDEX(GRID!$B$4:$BI$10,MATCH($G$7,GRID!$A$4:$A$10,0),MATCH(1,($U$2=GRID!$B$1:$BI$1)*(КАЛЕНДАРЬ!AQ17=GRID!$B$3:$BI$3), 0)), INDEX(GRID!$B$4:$BI$10,MATCH($G$7,GRID!$A$4:$A$10,0),MATCH(1,($U$2=GRID!$B$1:$BI$1)*(КАЛЕНДАРЬ!AQ17=GRID!$B$3:$BI$3), 0))*(1-GRID!$B$29))} -> 19200 | H11: {=IF($I$2="Открытый тариф", INDEX(GRID!$B$13:$BI$19,MATCH($G$7,GRID!$A$13:$A$19,0),MATCH(1,($U$2=GRID!$B$1:$BI$1)*(КАЛЕНДАРЬ!$AQ17=GRID!$B$3:$BI$3), 0)), INDEX(GRID!$B$13:$BI$19,MATCH($G$7,GRID!$A$13:$A$19,0),MATCH(1,($U$2=GRID!$B$1:$BI$1)*(КАЛЕНДАРЬ!$AQ17=GRID!$B$3:$BI$3), 0))*(1-GRID!$B$29))} -> 22500 | I11: {=IF($I$2="Открытый тариф", INDEX(GRID!$B$4:$BI$10,MATCH($I$7,GRID!$A$4:$A$10,0),MATCH(1,($U$2=GRID!$B$1:$BI$1)*(КАЛЕНДАРЬ!AQ17=GRID!$B$3:$BI$3), 0)), INDEX(GRID!$B$4:$BI$10,MATCH($I$7,GRID!$A$4:$A$10,0),MATCH(1,($U$2=GRID!$B$1:$BI$1)*(КАЛЕНДАРЬ!AQ17=GRID!$B$3:$BI$3), 0))*(1-GRID!$B$29))} -> 27300 | J11: {=IF($I$2="Открытый тариф", INDEX(GRID!$B$13:$BI$19,MATCH($I$7,GRID!$A$13:$A$19,0),MATCH(1,($U$2=GRID!$B$1:$BI$1)*(КАЛЕНДАРЬ!$AQ17=GRID!$B$3:$BI$3), 0)), INDEX(GRID!$B$13:$BI$19,MATCH($I$7,GRID!$A$13:$A$19,0),MATCH(1,($U$2=GRID!$B$1:$BI$1)*(КАЛЕНДАРЬ!$AQ17=GRID!$B$3:$BI$3), 0))*(1-GRID!$B$29))} -> 30600 | K11: {=IF($I$2="Открытый тариф", INDEX(GRID!$B$4:$BI$10,MATCH($K$7,GRID!$A$4:$A$10,0),MATCH(1,($U$2=GRID!$B$1:$BI$1)*(КАЛЕНДАРЬ!AQ17=GRID!$B$3:$BI$3), 0)), INDEX(GRID!$B$4:$BI$10,MATCH($K$7,GRID!$A$4:$A$10,0),MATCH(1,($U$2=GRID!$B$1:$BI$1)*(КАЛЕНДАРЬ!AQ17=GRID!$B$3:$BI$3), 0))*(1-GRID!$B$29))} -> 38800 | L11: {=IF($I$2="Открытый тариф", INDEX(GRID!$B$13:$BI$19,MATCH($K$7,GRID!$A$13:$A$19,0),MATCH(1,($U$2=GRID!$B$1:$BI$1)*(КАЛЕНДАРЬ!$AQ17=GRID!$B$3:$BI$3), 0)), INDEX(GRID!$B$13:$BI$19,MATCH($K$7,GRID!$A$13:$A$19,0),MATCH(1,($U$2=GRID!$B$1:$BI$1)*(КАЛЕНДАРЬ!$AQ17=GRID!$B$3:$BI$3), 0))*(1-GRID!$B$29))} -> 42100 | M11: {=IF($I$2="Открытый тариф", INDEX(GRID!$B$4:$BI$10,MATCH($M$7,GRID!$A$4:$A$10,0),MATCH(1,($U$2=GRID!$B$1:$BI$1)*(КАЛЕНДАРЬ!AQ17=GRID!$B$3:$BI$3), 0)), INDEX(GRID!$B$4:$BI$10,MATCH($M$7,GRID!$A$4:$A$10,0),MATCH(1,($U$2=GRID!$B$1:$BI$1)*(КАЛЕНДАРЬ!AQ17=GRID!$B$3:$BI$3), 0))*(1-GRID!$B$29))} -> 56100 | N11: {=IF($I$2="Открытый тариф", INDEX(GRID!$B$13:$BI$19,MATCH($M$7,GRID!$A$13:$A$19,0),MATCH(1,($U$2=GRID!$B$1:$BI$1)*(КАЛЕНДАРЬ!$AQ17=GRID!$B$3:$BI$3), 0)), INDEX(GRID!$B$13:$BI$19,MATCH($M$7,GRID!$A$13:$A$19,0),MATCH(1,($U$2=GRID!$B$1:$BI$1)*(КАЛЕНДАРЬ!$AQ17=GRID!$B$3:$BI$3), 0))*(1-GRID!$B$29))} -> 59400 | O11: {=IF($I$2="Открытый тариф", INDEX(GRID!$B$4:$BI$10,MATCH($O$7,GRID!$A$4:$A$10,0),MATCH(1,($U$2=GRID!$B$1:$BI$1)*(КАЛЕНДАРЬ!AQ17=GRID!$B$3:$BI$3), 0)), INDEX(GRID!$B$4:$BI$10,MATCH($O$7,GRID!$A$4:$A$10,0),MATCH(1,($U$2=GRID!$B$1:$BI$1)*(КАЛЕНДАРЬ!AQ17=GRID!$B$3:$BI$3), 0))*(1-GRID!$B$29))} -> 132000 | P11: {=IF($I$2="Открытый тариф", INDEX(GRID!$B$13:$BI$19,MATCH($O$7,GRID!$A$13:$A$19,0),MATCH(1,($U$2=GRID!$B$1:$BI$1)*(КАЛЕНДАРЬ!$AQ17=GRID!$B$3:$BI$3), 0)), INDEX(GRID!$B$13:$BI$19,MATCH($O$7,GRID!$A$13:$A$19,0),MATCH(1,($U$2=GRID!$B$1:$BI$1)*(КАЛЕНДАРЬ!$AQ17=GRID!$B$3:$BI$3), 0))*(1-GRID!$B$29))} -> 135300
A12: ВС | B12: 15 | C12: {=IF($I$2="Открытый тариф", INDEX(GRID!$B$4:$BI$10,MATCH($C$7,GRID!$A$4:$A$10,0),MATCH(1,($U$2=GRID!$B$1:$BI$1)*(КАЛЕНДАРЬ!AQ18=GRID!$B$3:$BI$3), 0)), INDEX(GRID!$B$4:$BI$10,MATCH($C$7,GRID!$A$4:$A$10,0),MATCH(1,($U$2=GRID!$B$1:$BI$1)*(КАЛЕНДАРЬ!AQ18=GRID!$B$3:$BI$3), 0))*(1-GRID!$B$29))} -> 10200 | D12: {=IF($I$2="Открытый тариф", INDEX(GRID!$B$13:$BI$19,MATCH($C$7,GRID!$A$13:$A$19,0),MATCH(1,($U$2=GRID!$B$1:$BI$1)*(КАЛЕНДАРЬ!$AQ18=GRID!$B$3:$BI$3), 0)), INDEX(GRID!$B$13:$BI$19,MATCH($C$7,GRID!$A$13:$A$19,0),MATCH(1,($U$2=GRID!$B$1:$BI$1)*(КАЛЕНДАРЬ!$AQ18=GRID!$B$3:$BI$3), 0))*(1-GRID!$B$29))} -> 13500 | E12: {=IF($I$2="Открытый тариф", INDEX(GRID!$B$4:$BI$10,MATCH($E$7,GRID!$A$4:$A$10,0),MATCH(1,($U$2=GRID!$B$1:$BI$1)*(КАЛЕНДАРЬ!AQ18=GRID!$B$3:$BI$3), 0)), INDEX(GRID!$B$4:$BI$10,MATCH($E$7,GRID!$A$4:$A$10,0),MATCH(1,($U$2=GRID!$B$1:$BI$1)*(КАЛЕНДАРЬ!AQ18=GRID!$B$3:$BI$3), 0))*(1-GRID!$B$29))} -> 12400 | F12: {=IF($I$2="Открытый тариф", INDEX(GRID!$B$13:$BI$19,MATCH($E$7,GRID!$A$13:$A$19,0),MATCH(1,($U$2=GRID!$B$1:$BI$1)*(КАЛЕНДАРЬ!$AQ18=GRID!$B$3:$BI$3), 0)), INDEX(GRID!$B$13:$BI$19,MATCH($E$7,GRID!$A$13:$A$19,0),MATCH(1,($U$2=GRID!$B$1:$BI$1)*(КАЛЕНДАРЬ!$AQ18=GRID!$B$3:$BI$3), 0))*(1-GRID!$B$29))} -> 15700 | G12: {=IF($I$2="Открытый тариф", INDEX(GRID!$B$4:$BI$10,MATCH($G$7,GRID!$A$4:$A$10,0),MATCH(1,($U$2=GRID!$B$1:$BI$1)*(КАЛЕНДАРЬ!AQ18=GRID!$B$3:$BI$3), 0)), INDEX(GRID!$B$4:$BI$10,MATCH($G$7,GRID!$A$4:$A$10,0),MATCH(1,($U$2=GRID!$B$1:$BI$1)*(КАЛЕНДАРЬ!AQ18=GRID!$B$3:$BI$3), 0))*(1-GRID!$B$29))} -> 15000 | H12: {=IF($I$2="Открытый тариф", INDEX(GRID!$B$13:$BI$19,MATCH($G$7,GRID!$A$13:$A$19,0),MATCH(1,($U$2=GRID!$B$1:$BI$1)*(КАЛЕНДАРЬ!$AQ18=GRID!$B$3:$BI$3), 0)), INDEX(GRID!$B$13:$BI$19,MATCH($G$7,GRID!$A$13:$A$19,0),MATCH(1,($U$2=GRID!$B$1:$BI$1)*(КАЛЕНДАРЬ!$AQ18=GRID!$B$3:$BI$3), 0))*(1-GRID!$B$29))} -> 18300 | I12: {=IF($I$2="Открытый тариф", INDEX(GRID!$B$4:$BI$10,MATCH($I$7,GRID!$A$4:$A$10,0),MATCH(1,($U$2=GRID!$B$1:$BI$1)*(КАЛЕНДАРЬ!AQ18=GRID!$B$3:$BI$3), 0)), INDEX(GRID!$B$4:$BI$10,MATCH($I$7,GRID!$A$4:$A$10,0),MATCH(1,($U$2=GRID!$B$1:$BI$1)*(КАЛЕНДАРЬ!AQ18=GRID!$B$3:$BI$3), 0))*(1-GRID!$B$29))} -> 21000 | J12: {=IF($I$2="Открытый тариф", INDEX(GRID!$B$13:$BI$19,MATCH($I$7,GRID!$A$13:$A$19,0),MATCH(1,($U$2=GRID!$B$1:$BI$1)*(КАЛЕНДАРЬ!$AQ18=GRID!$B$3:$BI$3), 0)), INDEX(GRID!$B$13:$BI$19,MATCH($I$7,GRID!$A$13:$A$19,0),MATCH(1,($U$2=GRID!$B$1:$BI$1)*(КАЛЕНДАРЬ!$AQ18=GRID!$B$3:$BI$3), 0))*(1-GRID!$B$29))} -> 24300 | K12: {=IF($I$2="Открытый тариф", INDEX(GRID!$B$4:$BI$10,MATCH($K$7,GRID!$A$4:$A$10,0),MATCH(1,($U$2=GRID!$B$1:$BI$1)*(КАЛЕНДАРЬ!AQ18=GRID!$B$3:$BI$3), 0)), INDEX(GRID!$B$4:$BI$10,MATCH($K$7,GRID!$A$4:$A$10,0),MATCH(1,($U$2=GRID!$B$1:$BI$1)*(КАЛЕНДАРЬ!AQ18=GRID!$B$3:$BI$3), 0))*(1-GRID!$B$29))} -> 29500 | L12: {=IF($I$2="Открытый тариф", INDEX(GRID!$B$13:$BI$19,MATCH($K$7,GRID!$A$13:$A$19,0),MATCH(1,($U$2=GRID!$B$1:$BI$1)*(КАЛЕНДАРЬ!$AQ18=GRID!$B$3:$BI$3), 0)), INDEX(GRID!$B$13:$BI$19,MATCH($K$7,GRID!$A$13:$A$19,0),MATCH(1,($U$2=GRID!$B$1:$BI$1)*(КАЛЕНДАРЬ!$AQ18=GRID!$B$3:$BI$3), 0))*(1-GRID!$B$29))} -> 32800 | M12: {=IF($I$2="Открытый тариф", INDEX(GRID!$B$4:$BI$10,MATCH($M$7,GRID!$A$4:$A$10,0),MATCH(1,($U$2=GRID!$B$1:$BI$1)*(КАЛЕНДАРЬ!AQ18=GRID!$B$3:$BI$3), 0)), INDEX(GRID!$B$4:$BI$10,MATCH($M$7,GRID!$A$4:$A$10,0),MATCH(1,($U$2=GRID!$B$1:$BI$1)*(КАЛЕНДАРЬ!AQ18=GRID!$B$3:$BI$3), 0))*(1-GRID!$B$29))} -> 42300 | N12: {=IF($I$2="Открытый тариф", INDEX(GRID!$B$13:$BI$19,MATCH($M$7,GRID!$A$13:$A$19,0),MATCH(1,($U$2=GRID!$B$1:$BI$1)*(КАЛЕНДАРЬ!$AQ18=GRID!$B$3:$BI$3), 0)), INDEX(GRID!$B$13:$BI$19,MATCH($M$7,GRID!$A$13:$A$19,0),MATCH(1,($U$2=GRID!$B$1:$BI$1)*(КАЛЕНДАРЬ!$AQ18=GRID!$B$3:$BI$3), 0))*(1-GRID!$B$29))} -> 45600 | O12: {=IF($I$2="Открытый тариф", INDEX(GRID!$B$4:$BI$10,MATCH($O$7,GRID!$A$4:$A$10,0),MATCH(1,($U$2=GRID!$B$1:$BI$1)*(КАЛЕНДАРЬ!AQ18=GRID!$B$3:$BI$3), 0)), INDEX(GRID!$B$4:$BI$10,MATCH($O$7,GRID!$A$4:$A$10,0),MATCH(1,($U$2=GRID!$B$1:$BI$1)*(КАЛЕНДАРЬ!AQ18=GRID!$B$3:$BI$3), 0))*(1-GRID!$B$29))} -> 95400 | P12: {=IF($I$2="Открытый тариф", INDEX(GRID!$B$13:$BI$19,MATCH($O$7,GRID!$A$13:$A$19,0),MATCH(1,($U$2=GRID!$B$1:$BI$1)*(КАЛЕНДАРЬ!$AQ18=GRID!$B$3:$BI$3), 0)), INDEX(GRID!$B$13:$BI$19,MATCH($O$7,GRID!$A$13:$A$19,0),MATCH(1,($U$2=GRID!$B$1:$BI$1)*(КАЛЕНДАРЬ!$AQ18=GRID!$B$3:$BI$3), 0))*(1-GRID!$B$29))} -> 98700
A13: ПН | B13: 16 | C13: {=IF($I$2="Открытый тариф", INDEX(GRID!$B$4:$BI$10,MATCH($C$7,GRID!$A$4:$A$10,0),MATCH(1,($U$2=GRID!$B$1:$BI$1)*(КАЛЕНДАРЬ!AQ19=GRID!$B$3:$BI$3), 0)), INDEX(GRID!$B$4:$BI$10,MATCH($C$7,GRID!$A$4:$A$10,0),MATCH(1,($U$2=GRID!$B$1:$BI$1)*(КАЛЕНДАРЬ!AQ19=GRID!$B$3:$BI$3), 0))*(1-GRID!$B$29))} -> 10200 | D13: {=IF($I$2="Открытый тариф", INDEX(GRID!$B$13:$BI$19,MATCH($C$7,GRID!$A$13:$A$19,0),MATCH(1,($U$2=GRID!$B$1:$BI$1)*(КАЛЕНДАРЬ!$AQ19=GRID!$B$3:$BI$3), 0)), INDEX(GRID!$B$13:$BI$19,MATCH($C$7,GRID!$A$13:$A$19,0),MATCH(1,($U$2=GRID!$B$1:$BI$1)*(КАЛЕНДАРЬ!$AQ19=GRID!$B$3:$BI$3), 0))*(1-GRID!$B$29))} -> 13500 | E13: {=IF($I$2="Открытый тариф", INDEX(GRID!$B$4:$BI$10,MATCH($E$7,GRID!$A$4:$A$10,0),MATCH(1,($U$2=GRID!$B$1:$BI$1)*(КАЛЕНДАРЬ!AQ19=GRID!$B$3:$BI$3), 0)), INDEX(GRID!$B$4:$BI$10,MATCH($E$7,GRID!$A$4:$A$10,0),MATCH(1,($U$2=GRID!$B$1:$BI$1)*(КАЛЕНДАРЬ!AQ19=GRID!$B$3:$BI$3), 0))*(1-GRID!$B$29))} -> 12400 | F13: {=IF($I$2="Открытый тариф", INDEX(GRID!$B$13:$BI$19,MATCH($E$7,GRID!$A$13:$A$19,0),MATCH(1,($U$2=GRID!$B$1:$BI$1)*(КАЛЕНДАРЬ!$AQ19=GRID!$B$3:$BI$3), 0)), INDEX(GRID!$B$13:$BI$19,MATCH($E$7,GRID!$A$13:$A$19,0),MATCH(1,($U$2=GRID!$B$1:$BI$1)*(КАЛЕНДАРЬ!$AQ19=GRID!$B$3:$BI$3), 0))*(1-GRID!$B$29))} -> 15700 | G13: {=IF($I$2="Открытый тариф", INDEX(GRID!$B$4:$BI$10,MATCH($G$7,GRID!$A$4:$A$10,0),MATCH(1,($U$2=GRID!$B$1:$BI$1)*(КАЛЕНДАРЬ!AQ19=GRID!$B$3:$BI$3), 0)), INDEX(GRID!$B$4:$BI$10,MATCH($G$7,GRID!$A$4:$A$10,0),MATCH(1,($U$2=GRID!$B$1:$BI$1)*(КАЛЕНДАРЬ!AQ19=GRID!$B$3:$BI$3), 0))*(1-GRID!$B$29))} -> 15000 | H13: {=IF($I$2="Открытый тариф", INDEX(GRID!$B$13:$BI$19,MATCH($G$7,GRID!$A$13:$A$19,0),MATCH(1,($U$2=GRID!$B$1:$BI$1)*(КАЛЕНДАРЬ!$AQ19=GRID!$B$3:$BI$3), 0)), INDEX(GRID!$B$13:$BI$19,MATCH($G$7,GRID!$A$13:$A$19,0),MATCH(1,($U$2=GRID!$B$1:$BI$1)*(КАЛЕНДАРЬ!$AQ19=GRID!$B$3:$BI$3), 0))*(1-GRID!$B$29))} -> 18300 | I13: {=IF($I$2="Открытый тариф", INDEX(GRID!$B$4:$BI$10,MATCH($I$7,GRID!$A$4:$A$10,0),MATCH(1,($U$2=GRID!$B$1:$BI$1)*(КАЛЕНДАРЬ!AQ19=GRID!$B$3:$BI$3), 0)), INDEX(GRID!$B$4:$BI$10,MATCH($I$7,GRID!$A$4:$A$10,0),MATCH(1,($U$2=GRID!$B$1:$BI$1)*(КАЛЕНДАРЬ!AQ19=GRID!$B$3:$BI$3), 0))*(1-GRID!$B$29))} -> 21000 | J13: {=IF($I$2="Открытый тариф", INDEX(GRID!$B$13:$BI$19,MATCH($I$7,GRID!$A$13:$A$19,0),MATCH(1,($U$2=GRID!$B$1:$BI$1)*(КАЛЕНДАРЬ!$AQ19=GRID!$B$3:$BI$3), 0)), INDEX(GRID!$B$13:$BI$19,MATCH($I$7,GRID!$A$13:$A$19,0),MATCH(1,($U$2=GRID!$B$1:$BI$1)*(КАЛЕНДАРЬ!$AQ19=GRID!$B$3:$BI$3), 0))*(1-GRID!$B$29))} -> 24300 | K13: {=IF($I$2="Открытый тариф", INDEX(GRID!$B$4:$BI$10,MATCH($K$7,GRID!$A$4:$A$10,0),MATCH(1,($U$2=GRID!$B$1:$BI$1)*(КАЛЕНДАРЬ!AQ19=GRID!$B$3:$BI$3), 0)), INDEX(GRID!$B$4:$BI$10,MATCH($K$7,GRID!$A$4:$A$10,0),MATCH(1,($U$2=GRID!$B$1:$BI$1)*(КАЛЕНДАРЬ!AQ19=GRID!$B$3:$BI$3), 0))*(1-GRID!$B$29))} -> 29500 | L13: {=IF($I$2="Открытый тариф", INDEX(GRID!$B$13:$BI$19,MATCH($K$7,GRID!$A$13:$A$19,0),MATCH(1,($U$2=GRID!$B$1:$BI$1)*(КАЛЕНДАРЬ!$AQ19=GRID!$B$3:$BI$3), 0)), INDEX(GRID!$B$13:$BI$19,MATCH($K$7,GRID!$A$13:$A$19,0),MATCH(1,($U$2=GRID!$B$1:$BI$1)*(КАЛЕНДАРЬ!$AQ19=GRID!$B$3:$BI$3), 0))*(1-GRID!$B$29))} -> 32800 | M13: {=IF($I$2="Открытый тариф", INDEX(GRID!$B$4:$BI$10,MATCH($M$7,GRID!$A$4:$A$10,0),MATCH(1,($U$2=GRID!$B$1:$BI$1)*(КАЛЕНДАРЬ!AQ19=GRID!$B$3:$BI$3), 0)), INDEX(GRID!$B$4:$BI$10,MATCH($M$7,GRID!$A$4:$A$10,0),MATCH(1,($U$2=GRID!$B$1:$BI$1)*(КАЛЕНДАРЬ!AQ19=GRID!$B$3:$BI$3), 0))*(1-GRID!$B$29))} -> 42300 | N13: {=IF($I$2="Открытый тариф", INDEX(GRID!$B$13:$BI$19,MATCH($M$7,GRID!$A$13:$A$19,0),MATCH(1,($U$2=GRID!$B$1:$BI$1)*(КАЛЕНДАРЬ!$AQ19=GRID!$B$3:$BI$3), 0)), INDEX(GRID!$B$13:$BI$19,MATCH($M$7,GRID!$A$13:$A$19,0),MATCH(1,($U$2=GRID!$B$1:$BI$1)*(КАЛЕНДАРЬ!$AQ19=GRID!$B$3:$BI$3), 0))*(1-GRID!$B$29))} -> 45600 | O13: {=IF($I$2="Открытый тариф", INDEX(GRID!$B$4:$BI$10,MATCH($O$7,GRID!$A$4:$A$10,0),MATCH(1,($U$2=GRID!$B$1:$BI$1)*(КАЛЕНДАРЬ!AQ19=GRID!$B$3:$BI$3), 0)), INDEX(GRID!$B$4:$BI$10,MATCH($O$7,GRID!$A$4:$A$10,0),MATCH(1,($U$2=GRID!$B$1:$BI$1)*(КАЛЕНДАРЬ!AQ19=GRID!$B$3:$BI$3), 0))*(1-GRID!$B$29))} -> 95400 | P13: {=IF($I$2="Открытый тариф", INDEX(GRID!$B$13:$BI$19,MATCH($O$7,GRID!$A$13:$A$19,0),MATCH(1,($U$2=GRID!$B$1:$BI$1)*(КАЛЕНДАРЬ!$AQ19=GRID!$B$3:$BI$3), 0)), INDEX(GRID!$B$13:$BI$19,MATCH($O$7,GRID!$A$13:$A$19,0),MATCH(1,($U$2=GRID!$B$1:$BI$1)*(КАЛЕНДАРЬ!$AQ19=GRID!$B$3:$BI$3), 0))*(1-GRID!$B$29))} -> 98700
A14: ВТ | B14: 17 | C14: {=IF($I$2="Открытый тариф", INDEX(GRID!$B$4:$BI$10,MATCH($C$7,GRID!$A$4:$A$10,0),MATCH(1,($U$2=GRID!$B$1:$BI$1)*(КАЛЕНДАРЬ!AQ20=GRID!$B$3:$BI$3), 0)), INDEX(GRID!$B$4:$BI$10,MATCH($C$7,GRID!$A$4:$A$10,0),MATCH(1,($U$2=GRID!$B$1:$BI$1)*(КАЛЕНДАРЬ!AQ20=GRID!$B$3:$BI$3), 0))*(1-GRID!$B$29))} -> 10200 | D14: {=IF($I$2="Открытый тариф", INDEX(GRID!$B$13:$BI$19,MATCH($C$7,GRID!$A$13:$A$19,0),MATCH(1,($U$2=GRID!$B$1:$BI$1)*(КАЛЕНДАРЬ!$AQ20=GRID!$B$3:$BI$3), 0)), INDEX(GRID!$B$13:$BI$19,MATCH($C$7,GRID!$A$13:$A$19,0),MATCH(1,($U$2=GRID!$B$1:$BI$1)*(КАЛЕНДАРЬ!$AQ20=GRID!$B$3:$BI$3), 0))*(1-GRID!$B$29))} -> 13500 | E14: {=IF($I$2="Открытый тариф", INDEX(GRID!$B$4:$BI$10,MATCH($E$7,GRID!$A$4:$A$10,0),MATCH(1,($U$2=GRID!$B$1:$BI$1)*(КАЛЕНДАРЬ!AQ20=GRID!$B$3:$BI$3), 0)), INDEX(GRID!$B$4:$BI$10,MATCH($E$7,GRID!$A$4:$A$10,0),MATCH(1,($U$2=GRID!$B$1:$BI$1)*(КАЛЕНДАРЬ!AQ20=GRID!$B$3:$BI$3), 0))*(1-GRID!$B$29))} -> 12400 | F14: {=IF($I$2="Открытый тариф", INDEX(GRID!$B$13:$BI$19,MATCH($E$7,GRID!$A$13:$A$19,0),MATCH(1,($U$2=GRID!$B$1:$BI$1)*(КАЛЕНДАРЬ!$AQ20=GRID!$B$3:$BI$3), 0)), INDEX(GRID!$B$13:$BI$19,MATCH($E$7,GRID!$A$13:$A$19,0),MATCH(1,($U$2=GRID!$B$1:$BI$1)*(КАЛЕНДАРЬ!$AQ20=GRID!$B$3:$BI$3), 0))*(1-GRID!$B$29))} -> 15700 | G14: {=IF($I$2="Открытый тариф", INDEX(GRID!$B$4:$BI$10,MATCH($G$7,GRID!$A$4:$A$10,0),MATCH(1,($U$2=GRID!$B$1:$BI$1)*(КАЛЕНДАРЬ!AQ20=GRID!$B$3:$BI$3), 0)), INDEX(GRID!$B$4:$BI$10,MATCH($G$7,GRID!$A$4:$A$10,0),MATCH(1,($U$2=GRID!$B$1:$BI$1)*(КАЛЕНДАРЬ!AQ20=GRID!$B$3:$BI$3), 0))*(1-GRID!$B$29))} -> 15000 | H14: {=IF($I$2="Открытый тариф", INDEX(GRID!$B$13:$BI$19,MATCH($G$7,GRID!$A$13:$A$19,0),MATCH(1,($U$2=GRID!$B$1:$BI$1)*(КАЛЕНДАРЬ!$AQ20=GRID!$B$3:$BI$3), 0)), INDEX(GRID!$B$13:$BI$19,MATCH($G$7,GRID!$A$13:$A$19,0),MATCH(1,($U$2=GRID!$B$1:$BI$1)*(КАЛЕНДАРЬ!$AQ20=GRID!$B$3:$BI$3), 0))*(1-GRID!$B$29))} -> 18300 | I14: {=IF($I$2="Открытый тариф", INDEX(GRID!$B$4:$BI$10,MATCH($I$7,GRID!$A$4:$A$10,0),MATCH(1,($U$2=GRID!$B$1:$BI$1)*(КАЛЕНДАРЬ!AQ20=GRID!$B$3:$BI$3), 0)), INDEX(GRID!$B$4:$BI$10,MATCH($I$7,GRID!$A$4:$A$10,0),MATCH(1,($U$2=GRID!$B$1:$BI$1)*(КАЛЕНДАРЬ!AQ20=GRID!$B$3:$BI$3), 0))*(1-GRID!$B$29))} -> 21000 | J14: {=IF($I$2="Открытый тариф", INDEX(GRID!$B$13:$BI$19,MATCH($I$7,GRID!$A$13:$A$19,0),MATCH(1,($U$2=GRID!$B$1:$BI$1)*(КАЛЕНДАРЬ!$AQ20=GRID!$B$3:$BI$3), 0)), INDEX(GRID!$B$13:$BI$19,MATCH($I$7,GRID!$A$13:$A$19,0),MATCH(1,($U$2=GRID!$B$1:$BI$1)*(КАЛЕНДАРЬ!$AQ20=GRID!$B$3:$BI$3), 0))*(1-GRID!$B$29))} -> 24300 | K14: {=IF($I$2="Открытый тариф", INDEX(GRID!$B$4:$BI$10,MATCH($K$7,GRID!$A$4:$A$10,0),MATCH(1,($U$2=GRID!$B$1:$BI$1)*(КАЛЕНДАРЬ!AQ20=GRID!$B$3:$BI$3), 0)), INDEX(GRID!$B$4:$BI$10,MATCH($K$7,GRID!$A$4:$A$10,0),MATCH(1,($U$2=GRID!$B$1:$BI$1)*(КАЛЕНДАРЬ!AQ20=GRID!$B$3:$BI$3), 0))*(1-GRID!$B$29))} -> 29500 | L14: {=IF($I$2="Открытый тариф", INDEX(GRID!$B$13:$BI$19,MATCH($K$7,GRID!$A$13:$A$19,0),MATCH(1,($U$2=GRID!$B$1:$BI$1)*(КАЛЕНДАРЬ!$AQ20=GRID!$B$3:$BI$3), 0)), INDEX(GRID!$B$13:$BI$19,MATCH($K$7,GRID!$A$13:$A$19,0),MATCH(1,($U$2=GRID!$B$1:$BI$1)*(КАЛЕНДАРЬ!$AQ20=GRID!$B$3:$BI$3), 0))*(1-GRID!$B$29))} -> 32800 | M14: {=IF($I$2="Открытый тариф", INDEX(GRID!$B$4:$BI$10,MATCH($M$7,GRID!$A$4:$A$10,0),MATCH(1,($U$2=GRID!$B$1:$BI$1)*(КАЛЕНДАРЬ!AQ20=GRID!$B$3:$BI$3), 0)), INDEX(GRID!$B$4:$BI$10,MATCH($M$7,GRID!$A$4:$A$10,0),MATCH(1,($U$2=GRID!$B$1:$BI$1)*(КАЛЕНДАРЬ!AQ20=GRID!$B$3:$BI$3), 0))*(1-GRID!$B$29))} -> 42300 | N14: {=IF($I$2="Открытый тариф", INDEX(GRID!$B$13:$BI$19,MATCH($M$7,GRID!$A$13:$A$19,0),MATCH(1,($U$2=GRID!$B$1:$BI$1)*(КАЛЕНДАРЬ!$AQ20=GRID!$B$3:$BI$3), 0)), INDEX(GRID!$B$13:$BI$19,MATCH($M$7,GRID!$A$13:$A$19,0),MATCH(1,($U$2=GRID!$B$1:$BI$1)*(КАЛЕНДАРЬ!$AQ20=GRID!$B$3:$BI$3), 0))*(1-GRID!$B$29))} -> 45600 | O14: {=IF($I$2="Открытый тариф", INDEX(GRID!$B$4:$BI$10,MATCH($O$7,GRID!$A$4:$A$10,0),MATCH(1,($U$2=GRID!$B$1:$BI$1)*(КАЛЕНДАРЬ!AQ20=GRID!$B$3:$BI$3), 0)), INDEX(GRID!$B$4:$BI$10,MATCH($O$7,GRID!$A$4:$A$10,0),MATCH(1,($U$2=GRID!$B$1:$BI$1)*(КАЛЕНДАРЬ!AQ20=GRID!$B$3:$BI$3), 0))*(1-GRID!$B$29))} -> 95400 | P14: {=IF($I$2="Открытый тариф", INDEX(GRID!$B$13:$BI$19,MATCH($O$7,GRID!$A$13:$A$19,0),MATCH(1,($U$2=GRID!$B$1:$BI$1)*(КАЛЕНДАРЬ!$AQ20=GRID!$B$3:$BI$3), 0)), INDEX(GRID!$B$13:$BI$19,MATCH($O$7,GRID!$A$13:$A$19,0),MATCH(1,($U$2=GRID!$B$1:$BI$1)*(КАЛЕНДАРЬ!$AQ20=GRID!$B$3:$BI$3), 0))*(1-GRID!$B$29))} -> 98700
A15: СР | B15: 18 | C15: {=IF($I$2="Открытый тариф", INDEX(GRID!$B$4:$BI$10,MATCH($C$7,GRID!$A$4:$A$10,0),MATCH(1,($U$2=GRID!$B$1:$BI$1)*(КАЛЕНДАРЬ!AQ21=GRID!$B$3:$BI$3), 0)), INDEX(GRID!$B$4:$BI$10,MATCH($C$7,GRID!$A$4:$A$10,0),MATCH(1,($U$2=GRID!$B$1:$BI$1)*(КАЛЕНДАРЬ!AQ21=GRID!$B$3:$BI$3), 0))*(1-GRID!$B$29))} -> 10200 | D15: {=IF($I$2="Открытый тариф", INDEX(GRID!$B$13:$BI$19,MATCH($C$7,GRID!$A$13:$A$19,0),MATCH(1,($U$2=GRID!$B$1:$BI$1)*(КАЛЕНДАРЬ!$AQ21=GRID!$B$3:$BI$3), 0)), INDEX(GRID!$B$13:$BI$19,MATCH($C$7,GRID!$A$13:$A$19,0),MATCH(1,($U$2=GRID!$B$1:$BI$1)*(КАЛЕНДАРЬ!$AQ21=GRID!$B$3:$BI$3), 0))*(1-GRID!$B$29))} -> 13500 | E15: {=IF($I$2="Открытый тариф", INDEX(GRID!$B$4:$BI$10,MATCH($E$7,GRID!$A$4:$A$10,0),MATCH(1,($U$2=GRID!$B$1:$BI$1)*(КАЛЕНДАРЬ!AQ21=GRID!$B$3:$BI$3), 0)), INDEX(GRID!$B$4:$BI$10,MATCH($E$7,GRID!$A$4:$A$10,0),MATCH(1,($U$2=GRID!$B$1:$BI$1)*(КАЛЕНДАРЬ!AQ21=GRID!$B$3:$BI$3), 0))*(1-GRID!$B$29))} -> 12400 | F15: {=IF($I$2="Открытый тариф", INDEX(GRID!$B$13:$BI$19,MATCH($E$7,GRID!$A$13:$A$19,0),MATCH(1,($U$2=GRID!$B$1:$BI$1)*(КАЛЕНДАРЬ!$AQ21=GRID!$B$3:$BI$3), 0)), INDEX(GRID!$B$13:$BI$19,MATCH($E$7,GRID!$A$13:$A$19,0),MATCH(1,($U$2=GRID!$B$1:$BI$1)*(КАЛЕНДАРЬ!$AQ21=GRID!$B$3:$BI$3), 0))*(1-GRID!$B$29))} -> 15700 | G15: {=IF($I$2="Открытый тариф", INDEX(GRID!$B$4:$BI$10,MATCH($G$7,GRID!$A$4:$A$10,0),MATCH(1,($U$2=GRID!$B$1:$BI$1)*(КАЛЕНДАРЬ!AQ21=GRID!$B$3:$BI$3), 0)), INDEX(GRID!$B$4:$BI$10,MATCH($G$7,GRID!$A$4:$A$10,0),MATCH(1,($U$2=GRID!$B$1:$BI$1)*(КАЛЕНДАРЬ!AQ21=GRID!$B$3:$BI$3), 0))*(1-GRID!$B$29))} -> 15000 | H15: {=IF($I$2="Открытый тариф", INDEX(GRID!$B$13:$BI$19,MATCH($G$7,GRID!$A$13:$A$19,0),MATCH(1,($U$2=GRID!$B$1:$BI$1)*(КАЛЕНДАРЬ!$AQ21=GRID!$B$3:$BI$3), 0)), INDEX(GRID!$B$13:$BI$19,MATCH($G$7,GRID!$A$13:$A$19,0),MATCH(1,($U$2=GRID!$B$1:$BI$1)*(КАЛЕНДАРЬ!$AQ21=GRID!$B$3:$BI$3), 0))*(1-GRID!$B$29))} -> 18300 | I15: {=IF($I$2="Открытый тариф", INDEX(GRID!$B$4:$BI$10,MATCH($I$7,GRID!$A$4:$A$10,0),MATCH(1,($U$2=GRID!$B$1:$BI$1)*(КАЛЕНДАРЬ!AQ21=GRID!$B$3:$BI$3), 0)), INDEX(GRID!$B$4:$BI$10,MATCH($I$7,GRID!$A$4:$A$10,0),MATCH(1,($U$2=GRID!$B$1:$BI$1)*(КАЛЕНДАРЬ!AQ21=GRID!$B$3:$BI$3), 0))*(1-GRID!$B$29))} -> 21000 | J15: {=IF($I$2="Открытый тариф", INDEX(GRID!$B$13:$BI$19,MATCH($I$7,GRID!$A$13:$A$19,0),MATCH(1,($U$2=GRID!$B$1:$BI$1)*(КАЛЕНДАРЬ!$AQ21=GRID!$B$3:$BI$3), 0)), INDEX(GRID!$B$13:$BI$19,MATCH($I$7,GRID!$A$13:$A$19,0),MATCH(1,($U$2=GRID!$B$1:$BI$1)*(КАЛЕНДАРЬ!$AQ21=GRID!$B$3:$BI$3), 0))*(1-GRID!$B$29))} -> 24300 | K15: {=IF($I$2="Открытый тариф", INDEX(GRID!$B$4:$BI$10,MATCH($K$7,GRID!$A$4:$A$10,0),MATCH(1,($U$2=GRID!$B$1:$BI$1)*(КАЛЕНДАРЬ!AQ21=GRID!$B$3:$BI$3), 0)), INDEX(GRID!$B$4:$BI$10,MATCH($K$7,GRID!$A$4:$A$10,0),MATCH(1,($U$2=GRID!$B$1:$BI$1)*(КАЛЕНДАРЬ!AQ21=GRID!$B$3:$BI$3), 0))*(1-GRID!$B$29))} -> 29500 | L15: {=IF($I$2="Открытый тариф", INDEX(GRID!$B$13:$BI$19,MATCH($K$7,GRID!$A$13:$A$19,0),MATCH(1,($U$2=GRID!$B$1:$BI$1)*(КАЛЕНДАРЬ!$AQ21=GRID!$B$3:$BI$3), 0)), INDEX(GRID!$B$13:$BI$19,MATCH($K$7,GRID!$A$13:$A$19,0),MATCH(1,($U$2=GRID!$B$1:$BI$1)*(КАЛЕНДАРЬ!$AQ21=GRID!$B$3:$BI$3), 0))*(1-GRID!$B$29))} -> 32800 | M15: {=IF($I$2="Открытый тариф", INDEX(GRID!$B$4:$BI$10,MATCH($M$7,GRID!$A$4:$A$10,0),MATCH(1,($U$2=GRID!$B$1:$BI$1)*(КАЛЕНДАРЬ!AQ21=GRID!$B$3:$BI$3), 0)), INDEX(GRID!$B$4:$BI$10,MATCH($M$7,GRID!$A$4:$A$10,0),MATCH(1,($U$2=GRID!$B$1:$BI$1)*(КАЛЕНДАРЬ!AQ21=GRID!$B$3:$BI$3), 0))*(1-GRID!$B$29))} -> 42300 | N15: {=IF($I$2="Открытый тариф", INDEX(GRID!$B$13:$BI$19,MATCH($M$7,GRID!$A$13:$A$19,0),MATCH(1,($U$2=GRID!$B$1:$BI$1)*(КАЛЕНДАРЬ!$AQ21=GRID!$B$3:$BI$3), 0)), INDEX(GRID!$B$13:$BI$19,MATCH($M$7,GRID!$A$13:$A$19,0),MATCH(1,($U$2=GRID!$B$1:$BI$1)*(КАЛЕНДАРЬ!$AQ21=GRID!$B$3:$BI$3), 0))*(1-GRID!$B$29))} -> 45600 | O15: {=IF($I$2="Открытый тариф", INDEX(GRID!$B$4:$BI$10,MATCH($O$7,GRID!$A$4:$A$10,0),MATCH(1,($U$2=GRID!$B$1:$BI$1)*(КАЛЕНДАРЬ!AQ21=GRID!$B$3:$BI$3), 0)), INDEX(GRID!$B$4:$BI$10,MATCH($O$7,GRID!$A$4:$A$10,0),MATCH(1,($U$2=GRID!$B$1:$BI$1)*(КАЛЕНДАРЬ!AQ21=GRID!$B$3:$BI$3), 0))*(1-GRID!$B$29))} -> 95400 | P15: {=IF($I$2="Открытый тариф", INDEX(GRID!$B$13:$BI$19,MATCH($O$7,GRID!$A$13:$A$19,0),MATCH(1,($U$2=GRID!$B$1:$BI$1)*(КАЛЕНДАРЬ!$AQ21=GRID!$B$3:$BI$3), 0)), INDEX(GRID!$B$13:$BI$19,MATCH($O$7,GRID!$A$13:$A$19,0),MATCH(1,($U$2=GRID!$B$1:$BI$1)*(КАЛЕНДАРЬ!$AQ21=GRID!$B$3:$BI$3), 0))*(1-GRID!$B$29))} -> 98700
A16: ЧТ | B16: 19 | C16: {=IF($I$2="Открытый тариф", INDEX(GRID!$B$4:$BI$10,MATCH($C$7,GRID!$A$4:$A$10,0),MATCH(1,($U$2=GRID!$B$1:$BI$1)*(КАЛЕНДАРЬ!AQ22=GRID!$B$3:$BI$3), 0)), INDEX(GRID!$B$4:$BI$10,MATCH($C$7,GRID!$A$4:$A$10,0),MATCH(1,($U$2=GRID!$B$1:$BI$1)*(КАЛЕНДАРЬ!AQ22=GRID!$B$3:$BI$3), 0))*(1-GRID!$B$29))} -> 10200 | D16: {=IF($I$2="Открытый тариф", INDEX(GRID!$B$13:$BI$19,MATCH($C$7,GRID!$A$13:$A$19,0),MATCH(1,($U$2=GRID!$B$1:$BI$1)*(КАЛЕНДАРЬ!$AQ22=GRID!$B$3:$BI$3), 0)), INDEX(GRID!$B$13:$BI$19,MATCH($C$7,GRID!$A$13:$A$19,0),MATCH(1,($U$2=GRID!$B$1:$BI$1)*(КАЛЕНДАРЬ!$AQ22=GRID!$B$3:$BI$3), 0))*(1-GRID!$B$29))} -> 13500 | E16: {=IF($I$2="Открытый тариф", INDEX(GRID!$B$4:$BI$10,MATCH($E$7,GRID!$A$4:$A$10,0),MATCH(1,($U$2=GRID!$B$1:$BI$1)*(КАЛЕНДАРЬ!AQ22=GRID!$B$3:$BI$3), 0)), INDEX(GRID!$B$4:$BI$10,MATCH($E$7,GRID!$A$4:$A$10,0),MATCH(1,($U$2=GRID!$B$1:$BI$1)*(КАЛЕНДАРЬ!AQ22=GRID!$B$3:$BI$3), 0))*(1-GRID!$B$29))} -> 12400 | F16: {=IF($I$2="Открытый тариф", INDEX(GRID!$B$13:$BI$19,MATCH($E$7,GRID!$A$13:$A$19,0),MATCH(1,($U$2=GRID!$B$1:$BI$1)*(КАЛЕНДАРЬ!$AQ22=GRID!$B$3:$BI$3), 0)), INDEX(GRID!$B$13:$BI$19,MATCH($E$7,GRID!$A$13:$A$19,0),MATCH(1,($U$2=GRID!$B$1:$BI$1)*(КАЛЕНДАРЬ!$AQ22=GRID!$B$3:$BI$3), 0))*(1-GRID!$B$29))} -> 15700 | G16: {=IF($I$2="Открытый тариф", INDEX(GRID!$B$4:$BI$10,MATCH($G$7,GRID!$A$4:$A$10,0),MATCH(1,($U$2=GRID!$B$1:$BI$1)*(КАЛЕНДАРЬ!AQ22=GRID!$B$3:$BI$3), 0)), INDEX(GRID!$B$4:$BI$10,MATCH($G$7,GRID!$A$4:$A$10,0),MATCH(1,($U$2=GRID!$B$1:$BI$1)*(КАЛЕНДАРЬ!AQ22=GRID!$B$3:$BI$3), 0))*(1-GRID!$B$29))} -> 15000 | H16: {=IF($I$2="Открытый тариф", INDEX(GRID!$B$13:$BI$19,MATCH($G$7,GRID!$A$13:$A$19,0),MATCH(1,($U$2=GRID!$B$1:$BI$1)*(КАЛЕНДАРЬ!$AQ22=GRID!$B$3:$BI$3), 0)), INDEX(GRID!$B$13:$BI$19,MATCH($G$7,GRID!$A$13:$A$19,0),MATCH(1,($U$2=GRID!$B$1:$BI$1)*(КАЛЕНДАРЬ!$AQ22=GRID!$B$3:$BI$3), 0))*(1-GRID!$B$29))} -> 18300 | I16: {=IF($I$2="Открытый тариф", INDEX(GRID!$B$4:$BI$10,MATCH($I$7,GRID!$A$4:$A$10,0),MATCH(1,($U$2=GRID!$B$1:$BI$1)*(КАЛЕНДАРЬ!AQ22=GRID!$B$3:$BI$3), 0)), INDEX(GRID!$B$4:$BI$10,MATCH($I$7,GRID!$A$4:$A$10,0),MATCH(1,($U$2=GRID!$B$1:$BI$1)*(КАЛЕНДАРЬ!AQ22=GRID!$B$3:$BI$3), 0))*(1-GRID!$B$29))} -> 21000 | J16: {=IF($I$2="Открытый тариф", INDEX(GRID!$B$13:$BI$19,MATCH($I$7,GRID!$A$13:$A$19,0),MATCH(1,($U$2=GRID!$B$1:$BI$1)*(КАЛЕНДАРЬ!$AQ22=GRID!$B$3:$BI$3), 0)), INDEX(GRID!$B$13:$BI$19,MATCH($I$7,GRID!$A$13:$A$19,0),MATCH(1,($U$2=GRID!$B$1:$BI$1)*(КАЛЕНДАРЬ!$AQ22=GRID!$B$3:$BI$3), 0))*(1-GRID!$B$29))} -> 24300 | K16: {=IF($I$2="Открытый тариф", INDEX(GRID!$B$4:$BI$10,MATCH($K$7,GRID!$A$4:$A$10,0),MATCH(1,($U$2=GRID!$B$1:$BI$1)*(КАЛЕНДАРЬ!AQ22=GRID!$B$3:$BI$3), 0)), INDEX(GRID!$B$4:$BI$10,MATCH($K$7,GRID!$A$4:$A$10,0),MATCH(1,($U$2=GRID!$B$1:$BI$1)*(КАЛЕНДАРЬ!AQ22=GRID!$B$3:$BI$3), 0))*(1-GRID!$B$29))} -> 29500 | L16: {=IF($I$2="Открытый тариф", INDEX(GRID!$B$13:$BI$19,MATCH($K$7,GRID!$A$13:$A$19,0),MATCH(1,($U$2=GRID!$B$1:$BI$1)*(КАЛЕНДАРЬ!$AQ22=GRID!$B$3:$BI$3), 0)), INDEX(GRID!$B$13:$BI$19,MATCH($K$7,GRID!$A$13:$A$19,0),MATCH(1,($U$2=GRID!$B$1:$BI$1)*(КАЛЕНДАРЬ!$AQ22=GRID!$B$3:$BI$3), 0))*(1-GRID!$B$29))} -> 32800 | M16: {=IF($I$2="Открытый тариф", INDEX(GRID!$B$4:$BI$10,MATCH($M$7,GRID!$A$4:$A$10,0),MATCH(1,($U$2=GRID!$B$1:$BI$1)*(КАЛЕНДАРЬ!AQ22=GRID!$B$3:$BI$3), 0)), INDEX(GRID!$B$4:$BI$10,MATCH($M$7,GRID!$A$4:$A$10,0),MATCH(1,($U$2=GRID!$B$1:$BI$1)*(КАЛЕНДАРЬ!AQ22=GRID!$B$3:$BI$3), 0))*(1-GRID!$B$29))} -> 42300 | N16: {=IF($I$2="Открытый тариф", INDEX(GRID!$B$13:$BI$19,MATCH($M$7,GRID!$A$13:$A$19,0),MATCH(1,($U$2=GRID!$B$1:$BI$1)*(КАЛЕНДАРЬ!$AQ22=GRID!$B$3:$BI$3), 0)), INDEX(GRID!$B$13:$BI$19,MATCH($M$7,GRID!$A$13:$A$19,0),MATCH(1,($U$2=GRID!$B$1:$BI$1)*(КАЛЕНДАРЬ!$AQ22=GRID!$B$3:$BI$3), 0))*(1-GRID!$B$29))} -> 45600 | O16: {=IF($I$2="Открытый тариф", INDEX(GRID!$B$4:$BI$10,MATCH($O$7,GRID!$A$4:$A$10,0),MATCH(1,($U$2=GRID!$B$1:$BI$1)*(КАЛЕНДАРЬ!AQ22=GRID!$B$3:$BI$3), 0)), INDEX(GRID!$B$4:$BI$10,MATCH($O$7,GRID!$A$4:$A$10,0),MATCH(1,($U$2=GRID!$B$1:$BI$1)*(КАЛЕНДАРЬ!AQ22=GRID!$B$3:$BI$3), 0))*(1-GRID!$B$29))} -> 95400 | P16: {=IF($I$2="Открытый тариф", INDEX(GRID!$B$13:$BI$19,MATCH($O$7,GRID!$A$13:$A$19,0),MATCH(1,($U$2=GRID!$B$1:$BI$1)*(КАЛЕНДАРЬ!$AQ22=GRID!$B$3:$BI$3), 0)), INDEX(GRID!$B$13:$BI$19,MATCH($O$7,GRID!$A$13:$A$19,0),MATCH(1,($U$2=GRID!$B$1:$BI$1)*(КАЛЕНДАРЬ!$AQ22=GRID!$B$3:$BI$3), 0))*(1-GRID!$B$29))} -> 98700
A17: ПТ | B17: 20 | C17: {=IF($I$2="Открытый тариф", INDEX(GRID!$B$4:$BI$10,MATCH($C$7,GRID!$A$4:$A$10,0),MATCH(1,($U$2=GRID!$B$1:$BI$1)*(КАЛЕНДАРЬ!AQ23=GRID!$B$3:$BI$3), 0)), INDEX(GRID!$B$4:$BI$10,MATCH($C$7,GRID!$A$4:$A$10,0),MATCH(1,($U$2=GRID!$B$1:$BI$1)*(КАЛЕНДАРЬ!AQ23=GRID!$B$3:$BI$3), 0))*(1-GRID!$B$29))} -> 14300 | D17: {=IF($I$2="Открытый тариф", INDEX(GRID!$B$13:$BI$19,MATCH($C$7,GRID!$A$13:$A$19,0),MATCH(1,($U$2=GRID!$B$1:$BI$1)*(КАЛЕНДАРЬ!$AQ23=GRID!$B$3:$BI$3), 0)), INDEX(GRID!$B$13:$BI$19,MATCH($C$7,GRID!$A$13:$A$19,0),MATCH(1,($U$2=GRID!$B$1:$BI$1)*(КАЛЕНДАРЬ!$AQ23=GRID!$B$3:$BI$3), 0))*(1-GRID!$B$29))} -> 17600 | E17: {=IF($I$2="Открытый тариф", INDEX(GRID!$B$4:$BI$10,MATCH($E$7,GRID!$A$4:$A$10,0),MATCH(1,($U$2=GRID!$B$1:$BI$1)*(КАЛЕНДАРЬ!AQ23=GRID!$B$3:$BI$3), 0)), INDEX(GRID!$B$4:$BI$10,MATCH($E$7,GRID!$A$4:$A$10,0),MATCH(1,($U$2=GRID!$B$1:$BI$1)*(КАЛЕНДАРЬ!AQ23=GRID!$B$3:$BI$3), 0))*(1-GRID!$B$29))} -> 17500 | F17: {=IF($I$2="Открытый тариф", INDEX(GRID!$B$13:$BI$19,MATCH($E$7,GRID!$A$13:$A$19,0),MATCH(1,($U$2=GRID!$B$1:$BI$1)*(КАЛЕНДАРЬ!$AQ23=GRID!$B$3:$BI$3), 0)), INDEX(GRID!$B$13:$BI$19,MATCH($E$7,GRID!$A$13:$A$19,0),MATCH(1,($U$2=GRID!$B$1:$BI$1)*(КАЛЕНДАРЬ!$AQ23=GRID!$B$3:$BI$3), 0))*(1-GRID!$B$29))} -> 20800 | G17: {=IF($I$2="Открытый тариф", INDEX(GRID!$B$4:$BI$10,MATCH($G$7,GRID!$A$4:$A$10,0),MATCH(1,($U$2=GRID!$B$1:$BI$1)*(КАЛЕНДАРЬ!AQ23=GRID!$B$3:$BI$3), 0)), INDEX(GRID!$B$4:$BI$10,MATCH($G$7,GRID!$A$4:$A$10,0),MATCH(1,($U$2=GRID!$B$1:$BI$1)*(КАЛЕНДАРЬ!AQ23=GRID!$B$3:$BI$3), 0))*(1-GRID!$B$29))} -> 21300 | H17: {=IF($I$2="Открытый тариф", INDEX(GRID!$B$13:$BI$19,MATCH($G$7,GRID!$A$13:$A$19,0),MATCH(1,($U$2=GRID!$B$1:$BI$1)*(КАЛЕНДАРЬ!$AQ23=GRID!$B$3:$BI$3), 0)), INDEX(GRID!$B$13:$BI$19,MATCH($G$7,GRID!$A$13:$A$19,0),MATCH(1,($U$2=GRID!$B$1:$BI$1)*(КАЛЕНДАРЬ!$AQ23=GRID!$B$3:$BI$3), 0))*(1-GRID!$B$29))} -> 24600 | I17: {=IF($I$2="Открытый тариф", INDEX(GRID!$B$4:$BI$10,MATCH($I$7,GRID!$A$4:$A$10,0),MATCH(1,($U$2=GRID!$B$1:$BI$1)*(КАЛЕНДАРЬ!AQ23=GRID!$B$3:$BI$3), 0)), INDEX(GRID!$B$4:$BI$10,MATCH($I$7,GRID!$A$4:$A$10,0),MATCH(1,($U$2=GRID!$B$1:$BI$1)*(КАЛЕНДАРЬ!AQ23=GRID!$B$3:$BI$3), 0))*(1-GRID!$B$29))} -> 30100 | J17: {=IF($I$2="Открытый тариф", INDEX(GRID!$B$13:$BI$19,MATCH($I$7,GRID!$A$13:$A$19,0),MATCH(1,($U$2=GRID!$B$1:$BI$1)*(КАЛЕНДАРЬ!$AQ23=GRID!$B$3:$BI$3), 0)), INDEX(GRID!$B$13:$BI$19,MATCH($I$7,GRID!$A$13:$A$19,0),MATCH(1,($U$2=GRID!$B$1:$BI$1)*(КАЛЕНДАРЬ!$AQ23=GRID!$B$3:$BI$3), 0))*(1-GRID!$B$29))} -> 33400 | K17: {=IF($I$2="Открытый тариф", INDEX(GRID!$B$4:$BI$10,MATCH($K$7,GRID!$A$4:$A$10,0),MATCH(1,($U$2=GRID!$B$1:$BI$1)*(КАЛЕНДАРЬ!AQ23=GRID!$B$3:$BI$3), 0)), INDEX(GRID!$B$4:$BI$10,MATCH($K$7,GRID!$A$4:$A$10,0),MATCH(1,($U$2=GRID!$B$1:$BI$1)*(КАЛЕНДАРЬ!AQ23=GRID!$B$3:$BI$3), 0))*(1-GRID!$B$29))} -> 42600 | L17: {=IF($I$2="Открытый тариф", INDEX(GRID!$B$13:$BI$19,MATCH($K$7,GRID!$A$13:$A$19,0),MATCH(1,($U$2=GRID!$B$1:$BI$1)*(КАЛЕНДАРЬ!$AQ23=GRID!$B$3:$BI$3), 0)), INDEX(GRID!$B$13:$BI$19,MATCH($K$7,GRID!$A$13:$A$19,0),MATCH(1,($U$2=GRID!$B$1:$BI$1)*(КАЛЕНДАРЬ!$AQ23=GRID!$B$3:$BI$3), 0))*(1-GRID!$B$29))} -> 45900 | M17: {=IF($I$2="Открытый тариф", INDEX(GRID!$B$4:$BI$10,MATCH($M$7,GRID!$A$4:$A$10,0),MATCH(1,($U$2=GRID!$B$1:$BI$1)*(КАЛЕНДАРЬ!AQ23=GRID!$B$3:$BI$3), 0)), INDEX(GRID!$B$4:$BI$10,MATCH($M$7,GRID!$A$4:$A$10,0),MATCH(1,($U$2=GRID!$B$1:$BI$1)*(КАЛЕНДАРЬ!AQ23=GRID!$B$3:$BI$3), 0))*(1-GRID!$B$29))} -> 61400 | N17: {=IF($I$2="Открытый тариф", INDEX(GRID!$B$13:$BI$19,MATCH($M$7,GRID!$A$13:$A$19,0),MATCH(1,($U$2=GRID!$B$1:$BI$1)*(КАЛЕНДАРЬ!$AQ23=GRID!$B$3:$BI$3), 0)), INDEX(GRID!$B$13:$BI$19,MATCH($M$7,GRID!$A$13:$A$19,0),MATCH(1,($U$2=GRID!$B$1:$BI$1)*(КАЛЕНДАРЬ!$AQ23=GRID!$B$3:$BI$3), 0))*(1-GRID!$B$29))} -> 64700 | O17: {=IF($I$2="Открытый тариф", INDEX(GRID!$B$4:$BI$10,MATCH($O$7,GRID!$A$4:$A$10,0),MATCH(1,($U$2=GRID!$B$1:$BI$1)*(КАЛЕНДАРЬ!AQ23=GRID!$B$3:$BI$3), 0)), INDEX(GRID!$B$4:$BI$10,MATCH($O$7,GRID!$A$4:$A$10,0),MATCH(1,($U$2=GRID!$B$1:$BI$1)*(КАЛЕНДАРЬ!AQ23=GRID!$B$3:$BI$3), 0))*(1-GRID!$B$29))} -> 145300 | P17: {=IF($I$2="Открытый тариф", INDEX(GRID!$B$13:$BI$19,MATCH($O$7,GRID!$A$13:$A$19,0),MATCH(1,($U$2=GRID!$B$1:$BI$1)*(КАЛЕНДАРЬ!$AQ23=GRID!$B$3:$BI$3), 0)), INDEX(GRID!$B$13:$BI$19,MATCH($O$7,GRID!$A$13:$A$19,0),MATCH(1,($U$2=GRID!$B$1:$BI$1)*(КАЛЕНДАРЬ!$AQ23=GRID!$B$3:$BI$3), 0))*(1-GRID!$B$29))} -> 148600
A18: СБ | B18: 21 | C18: {=IF($I$2="Открытый тариф", INDEX(GRID!$B$4:$BI$10,MATCH($C$7,GRID!$A$4:$A$10,0),MATCH(1,($U$2=GRID!$B$1:$BI$1)*(КАЛЕНДАРЬ!AQ24=GRID!$B$3:$BI$3), 0)), INDEX(GRID!$B$4:$BI$10,MATCH($C$7,GRID!$A$4:$A$10,0),MATCH(1,($U$2=GRID!$B$1:$BI$1)*(КАЛЕНДАРЬ!AQ24=GRID!$B$3:$BI$3), 0))*(1-GRID!$B$29))} -> 15000 | D18: {=IF($I$2="Открытый тариф", INDEX(GRID!$B$13:$BI$19,MATCH($C$7,GRID!$A$13:$A$19,0),MATCH(1,($U$2=GRID!$B$1:$BI$1)*(КАЛЕНДАРЬ!$AQ24=GRID!$B$3:$BI$3), 0)), INDEX(GRID!$B$13:$BI$19,MATCH($C$7,GRID!$A$13:$A$19,0),MATCH(1,($U$2=GRID!$B$1:$BI$1)*(КАЛЕНДАРЬ!$AQ24=GRID!$B$3:$BI$3), 0))*(1-GRID!$B$29))} -> 18300 | E18: {=IF($I$2="Открытый тариф", INDEX(GRID!$B$4:$BI$10,MATCH($E$7,GRID!$A$4:$A$10,0),MATCH(1,($U$2=GRID!$B$1:$BI$1)*(КАЛЕНДАРЬ!AQ24=GRID!$B$3:$BI$3), 0)), INDEX(GRID!$B$4:$BI$10,MATCH($E$7,GRID!$A$4:$A$10,0),MATCH(1,($U$2=GRID!$B$1:$BI$1)*(КАЛЕНДАРЬ!AQ24=GRID!$B$3:$BI$3), 0))*(1-GRID!$B$29))} -> 18300 | F18: {=IF($I$2="Открытый тариф", INDEX(GRID!$B$13:$BI$19,MATCH($E$7,GRID!$A$13:$A$19,0),MATCH(1,($U$2=GRID!$B$1:$BI$1)*(КАЛЕНДАРЬ!$AQ24=GRID!$B$3:$BI$3), 0)), INDEX(GRID!$B$13:$BI$19,MATCH($E$7,GRID!$A$13:$A$19,0),MATCH(1,($U$2=GRID!$B$1:$BI$1)*(КАЛЕНДАРЬ!$AQ24=GRID!$B$3:$BI$3), 0))*(1-GRID!$B$29))} -> 21600 | G18: {=IF($I$2="Открытый тариф", INDEX(GRID!$B$4:$BI$10,MATCH($G$7,GRID!$A$4:$A$10,0),MATCH(1,($U$2=GRID!$B$1:$BI$1)*(КАЛЕНДАРЬ!AQ24=GRID!$B$3:$BI$3), 0)), INDEX(GRID!$B$4:$BI$10,MATCH($G$7,GRID!$A$4:$A$10,0),MATCH(1,($U$2=GRID!$B$1:$BI$1)*(КАЛЕНДАРЬ!AQ24=GRID!$B$3:$BI$3), 0))*(1-GRID!$B$29))} -> 22200 | H18: {=IF($I$2="Открытый тариф", INDEX(GRID!$B$13:$BI$19,MATCH($G$7,GRID!$A$13:$A$19,0),MATCH(1,($U$2=GRID!$B$1:$BI$1)*(КАЛЕНДАРЬ!$AQ24=GRID!$B$3:$BI$3), 0)), INDEX(GRID!$B$13:$BI$19,MATCH($G$7,GRID!$A$13:$A$19,0),MATCH(1,($U$2=GRID!$B$1:$BI$1)*(КАЛЕНДАРЬ!$AQ24=GRID!$B$3:$BI$3), 0))*(1-GRID!$B$29))} -> 25500 | I18: {=IF($I$2="Открытый тариф", INDEX(GRID!$B$4:$BI$10,MATCH($I$7,GRID!$A$4:$A$10,0),MATCH(1,($U$2=GRID!$B$1:$BI$1)*(КАЛЕНДАРЬ!AQ24=GRID!$B$3:$BI$3), 0)), INDEX(GRID!$B$4:$BI$10,MATCH($I$7,GRID!$A$4:$A$10,0),MATCH(1,($U$2=GRID!$B$1:$BI$1)*(КАЛЕНДАРЬ!AQ24=GRID!$B$3:$BI$3), 0))*(1-GRID!$B$29))} -> 31300 | J18: {=IF($I$2="Открытый тариф", INDEX(GRID!$B$13:$BI$19,MATCH($I$7,GRID!$A$13:$A$19,0),MATCH(1,($U$2=GRID!$B$1:$BI$1)*(КАЛЕНДАРЬ!$AQ24=GRID!$B$3:$BI$3), 0)), INDEX(GRID!$B$13:$BI$19,MATCH($I$7,GRID!$A$13:$A$19,0),MATCH(1,($U$2=GRID!$B$1:$BI$1)*(КАЛЕНДАРЬ!$AQ24=GRID!$B$3:$BI$3), 0))*(1-GRID!$B$29))} -> 34600 | K18: {=IF($I$2="Открытый тариф", INDEX(GRID!$B$4:$BI$10,MATCH($K$7,GRID!$A$4:$A$10,0),MATCH(1,($U$2=GRID!$B$1:$BI$1)*(КАЛЕНДАРЬ!AQ24=GRID!$B$3:$BI$3), 0)), INDEX(GRID!$B$4:$BI$10,MATCH($K$7,GRID!$A$4:$A$10,0),MATCH(1,($U$2=GRID!$B$1:$BI$1)*(КАЛЕНДАРЬ!AQ24=GRID!$B$3:$BI$3), 0))*(1-GRID!$B$29))} -> 44300 | L18: {=IF($I$2="Открытый тариф", INDEX(GRID!$B$13:$BI$19,MATCH($K$7,GRID!$A$13:$A$19,0),MATCH(1,($U$2=GRID!$B$1:$BI$1)*(КАЛЕНДАРЬ!$AQ24=GRID!$B$3:$BI$3), 0)), INDEX(GRID!$B$13:$BI$19,MATCH($K$7,GRID!$A$13:$A$19,0),MATCH(1,($U$2=GRID!$B$1:$BI$1)*(КАЛЕНДАРЬ!$AQ24=GRID!$B$3:$BI$3), 0))*(1-GRID!$B$29))} -> 47600 | M18: {=IF($I$2="Открытый тариф", INDEX(GRID!$B$4:$BI$10,MATCH($M$7,GRID!$A$4:$A$10,0),MATCH(1,($U$2=GRID!$B$1:$BI$1)*(КАЛЕНДАРЬ!AQ24=GRID!$B$3:$BI$3), 0)), INDEX(GRID!$B$4:$BI$10,MATCH($M$7,GRID!$A$4:$A$10,0),MATCH(1,($U$2=GRID!$B$1:$BI$1)*(КАЛЕНДАРЬ!AQ24=GRID!$B$3:$BI$3), 0))*(1-GRID!$B$29))} -> 63800 | N18: {=IF($I$2="Открытый тариф", INDEX(GRID!$B$13:$BI$19,MATCH($M$7,GRID!$A$13:$A$19,0),MATCH(1,($U$2=GRID!$B$1:$BI$1)*(КАЛЕНДАРЬ!$AQ24=GRID!$B$3:$BI$3), 0)), INDEX(GRID!$B$13:$BI$19,MATCH($M$7,GRID!$A$13:$A$19,0),MATCH(1,($U$2=GRID!$B$1:$BI$1)*(КАЛЕНДАРЬ!$AQ24=GRID!$B$3:$BI$3), 0))*(1-GRID!$B$29))} -> 67100 | O18: {=IF($I$2="Открытый тариф", INDEX(GRID!$B$4:$BI$10,MATCH($O$7,GRID!$A$4:$A$10,0),MATCH(1,($U$2=GRID!$B$1:$BI$1)*(КАЛЕНДАРЬ!AQ24=GRID!$B$3:$BI$3), 0)), INDEX(GRID!$B$4:$BI$10,MATCH($O$7,GRID!$A$4:$A$10,0),MATCH(1,($U$2=GRID!$B$1:$BI$1)*(КАЛЕНДАРЬ!AQ24=GRID!$B$3:$BI$3), 0))*(1-GRID!$B$29))} -> 151700 | P18: {=IF($I$2="Открытый тариф", INDEX(GRID!$B$13:$BI$19,MATCH($O$7,GRID!$A$13:$A$19,0),MATCH(1,($U$2=GRID!$B$1:$BI$1)*(КАЛЕНДАРЬ!$AQ24=GRID!$B$3:$BI$3), 0)), INDEX(GRID!$B$13:$BI$19,MATCH($O$7,GRID!$A$13:$A$19,0),MATCH(1,($U$2=GRID!$B$1:$BI$1)*(КАЛЕНДАРЬ!$AQ24=GRID!$B$3:$BI$3), 0))*(1-GRID!$B$29))} -> 155000
A19: ВС | B19: 22 | C19: {=IF($I$2="Открытый тариф", INDEX(GRID!$B$4:$BI$10,MATCH($C$7,GRID!$A$4:$A$10,0),MATCH(1,($U$2=GRID!$B$1:$BI$1)*(КАЛЕНДАРЬ!AQ25=GRID!$B$3:$BI$3), 0)), INDEX(GRID!$B$4:$BI$10,MATCH($C$7,GRID!$A$4:$A$10,0),MATCH(1,($U$2=GRID!$B$1:$BI$1)*(КАЛЕНДАРЬ!AQ25=GRID!$B$3:$BI$3), 0))*(1-GRID!$B$29))} -> 14300 | D19: {=IF($I$2="Открытый тариф", INDEX(GRID!$B$13:$BI$19,MATCH($C$7,GRID!$A$13:$A$19,0),MATCH(1,($U$2=GRID!$B$1:$BI$1)*(КАЛЕНДАРЬ!$AQ25=GRID!$B$3:$BI$3), 0)), INDEX(GRID!$B$13:$BI$19,MATCH($C$7,GRID!$A$13:$A$19,0),MATCH(1,($U$2=GRID!$B$1:$BI$1)*(КАЛЕНДАРЬ!$AQ25=GRID!$B$3:$BI$3), 0))*(1-GRID!$B$29))} -> 17600 | E19: {=IF($I$2="Открытый тариф", INDEX(GRID!$B$4:$BI$10,MATCH($E$7,GRID!$A$4:$A$10,0),MATCH(1,($U$2=GRID!$B$1:$BI$1)*(КАЛЕНДАРЬ!AQ25=GRID!$B$3:$BI$3), 0)), INDEX(GRID!$B$4:$BI$10,MATCH($E$7,GRID!$A$4:$A$10,0),MATCH(1,($U$2=GRID!$B$1:$BI$1)*(КАЛЕНДАРЬ!AQ25=GRID!$B$3:$BI$3), 0))*(1-GRID!$B$29))} -> 17500 | F19: {=IF($I$2="Открытый тариф", INDEX(GRID!$B$13:$BI$19,MATCH($E$7,GRID!$A$13:$A$19,0),MATCH(1,($U$2=GRID!$B$1:$BI$1)*(КАЛЕНДАРЬ!$AQ25=GRID!$B$3:$BI$3), 0)), INDEX(GRID!$B$13:$BI$19,MATCH($E$7,GRID!$A$13:$A$19,0),MATCH(1,($U$2=GRID!$B$1:$BI$1)*(КАЛЕНДАРЬ!$AQ25=GRID!$B$3:$BI$3), 0))*(1-GRID!$B$29))} -> 20800 | G19: {=IF($I$2="Открытый тариф", INDEX(GRID!$B$4:$BI$10,MATCH($G$7,GRID!$A$4:$A$10,0),MATCH(1,($U$2=GRID!$B$1:$BI$1)*(КАЛЕНДАРЬ!AQ25=GRID!$B$3:$BI$3), 0)), INDEX(GRID!$B$4:$BI$10,MATCH($G$7,GRID!$A$4:$A$10,0),MATCH(1,($U$2=GRID!$B$1:$BI$1)*(КАЛЕНДАРЬ!AQ25=GRID!$B$3:$BI$3), 0))*(1-GRID!$B$29))} -> 21300 | H19: {=IF($I$2="Открытый тариф", INDEX(GRID!$B$13:$BI$19,MATCH($G$7,GRID!$A$13:$A$19,0),MATCH(1,($U$2=GRID!$B$1:$BI$1)*(КАЛЕНДАРЬ!$AQ25=GRID!$B$3:$BI$3), 0)), INDEX(GRID!$B$13:$BI$19,MATCH($G$7,GRID!$A$13:$A$19,0),MATCH(1,($U$2=GRID!$B$1:$BI$1)*(КАЛЕНДАРЬ!$AQ25=GRID!$B$3:$BI$3), 0))*(1-GRID!$B$29))} -> 24600 | I19: {=IF($I$2="Открытый тариф", INDEX(GRID!$B$4:$BI$10,MATCH($I$7,GRID!$A$4:$A$10,0),MATCH(1,($U$2=GRID!$B$1:$BI$1)*(КАЛЕНДАРЬ!AQ25=GRID!$B$3:$BI$3), 0)), INDEX(GRID!$B$4:$BI$10,MATCH($I$7,GRID!$A$4:$A$10,0),MATCH(1,($U$2=GRID!$B$1:$BI$1)*(КАЛЕНДАРЬ!AQ25=GRID!$B$3:$BI$3), 0))*(1-GRID!$B$29))} -> 30100 | J19: {=IF($I$2="Открытый тариф", INDEX(GRID!$B$13:$BI$19,MATCH($I$7,GRID!$A$13:$A$19,0),MATCH(1,($U$2=GRID!$B$1:$BI$1)*(КАЛЕНДАРЬ!$AQ25=GRID!$B$3:$BI$3), 0)), INDEX(GRID!$B$13:$BI$19,MATCH($I$7,GRID!$A$13:$A$19,0),MATCH(1,($U$2=GRID!$B$1:$BI$1)*(КАЛЕНДАРЬ!$AQ25=GRID!$B$3:$BI$3), 0))*(1-GRID!$B$29))} -> 33400 | K19: {=IF($I$2="Открытый тариф", INDEX(GRID!$B$4:$BI$10,MATCH($K$7,GRID!$A$4:$A$10,0),MATCH(1,($U$2=GRID!$B$1:$BI$1)*(КАЛЕНДАРЬ!AQ25=GRID!$B$3:$BI$3), 0)), INDEX(GRID!$B$4:$BI$10,MATCH($K$7,GRID!$A$4:$A$10,0),MATCH(1,($U$2=GRID!$B$1:$BI$1)*(КАЛЕНДАРЬ!AQ25=GRID!$B$3:$BI$3), 0))*(1-GRID!$B$29))} -> 42600 | L19: {=IF($I$2="Открытый тариф", INDEX(GRID!$B$13:$BI$19,MATCH($K$7,GRID!$A$13:$A$19,0),MATCH(1,($U$2=GRID!$B$1:$BI$1)*(КАЛЕНДАРЬ!$AQ25=GRID!$B$3:$BI$3), 0)), INDEX(GRID!$B$13:$BI$19,MATCH($K$7,GRID!$A$13:$A$19,0),MATCH(1,($U$2=GRID!$B$1:$BI$1)*(КАЛЕНДАРЬ!$AQ25=GRID!$B$3:$BI$3), 0))*(1-GRID!$B$29))} -> 45900 | M19: {=IF($I$2="Открытый тариф", INDEX(GRID!$B$4:$BI$10,MATCH($M$7,GRID!$A$4:$A$10,0),MATCH(1,($U$2=GRID!$B$1:$BI$1)*(КАЛЕНДАРЬ!AQ25=GRID!$B$3:$BI$3), 0)), INDEX(GRID!$B$4:$BI$10,MATCH($M$7,GRID!$A$4:$A$10,0),MATCH(1,($U$2=GRID!$B$1:$BI$1)*(КАЛЕНДАРЬ!AQ25=GRID!$B$3:$BI$3), 0))*(1-GRID!$B$29))} -> 61400 | N19: {=IF($I$2="Открытый тариф", INDEX(GRID!$B$13:$BI$19,MATCH($M$7,GRID!$A$13:$A$19,0),MATCH(1,($U$2=GRID!$B$1:$BI$1)*(КАЛЕНДАРЬ!$AQ25=GRID!$B$3:$BI$3), 0)), INDEX(GRID!$B$13:$BI$19,MATCH($M$7,GRID!$A$13:$A$19,0),MATCH(1,($U$2=GRID!$B$1:$BI$1)*(КАЛЕНДАРЬ!$AQ25=GRID!$B$3:$BI$3), 0))*(1-GRID!$B$29))} -> 64700 | O19: {=IF($I$2="Открытый тариф", INDEX(GRID!$B$4:$BI$10,MATCH($O$7,GRID!$A$4:$A$10,0),MATCH(1,($U$2=GRID!$B$1:$BI$1)*(КАЛЕНДАРЬ!AQ25=GRID!$B$3:$BI$3), 0)), INDEX(GRID!$B$4:$BI$10,MATCH($O$7,GRID!$A$4:$A$10,0),MATCH(1,($U$2=GRID!$B$1:$BI$1)*(КАЛЕНДАРЬ!AQ25=GRID!$B$3:$BI$3), 0))*(1-GRID!$B$29))} -> 145300 | P19: {=IF($I$2="Открытый тариф", INDEX(GRID!$B$13:$BI$19,MATCH($O$7,GRID!$A$13:$A$19,0),MATCH(1,($U$2=GRID!$B$1:$BI$1)*(КАЛЕНДАРЬ!$AQ25=GRID!$B$3:$BI$3), 0)), INDEX(GRID!$B$13:$BI$19,MATCH($O$7,GRID!$A$13:$A$19,0),MATCH(1,($U$2=GRID!$B$1:$BI$1)*(КАЛЕНДАРЬ!$AQ25=GRID!$B$3:$BI$3), 0))*(1-GRID!$B$29))} -> 148600
A20: ПН | B20: 23 | C20: {=IF($I$2="Открытый тариф", INDEX(GRID!$B$4:$BI$10,MATCH($C$7,GRID!$A$4:$A$10,0),MATCH(1,($U$2=GRID!$B$1:$BI$1)*(КАЛЕНДАРЬ!AQ26=GRID!$B$3:$BI$3), 0)), INDEX(GRID!$B$4:$BI$10,MATCH($C$7,GRID!$A$4:$A$10,0),MATCH(1,($U$2=GRID!$B$1:$BI$1)*(КАЛЕНДАРЬ!AQ26=GRID!$B$3:$BI$3), 0))*(1-GRID!$B$29))} -> 12800 | D20: {=IF($I$2="Открытый тариф", INDEX(GRID!$B$13:$BI$19,MATCH($C$7,GRID!$A$13:$A$19,0),MATCH(1,($U$2=GRID!$B$1:$BI$1)*(КАЛЕНДАРЬ!$AQ26=GRID!$B$3:$BI$3), 0)), INDEX(GRID!$B$13:$BI$19,MATCH($C$7,GRID!$A$13:$A$19,0),MATCH(1,($U$2=GRID!$B$1:$BI$1)*(КАЛЕНДАРЬ!$AQ26=GRID!$B$3:$BI$3), 0))*(1-GRID!$B$29))} -> 16100 | E20: {=IF($I$2="Открытый тариф", INDEX(GRID!$B$4:$BI$10,MATCH($E$7,GRID!$A$4:$A$10,0),MATCH(1,($U$2=GRID!$B$1:$BI$1)*(КАЛЕНДАРЬ!AQ26=GRID!$B$3:$BI$3), 0)), INDEX(GRID!$B$4:$BI$10,MATCH($E$7,GRID!$A$4:$A$10,0),MATCH(1,($U$2=GRID!$B$1:$BI$1)*(КАЛЕНДАРЬ!AQ26=GRID!$B$3:$BI$3), 0))*(1-GRID!$B$29))} -> 15700 | F20: {=IF($I$2="Открытый тариф", INDEX(GRID!$B$13:$BI$19,MATCH($E$7,GRID!$A$13:$A$19,0),MATCH(1,($U$2=GRID!$B$1:$BI$1)*(КАЛЕНДАРЬ!$AQ26=GRID!$B$3:$BI$3), 0)), INDEX(GRID!$B$13:$BI$19,MATCH($E$7,GRID!$A$13:$A$19,0),MATCH(1,($U$2=GRID!$B$1:$BI$1)*(КАЛЕНДАРЬ!$AQ26=GRID!$B$3:$BI$3), 0))*(1-GRID!$B$29))} -> 19000 | G20: {=IF($I$2="Открытый тариф", INDEX(GRID!$B$4:$BI$10,MATCH($G$7,GRID!$A$4:$A$10,0),MATCH(1,($U$2=GRID!$B$1:$BI$1)*(КАЛЕНДАРЬ!AQ26=GRID!$B$3:$BI$3), 0)), INDEX(GRID!$B$4:$BI$10,MATCH($G$7,GRID!$A$4:$A$10,0),MATCH(1,($U$2=GRID!$B$1:$BI$1)*(КАЛЕНДАРЬ!AQ26=GRID!$B$3:$BI$3), 0))*(1-GRID!$B$29))} -> 19200 | H20: {=IF($I$2="Открытый тариф", INDEX(GRID!$B$13:$BI$19,MATCH($G$7,GRID!$A$13:$A$19,0),MATCH(1,($U$2=GRID!$B$1:$BI$1)*(КАЛЕНДАРЬ!$AQ26=GRID!$B$3:$BI$3), 0)), INDEX(GRID!$B$13:$BI$19,MATCH($G$7,GRID!$A$13:$A$19,0),MATCH(1,($U$2=GRID!$B$1:$BI$1)*(КАЛЕНДАРЬ!$AQ26=GRID!$B$3:$BI$3), 0))*(1-GRID!$B$29))} -> 22500 | I20: {=IF($I$2="Открытый тариф", INDEX(GRID!$B$4:$BI$10,MATCH($I$7,GRID!$A$4:$A$10,0),MATCH(1,($U$2=GRID!$B$1:$BI$1)*(КАЛЕНДАРЬ!AQ26=GRID!$B$3:$BI$3), 0)), INDEX(GRID!$B$4:$BI$10,MATCH($I$7,GRID!$A$4:$A$10,0),MATCH(1,($U$2=GRID!$B$1:$BI$1)*(КАЛЕНДАРЬ!AQ26=GRID!$B$3:$BI$3), 0))*(1-GRID!$B$29))} -> 27300 | J20: {=IF($I$2="Открытый тариф", INDEX(GRID!$B$13:$BI$19,MATCH($I$7,GRID!$A$13:$A$19,0),MATCH(1,($U$2=GRID!$B$1:$BI$1)*(КАЛЕНДАРЬ!$AQ26=GRID!$B$3:$BI$3), 0)), INDEX(GRID!$B$13:$BI$19,MATCH($I$7,GRID!$A$13:$A$19,0),MATCH(1,($U$2=GRID!$B$1:$BI$1)*(КАЛЕНДАРЬ!$AQ26=GRID!$B$3:$BI$3), 0))*(1-GRID!$B$29))} -> 30600 | K20: {=IF($I$2="Открытый тариф", INDEX(GRID!$B$4:$BI$10,MATCH($K$7,GRID!$A$4:$A$10,0),MATCH(1,($U$2=GRID!$B$1:$BI$1)*(КАЛЕНДАРЬ!AQ26=GRID!$B$3:$BI$3), 0)), INDEX(GRID!$B$4:$BI$10,MATCH($K$7,GRID!$A$4:$A$10,0),MATCH(1,($U$2=GRID!$B$1:$BI$1)*(КАЛЕНДАРЬ!AQ26=GRID!$B$3:$BI$3), 0))*(1-GRID!$B$29))} -> 38800 | L20: {=IF($I$2="Открытый тариф", INDEX(GRID!$B$13:$BI$19,MATCH($K$7,GRID!$A$13:$A$19,0),MATCH(1,($U$2=GRID!$B$1:$BI$1)*(КАЛЕНДАРЬ!$AQ26=GRID!$B$3:$BI$3), 0)), INDEX(GRID!$B$13:$BI$19,MATCH($K$7,GRID!$A$13:$A$19,0),MATCH(1,($U$2=GRID!$B$1:$BI$1)*(КАЛЕНДАРЬ!$AQ26=GRID!$B$3:$BI$3), 0))*(1-GRID!$B$29))} -> 42100 | M20: {=IF($I$2="Открытый тариф", INDEX(GRID!$B$4:$BI$10,MATCH($M$7,GRID!$A$4:$A$10,0),MATCH(1,($U$2=GRID!$B$1:$BI$1)*(КАЛЕНДАРЬ!AQ26=GRID!$B$3:$BI$3), 0)), INDEX(GRID!$B$4:$BI$10,MATCH($M$7,GRID!$A$4:$A$10,0),MATCH(1,($U$2=GRID!$B$1:$BI$1)*(КАЛЕНДАРЬ!AQ26=GRID!$B$3:$BI$3), 0))*(1-GRID!$B$29))} -> 56100 | N20: {=IF($I$2="Открытый тариф", INDEX(GRID!$B$13:$BI$19,MATCH($M$7,GRID!$A$13:$A$19,0),MATCH(1,($U$2=GRID!$B$1:$BI$1)*(КАЛЕНДАРЬ!$AQ26=GRID!$B$3:$BI$3), 0)), INDEX(GRID!$B$13:$BI$19,MATCH($M$7,GRID!$A$13:$A$19,0),MATCH(1,($U$2=GRID!$B$1:$BI$1)*(КАЛЕНДАРЬ!$AQ26=GRID!$B$3:$BI$3), 0))*(1-GRID!$B$29))} -> 59400 | O20: {=IF($I$2="Открытый тариф", INDEX(GRID!$B$4:$BI$10,MATCH($O$7,GRID!$A$4:$A$10,0),MATCH(1,($U$2=GRID!$B$1:$BI$1)*(КАЛЕНДАРЬ!AQ26=GRID!$B$3:$BI$3), 0)), INDEX(GRID!$B$4:$BI$10,MATCH($O$7,GRID!$A$4:$A$10,0),MATCH(1,($U$2=GRID!$B$1:$BI$1)*(КАЛЕНДАРЬ!AQ26=GRID!$B$3:$BI$3), 0))*(1-GRID!$B$29))} -> 132000 | P20: {=IF($I$2="Открытый тариф", INDEX(GRID!$B$13:$BI$19,MATCH($O$7,GRID!$A$13:$A$19,0),MATCH(1,($U$2=GRID!$B$1:$BI$1)*(КАЛЕНДАРЬ!$AQ26=GRID!$B$3:$BI$3), 0)), INDEX(GRID!$B$13:$BI$19,MATCH($O$7,GRID!$A$13:$A$19,0),MATCH(1,($U$2=GRID!$B$1:$BI$1)*(КАЛЕНДАРЬ!$AQ26=GRID!$B$3:$BI$3), 0))*(1-GRID!$B$29))} -> 135300
... A25: СБ | B25: 28 | C25: {=IF($I$2="Открытый тариф", INDEX(GRID!$B$4:$BI$10,MATCH($C$7,GRID!$A$4:$A$10,0),MATCH(1,($U$2=GRID!$B$1:$BI$1)*(КАЛЕНДАРЬ!AQ31=GRID!$B$3:$BI$3), 0)), INDEX(GRID!$B$4:$BI$10,MATCH($C$7,GRID!$A$4:$A$10,0),MATCH(1,($U$2=GRID!$B$1:$BI$1)*(КАЛЕНДАРЬ!AQ31=GRID!$B$3:$BI$3), 0))*(1-GRID!$B$29))} -> 16900 | D25: {=IF($I$2="Открытый тариф", INDEX(GRID!$B$13:$BI$19,MATCH($C$7,GRID!$A$13:$A$19,0),MATCH(1,($U$2=GRID!$B$1:$BI$1)*(КАЛЕНДАРЬ!$AQ31=GRID!$B$3:$BI$3), 0)), INDEX(GRID!$B$13:$BI$19,MATCH($C$7,GRID!$A$13:$A$19,0),MATCH(1,($U$2=GRID!$B$1:$BI$1)*(КАЛЕНДАРЬ!$AQ31=GRID!$B$3:$BI$3), 0))*(1-GRID!$B$29))} -> 20200 | E25: {=IF($I$2="Открытый тариф", INDEX(GRID!$B$4:$BI$10,MATCH($E$7,GRID!$A$4:$A$10,0),MATCH(1,($U$2=GRID!$B$1:$BI$1)*(КАЛЕНДАРЬ!AQ31=GRID!$B$3:$BI$3), 0)), INDEX(GRID!$B$4:$BI$10,MATCH($E$7,GRID!$A$4:$A$10,0),MATCH(1,($U$2=GRID!$B$1:$BI$1)*(КАЛЕНДАРЬ!AQ31=GRID!$B$3:$BI$3), 0))*(1-GRID!$B$29))} -> 20400 | F25: {=IF($I$2="Открытый тариф", INDEX(GRID!$B$13:$BI$19,MATCH($E$7,GRID!$A$13:$A$19,0),MATCH(1,($U$2=GRID!$B$1:$BI$1)*(КАЛЕНДАРЬ!$AQ31=GRID!$B$3:$BI$3), 0)), INDEX(GRID!$B$13:$BI$19,MATCH($E$7,GRID!$A$13:$A$19,0),MATCH(1,($U$2=GRID!$B$1:$BI$1)*(КАЛЕНДАРЬ!$AQ31=GRID!$B$3:$BI$3), 0))*(1-GRID!$B$29))} -> 23700 | G25: {=IF($I$2="Открытый тариф", INDEX(GRID!$B$4:$BI$10,MATCH($G$7,GRID!$A$4:$A$10,0),MATCH(1,($U$2=GRID!$B$1:$BI$1)*(КАЛЕНДАРЬ!AQ31=GRID!$B$3:$BI$3), 0)), INDEX(GRID!$B$4:$BI$10,MATCH($G$7,GRID!$A$4:$A$10,0),MATCH(1,($U$2=GRID!$B$1:$BI$1)*(КАЛЕНДАРЬ!AQ31=GRID!$B$3:$BI$3), 0))*(1-GRID!$B$29))} -> 24600 | H25: {=IF($I$2="Открытый тариф", INDEX(GRID!$B$13:$BI$19,MATCH($G$7,GRID!$A$13:$A$19,0),MATCH(1,($U$2=GRID!$B$1:$BI$1)*(КАЛЕНДАРЬ!$AQ31=GRID!$B$3:$BI$3), 0)), INDEX(GRID!$B$13:$BI$19,MATCH($G$7,GRID!$A$13:$A$19,0),MATCH(1,($U$2=GRID!$B$1:$BI$1)*(КАЛЕНДАРЬ!$AQ31=GRID!$B$3:$BI$3), 0))*(1-GRID!$B$29))} -> 27900 | I25: {=IF($I$2="Открытый тариф", INDEX(GRID!$B$4:$BI$10,MATCH($I$7,GRID!$A$4:$A$10,0),MATCH(1,($U$2=GRID!$B$1:$BI$1)*(КАЛЕНДАРЬ!AQ31=GRID!$B$3:$BI$3), 0)), INDEX(GRID!$B$4:$BI$10,MATCH($I$7,GRID!$A$4:$A$10,0),MATCH(1,($U$2=GRID!$B$1:$BI$1)*(КАЛЕНДАРЬ!AQ31=GRID!$B$3:$BI$3), 0))*(1-GRID!$B$29))} -> 34400 | J25: {=IF($I$2="Открытый тариф", INDEX(GRID!$B$13:$BI$19,MATCH($I$7,GRID!$A$13:$A$19,0),MATCH(1,($U$2=GRID!$B$1:$BI$1)*(КАЛЕНДАРЬ!$AQ31=GRID!$B$3:$BI$3), 0)), INDEX(GRID!$B$13:$BI$19,MATCH($I$7,GRID!$A$13:$A$19,0),MATCH(1,($U$2=GRID!$B$1:$BI$1)*(КАЛЕНДАРЬ!$AQ31=GRID!$B$3:$BI$3), 0))*(1-GRID!$B$29))} -> 37700 | K25: {=IF($I$2="Открытый тариф", INDEX(GRID!$B$4:$BI$10,MATCH($K$7,GRID!$A$4:$A$10,0),MATCH(1,($U$2=GRID!$B$1:$BI$1)*(КАЛЕНДАРЬ!AQ31=GRID!$B$3:$BI$3), 0)), INDEX(GRID!$B$4:$BI$10,MATCH($K$7,GRID!$A$4:$A$10,0),MATCH(1,($U$2=GRID!$B$1:$BI$1)*(КАЛЕНДАРЬ!AQ31=GRID!$B$3:$BI$3), 0))*(1-GRID!$B$29))} -> 48400 | L25: {=IF($I$2="Открытый тариф", INDEX(GRID!$B$13:$BI$19,MATCH($K$7,GRID!$A$13:$A$19,0),MATCH(1,($U$2=GRID!$B$1:$BI$1)*(КАЛЕНДАРЬ!$AQ31=GRID!$B$3:$BI$3), 0)), INDEX(GRID!$B$13:$BI$19,MATCH($K$7,GRID!$A$13:$A$19,0),MATCH(1,($U$2=GRID!$B$1:$BI$1)*(КАЛЕНДАРЬ!$AQ31=GRID!$B$3:$BI$3), 0))*(1-GRID!$B$29))} -> 51700 | M25: {=IF($I$2="Открытый тариф", INDEX(GRID!$B$4:$BI$10,MATCH($M$7,GRID!$A$4:$A$10,0),MATCH(1,($U$2=GRID!$B$1:$BI$1)*(КАЛЕНДАРЬ!AQ31=GRID!$B$3:$BI$3), 0)), INDEX(GRID!$B$4:$BI$10,MATCH($M$7,GRID!$A$4:$A$10,0),MATCH(1,($U$2=GRID!$B$1:$BI$1)*(КАЛЕНДАРЬ!AQ31=GRID!$B$3:$BI$3), 0))*(1-GRID!$B$29))} -> 69400 | N25: {=IF($I$2="Открытый тариф", INDEX(GRID!$B$13:$BI$19,MATCH($M$7,GRID!$A$13:$A$19,0),MATCH(1,($U$2=GRID!$B$1:$BI$1)*(КАЛЕНДАРЬ!$AQ31=GRID!$B$3:$BI$3), 0)), INDEX(GRID!$B$13:$BI$19,MATCH($M$7,GRID!$A$13:$A$19,0),MATCH(1,($U$2=GRID!$B$1:$BI$1)*(КАЛЕНДАРЬ!$AQ31=GRID!$B$3:$BI$3), 0))*(1-GRID!$B$29))} -> 72700 | O25: {=IF($I$2="Открытый тариф", INDEX(GRID!$B$4:$BI$10,MATCH($O$7,GRID!$A$4:$A$10,0),MATCH(1,($U$2=GRID!$B$1:$BI$1)*(КАЛЕНДАРЬ!AQ31=GRID!$B$3:$BI$3), 0)), INDEX(GRID!$B$4:$BI$10,MATCH($O$7,GRID!$A$4:$A$10,0),MATCH(1,($U$2=GRID!$B$1:$BI$1)*(КАЛЕНДАРЬ!AQ31=GRID!$B$3:$BI$3), 0))*(1-GRID!$B$29))} -> 165400 | P25: {=IF($I$2="Открытый тариф", INDEX(GRID!$B$13:$BI$19,MATCH($O$7,GRID!$A$13:$A$19,0),MATCH(1,($U$2=GRID!$B$1:$BI$1)*(КАЛЕНДАРЬ!$AQ31=GRID!$B$3:$BI$3), 0)), INDEX(GRID!$B$13:$BI$19,MATCH($O$7,GRID!$A$13:$A$19,0),MATCH(1,($U$2=GRID!$B$1:$BI$1)*(КАЛЕНДАРЬ!$AQ31=GRID!$B$3:$BI$3), 0))*(1-GRID!$B$29))} -> 168700
A27: ТАРИФЫ
A28: МАРТ 2026
A29: День | C29: Стандарт | E29: Стандарт улучшенный с двухъярусной кроватью | G29: Полулюкс | I29: Люкс | K29: Люкс Королевы | M29: Люкс Короля | O29: Президентский люкс
C30: 1-мест. | D30: 2-мест. | E30: 1-мест. | F30: 2-мест. | G30: 1-мест. | H30: 2-мест. | I30: 1-мест. | J30: 2-мест. | K30: 1-мест. | L30: 2-мест. | M30: 1-мест. | N30: 2-мест. | O30: 1-мест. | P30: 2-мест.
