Workbook

Sheet Основной тариф
B2: Выберите тип тарифа | I2: Открытый тариф | S2: Выберите тип питания | U2: Завтрак
A5: ТАРИФЫ
A6: ФЕВРАЛЬ 2026
A7: День | C7: Стандарт | E7: Стандарт улучшенный с двухъярусной кроватью | G7: Полулюкс | I7: Люкс | K7: Люкс Королевы | M7: Люкс Короля | O7: Президентский люкс
C8: 1-мест. | D8: 2-мест. | E8: 1-мест. | F8: 2-мест. | G8: 1-мест. | H8: 2-мест. | I8: 1-мест. | J8: 2-мест. | K8: 1-мест. | L8: 2-мест. | M8: 1-мест. | N8: 2-мест. | O8: 1-мест. | P8: 2-мест.
A9: ЧТ | B9: 12 | C9: {=IF($I$2="Открытый тариф", INDEX(GRID!$B$4:$BI$10,MATCH($C$7,GRID!$A$4:$A$10,0),MATCH(1,($U$2=GRID!$B$1:$BI$1)*(КАЛЕНДАРЬ!AQ15=GRID!$B$3:$BI$3), 0)), INDEX(GRID!$B$4:$BI$10,MATCH($C$7,GRID!$A$4:$A$10,0),MATCH(1,($U$2=GRID!$B$1:$BI$1)*(КАЛЕНДАРЬ!AQ15=GRID!$B$3:$BI$3), 0))*(1-GRID!$B$29))} -> 10200 | D9: {=IF($I$2="Открытый тариф", INDEX(GRID!$B$13:$BI$19,MATCH($C$7,GRID!$A$13:$A$19,0),MATCH(1,($U$2=GRID!$B$1:$BI$1)*(КАЛЕНДАРЬ!$AQ15=GRID!$B$3:$BI$3), 0)), INDEX(GRID!$B$13:$BI$19,MATCH($C$7,GRID!$A$13:$A$19,0),MATCH(1,($U$2=GRID!$B$1:$BI$1)*(КАЛЕНДАРЬ!$AQ15=GRID!$B$3:$BI$3), 0))*(1-GRID!$B$29))} -> 13500 | E9: {=IF($I$2="Открытый тариф", INDEX(GRID!$B$4:$BI$10,MATCH($E$7,GRID!$A$4:$A$10,0),MATCH(1,($U$2=GRID!$B$1:$BI$1)*(КАЛЕНДАРЬ!AQ15=GRID!$B$3:$BI$3), 0)), INDEX(GRID!$B$4:$BI$10,MATCH($E$7,GRID!$A$4:$A$10,0),MATCH(1,($U$2=GRID!$B$1:$BI$1)*(КАЛЕНДАРЬ!AQ15=GRID!$B$3:$BI$3), 0))*(1-GRID!$B$29))} -> 12400 | F9: {=IF($I$2="Открытый тариф", INDEX(GRID!$B$13:$BI$19,MATCH($E$7,GRID!$A$13:$A$19,0),MATCH(1,($U$2=GRID!$B$1:$BI$1)*(КАЛЕНДАРЬ!$AQ15=GRID!$B$3:$BI$3), 0)), INDEX(GRID!$B$13:$BI$19,MATCH($E$7,GRID!$A$13:$A$19,0),MATCH(1,($U$2=GRID!$B$1:$BI$1)*(КАЛЕНДАРЬ!$AQ15=GRID!$B$3:$BI$3), 0))*(1-GRID!$B$29))} -> 15700 | G9: {=IF($I$2="Открытый тариф", INDEX(GRID!$B$4:$BI$10,MATCH($G$7,GRID!$A$4:$A$10,0),MATCH(1,($U$2=GRID!$B$1:$BI$1)*(КАЛЕНДАРЬ!AQ15=GRID!$B$3:$BI$3), 0)), INDEX(GRID!$B$4:$BI$10,MATCH($G$7,GRID!$A$4:$A$10,0),MATCH(1,($U$2=GRID!$B$1:$BI$1)*(КАЛЕНДАРЬ!AQ15=GRID!$B$3:$BI$3), 0))*(1-GRID!$B$29))} -> 15000 | H9: {=IF($I$2="Открытый тариф", INDEX(GRID!$B$13:$BI$19,MATCH($G$7,GRID!$A$13:$A$19,0),MATCH(1,($U$2=GRID!$B$1:$BI$1)*(КАЛЕНДАРЬ!$AQ15=GRID!$B$3:$BI$3), 0)), INDEX(GRID!$B$13:$BI$19,MATCH($G$7,GRID!$A$13:$A$19,0),MATCH(1,($U$2=GRID!$B$1:$BI$1)*(КАЛЕНДАРЬ!$AQ15=GRID!$B$3:$BI$3), 0))*(1-GRID!$B$29))} -> 18300 | I9: {=IF($I$2="Открытый тариф", INDEX(GRID!$B$4:$BI$10,MATCH($I$7,GRID!$A$4:$A$10,0),MATCH(1,($U$2=GRID!$B$1:$BI$1)*(КАЛЕНДАРЬ!AQ15=GRID!$B$3:$BI$3), 0)), INDEX(GRID!$B$4:$BI$10,MATCH($I$7,GRID!$A$4:$A$10,0),MATCH(1,($U$2=GRID!$B$1:$BI$1)*(КАЛЕНДАРЬ!AQ15=GRID!$B$3:$BI$3), 0))*(1-GRID!$B$29))} -> 21000 | J9: {=IF($I$2="Открытый тариф", INDEX(GRID!$B$13:$BI$19,MATCH($I$7,GRID!$A$13:$A$19,0),MATCH(1,($U$2=GRID!$B$1:$BI$1)*(КАЛЕНДАРЬ!$AQ15=GRID!$B$3:$BI$3), 0)), INDEX(GRID!$B$13:$BI$19,MATCH($I$7,GRID!$A$13:$A$19,0),MATCH(1,($U$2=GRID!$B$1:$BI$1)*(КАЛЕНДАРЬ!$AQ15=GRID!$B$3:$BI$3), 0))*(1-GRID!$B$29))} -> 24300 | K9: {=IF($I$2="Открытый тариф", INDEX(GRID!$B$4:$BI$10,MATCH($K$7,GRID!$A$4:$A$10,0),MATCH(1,($U$2=GRID!$B$1:$BI$1)*(КАЛЕНДАРЬ!AQ15=GRID!$B$3:$BI$3), 0)), INDEX(GRID!$B$4:$BI$10,MATCH($K$7,GRID!$A$4:$A$10,0),MATCH(1,($U$2=GRID!$B$1:$BI$1)*(КАЛЕНДАРЬ!AQ15=GRID!$B$3:$BI$3), 0))*(1-GRID!$B$29))} -> 29500 | L9: {=IF($I$2="Открытый тариф", INDEX(GRID!$B$13:$BI$19,MATCH($K$7,GRID!$A$13:$A$19,0),MATCH(1,($U$2=GRID!$B$1:$BI$1)*(КАЛЕНДАРЬ!$AQ15=GRID!$B$3:$BI$3), 0)), INDEX(GRID!$B$13:$BI$19,MATCH($K$7,GRID!$A$13:$A$19,0),MATCH(1,($U$2=GRID!$B$1:$BI$1)*(КАЛЕНДАРЬ!$AQ15=GRID!$B$3:$BI$3), 0))*(1-GRID!$B$29))} -> 32800 | M9: {=IF($I$2="Открытый тариф", INDEX(GRID!$B$4:$BI$10,MATCH($M$7,GRID!$A$4:$A$10,0),MATCH(1,($U$2=GRID!$B$1:$BI$1)*(КАЛЕНДАРЬ!AQ15=GRID!$B$3:$BI$3), 0)), INDEX(GRID!$B$4:$BI$10,MATCH($M$7,GRID!$A$4:$A$10,0),MATCH(1,($U$2=GRID!$B$1:$BI$1)*(КАЛЕНДАРЬ!AQ15=GRID!$B$3:$BI$3), 0))*(1-GRID!$B$29))} -> 42300 | N9: {=IF($I$2="Открытый тариф", INDEX(GRID!$B$13:$BI$19,MATCH($M$7,GRID!$A$13:$A$19,0),MATCH(1,($U$2=GRID!$B$1:$BI$1)*(КАЛЕНДАРЬ!$AQ15=GRID!$B$3:$BI$3), 0)), INDEX(GRID!$B$13:$BI$19,MATCH($M$7,GRID!$A$13:$A$19,0),MATCH(1,($U$2=GRID!$B$1:$BI$1)*(КАЛЕНДАРЬ!$AQ15=GRID!$B$3:$BI$3), 0))*(1-GRID!$B$29))} -> 45600 | O9: {=IF($I$2="Открытый тариф", INDEX(GRID!$B$4:$BI$10,MATCH($O$7,GRID!$A$4:$A$10,0),MATCH(1,($U$2=GRID!$B$1:$BI$1)*(КАЛЕНДАРЬ!AQ15=GRID!$B$3:$BI$3), 0)), INDEX(GRID!$B$4:$BI$10,MATCH($O$7,GRID!$A$4:$A$10,0),MATCH(1,($U$2=GRID!$B$1:$BI$1)*(КАЛЕНДАРЬ!AQ15=GRID!$B$3:$BI$3), 0))*(1-GRID!$B$29))} -> 95400 | P9: {=IF($I$2="Открытый тариф", INDEX(GRID!$B$13:$BI$19,MATCH($O$7,GRID!$A$13:$A$19,0),MATCH(1,($U$2=GRID!$B$1:$BI$1)*(КАЛЕНДАРЬ!$AQ15=GRID!$B$3:$BI$3), 0)), INDEX(GRID!$B$13:$BI$19,MATCH($O$7,GRID!$A$13:$A$19,0),MATCH(1,($U$2=GRID!$B$1:$BI$1)*(КАЛЕНДАРЬ!$AQ15=GRID!$B$3:$BI$3), 0))*(1-GRID!$B$29))} -> 98700
A10: ПТ | B10: 13 | C10: {=IF($I$2="Открытый тариф", INDEX(GRID!$B$4:$BI$10,MATCH($C$7,GRID!$A$4:$A$10,0),MATCH(1,($U$2=GRID!$B$1:$BI$1)*(КАЛЕНДАРЬ!AQ16=GRID!$B$3:$BI$3), 0)), INDEX(GRID!$B$4:$BI$10,MATCH($C$7,GRID!$A$4:$A$10,0),MATCH(1,($U$2=GRID!$B$1:$BI$1)*(КАЛЕНДАРЬ!AQ16=GRID!$B$3:$BI$3), 0))*(1-GRID!$B$29))} -> 12800 | D10: {=IF($I$2="Открытый тариф", INDEX(GRID!$B$13:$BI$19,MATCH($C$7,GRID!$A$13:$A$19,0),MATCH(1,($U$2=GRID!$B$1:$BI$1)*(КАЛЕНДАРЬ!$AQ16=GRID!$B$3:$BI$3), 0)), INDEX(GRID!$B$13:$BI$19,MATCH($C$7,GRID!$A$13:$A$19,0),MATCH(1,($U$2=GRID!$B$1:$BI$1)*(КАЛЕНДАРЬ!$AQ16=GRID!$B$3:$BI$3), 0))*(1-GRID!$B$29))} -> 16100 | E10: {=IF($I$2="Открытый тариф", INDEX(GRID!$B$4:$BI$10,MATCH($E$7,GRID!$A$4:$A$10,0),MATCH(1,($U$2=GRID!$B$1:$BI$1)*(КАЛЕНДАРЬ!AQ16=GRID!$B$3:$BI$3), 0)), INDEX(GRID!$B$4:$BI$10,MATCH($E$7,GRID!$A$4:$A$10,0),MATCH(1,($U$2=GRID!$B$1:$BI$1)*(КАЛЕНДАРЬ!AQ16=GRID!$B$3:$BI$3), 0))*(1-GRID!$B$29))} -> 15700 | F10: {=IF($I$2="Открытый тариф", INDEX(GRID!$B$13:$BI$19,MATCH($E$7,GRID!$A$13:$A$19,0),MATCH(1,($U$2=GRID!$B$1:$BI$1)*(КАЛЕНДАРЬ!$AQ16=GRID!$B$3:$BI$3), 0)), INDEX(GRID!$B$13:$BI$19,MATCH($E$7,GRID!$A$13:$A$19,0),MATCH(1,($U$2=GRID!$B$1:$BI$1)*(КАЛЕНДАРЬ!$AQ16=GRID!$B$3:$BI$3), 0))*(1-GRID!$B$29))} -> 19000 | G10: {=IF($I$2="Открытый тариф", INDEX(GRID!$B$4:$BI$10,MATCH($G$7,GRID!$A$4:$A$10,0),MATCH(1,($U$2=GRID!$B$1:$BI$1)*(КАЛЕНДАРЬ!AQ16=GRID!$B$3:$BI$3), 0)), INDEX(GRID!$B$4:$BI$10,MATCH($G$7,GRID!$A$4:$A$10,0),MATCH(1,($U$2=GRID!$B$1:$BI$1)*(КАЛЕНДАРЬ!AQ16=GRID!$B$3:$BI$3), 0))*(1-GRID!$B$29))} -> 19200 | H10: {=IF($I$2="Открытый тариф", INDEX(GRID!$B$13:$BI$19,MATCH($G$7,GRID!$A$13:$A$19,0),MATCH(1,($U$2=GRID!$B$1:$BI$1)*(КАЛЕНДАРЬ!$AQ16=GRID!$B$3:$BI$3), 0)), INDEX(GRID!$B$13:$BI$19,MATCH($G$7,GRID!$A$13:$A$19,0),MATCH(1,($U$2=GRID!$B$1:$BI$1)*(КАЛЕНДАРЬ!$AQ16=GRID!$B$3:$BI$3), 0))*(1-GRID!$B$29))} -> 22500 | I10: {=IF($I$2="Открытый тариф", INDEX(GRID!$B$4:$BI$10,MATCH($I$7,GRID!$A$4:$A$10,0),MATCH(1,($U$2=GRID!$B$1:$BI$1)*(КАЛЕНДАРЬ!AQ16=GRID!$B$3:$BI$3), 0)), INDEX(GRID!$B$4:$BI$10,MATCH($I$7,GRID!$A$4:$A$10,0),MATCH(1,($U$2=GRID!$B$1:$BI$1)*(КАЛЕНДАРЬ!AQ16=GRID!$B$3:$BI$3), 0))*(1-GRID!$B$29))} -> 27300 | J10: {=IF($I$2="Открытый тариф", INDEX(GRID!$B$13:$BI$19,MATCH($I$7,GRID!$A$13:$A$19,0),MATCH(1,($U$2=GRID!$B$1:$BI$1)*(КАЛЕНДАРЬ!$AQ16=GRID!$B$3:$BI$3), 0)), INDEX(GRID!$B$13:$BI$19,MATCH($I$7,GRID!$A$13:$A$19,0),MATCH(1,($U$2=GRID!$B$1:$BI$1)*(КАЛЕНДАРЬ!$AQ16=GRID!$B$3:$BI$3), 0))*(1-GRID!$B$29))} -> 30600 | K10: {=IF($I$2="Открытый тариф", INDEX(GRID!$B$4:$BI$10,MATCH($K$7,GRID!$A$4:$A$10,0),MATCH(1,($U$2=GRID!$B$1:$BI$1)*(КАЛЕНДАРЬ!AQ16=GRID!$B$3:$BI$3), 0)), INDEX(GRID!$B$4:$BI$10,MATCH($K$7,GRID!$A$4:$A$10,0),MATCH(1,($U$2=GRID!$B$1:$BI$1)*(КАЛЕНДАРЬ!AQ16=GRID!$B$3:$BI$3), 0))*(1-GRID!$B$29))} -> 38800 | L10: {=IF($I$2="Открытый тариф", INDEX(GRID!$B$13:$BI$19,MATCH($K$7,GRID!$A$13:$A$19,0),MATCH(1,($U$2=GRID!$B$1:$BI$1)*(КАЛЕНДАРЬ!$AQ16=GRID!$B$3:$BI$3), 0)), INDEX(GRID!$B$13:$BI$19,MATCH($K$7,GRID!$A$13:$A$19,0),MATCH(1,($U$2=GRID!$B$1:$BI$1)*(КАЛЕНДАРЬ!$AQ16=GRID!$B$3:$BI$3), 0))*(1-GRID!$B$29))} -> 42100 | M10: {=IF($I$2="Открытый тариф", INDEX(GRID!$B$4:$BI$10,MATCH($M$7,GRID!$A$4:$A$10,0),MATCH(1,($U$2=GRID!$B$1:$BI$1)*(КАЛЕНДАРЬ!AQ16=GRID!$B$3:$BI$3), 0)), INDEX(GRID!$B$4:$BI$10,MATCH($M$7,GRID!$A$4:$A$10,0),MATCH(1,($U$2=GRID!$B$1:$BI$1)*(КАЛЕНДАРЬ!AQ16=GRID!$B$3:$BI$3), 0))*(1-GRID!$B$29))} -> 56100 | N10: {=IF($I$2="Открытый тариф", INDEX(GRID!$B$13:$BI$19,MATCH($M$7,GRID!$A$13:$A$19,0),MATCH(1,($U$2=GRID!$B$1:$BI$1)*(КАЛЕНДАРЬ!$AQ16=GRID!$B$3:$BI$3), 0)), INDEX(GRID!$B$13:$BI$19,MATCH($M$7,GRID!$A$13:$A$19,0),MATCH(1,($U$2=GRID!$B$1:$BI$1)*(КАЛЕНДАРЬ!$AQ16=GRID!$B$3:$BI$3), 0))*(1-GRID!$B$29))} -> 59400 | O10: {=IF($I$2="Открытый тариф", INDEX(GRID!$B$4:$BI$10,MATCH($O$7,GRID!$A$4:$A$10,0),MATCH(1,($U$2=GRID!$B$1:$BI$1)*(КАЛЕНДАРЬ!AQ16=GRID!$B$3:$BI$3), 0)), INDEX(GRID!$B$4:$BI$10,MATCH($O$7,GRID!$A$4:$A$10,0),MATCH(1,($U$2=GRID!$B$1:$BI$1)*(КАЛЕНДАРЬ!AQ16=GRID!$B$3:$BI$3), 0))*(1-GRID!$B$29))} -> 132000 | P10: {=IF($I$2="Открытый тариф", INDEX(GRID!$B$13:$BI$19,MATCH($O$7,GRID!$A$13:$A$19,0),MATCH(1,($U$2=GRID!$B$1:$BI$1)*(КАЛЕНДАРЬ!$AQ16=GRID!$B$3:$BI$3), 0)), INDEX(GRID!$B$13:$BI$19,MATCH($O$7,GRID!$A$13:$A$19,0),MATCH(1,($U$2=GRID!$B$1:$BI$1)*(КАЛЕНДАРЬ!$AQ16=GRID!$B$3:$BI$3), 0))*(1-GRID!$B$29))} -> 135300
A11: СБ | B11: 14 | C11: {=IF($I$2="Открытый тариф", INDEX(GRID!$B$4:$BI$10,MATCH($C$7,GRID!$A$4:$A$10,0),MATCH(1,($U$2=GRID!$B$1:$BI$1)*(КАЛЕНДАРЬ!AQ17=GRID!$B$3:$BI$3), 0)), INDEX(GRID!$B$4:$BI$10,MATCH($C$7,GRID!$A$4:$A$10,0),MATCH(1,($U$2=GRID!$B$1:$BI$1)*(КАЛЕНДАРЬ!AQ17=GRID!$B$3:$BI$3), 0))*(1-GRID!$B$29))} -> 12800 | D11: {=IF($I$2="Открытый тариф", INDEX(GRID!$B$13:$BI$19,MATCH($C$7,GRID!$A$13:$A$19,0),MATCH(1,($U$2=GRID!$B$1:$BI$1)*(КАЛЕНДАРЬ!$AQ17=GRID!$B$3:$BI$3), 0)), INDEX(GRID!$B$13:$BI$19,MATCH($C$7,GRID!$A$13:$A$19,0),MATCH(1,($U$2=GRID!$B$1:$BI$1)*(КАЛЕНДАРЬ!$AQ17=GRID!$B$3:$BI$3), 0))*(1-GRID!$B$29))} -> 16100 | E11: {=IF($I$2="Открытый тариф", INDEX(GRID!$B$4:$BI$10,MATCH($E$7,GRID!$A$4:$A$10,0),MATCH(1,($U$2=GRID!$B$1:$BI$1)*(КАЛЕНДАРЬ!AQ17=GRID!$B$3:$BI$3), 0)), INDEX(GRID!$B$4:$BI$10,MATCH($E$7,GRID!$A$4:$A$10,0),MATCH(1,($U$2=GRID!$B$1:$BI$1)*(КАЛЕНДАРЬ!AQ17=GRID!$B$3:$BI$3), 0))*(1-GRID!$B$29))} -> 15700 | F11: {=IF($I$2="Открытый тариф", INDEX(GRID!$B$13:$BI$19,MATCH($E$7,GRID!$A$13:$A$19,0),MATCH(1,($U$2=GRID!$B$1:$BI$1)*(КАЛЕНДАРЬ!$AQ17=GRID!$B$3:$BI$3), 0)), INDEX(GRID!$B$13:$BI$19,MATCH($E$7,GRID!$A$13:$A$19,0),MATCH(1,($U$2=GRID!$B$1:$BI$1)*(КАЛЕНДАРЬ!$AQ17=GRID!$B$3:$BI$3), 0))*(1-GRID!$B$29))} -> 19000 | G11: {=IF($I$2="Открытый тариф", INDEX(GRID!$B$4:$BI$10,MATCH($G$7,GRID!$A$4:$A$10,0),MATCH(1,($U$2=GRID!$B$1:$BI$1)*(КАЛЕНДАРЬ!AQ17=GRID!$B$3:$BI$3), 0)), INDEX(GRID!$B$4:$BI$10,MATCH($G$7,GRID!$A$4:$A$10,0),MATCH(1,($U$2=GRID!$B$1:$BI$1)*(КАЛЕНДАРЬ!AQ17=GRID!$B$3:$BI$3), 0))*(1-GRID!$B$29))} -> 19200 | H11: {=IF($I$2="Открытый тариф", INDEX(GRID!$B$13:$BI$19,MATCH($G$7,GRID!$A$13:$A$19,0),MATCH(1,($U$2=GRID!$B$1:$BI$1)*(КАЛЕНДАРЬ!$AQ17=GRID!$B$3:$BI$3), 0)), INDEX(GRID!$B$13:$BI$19,MATCH($G$7,GRID!$A$13:$A$19,0),MATCH(1,($U$2=GRID!$B$1:$BI$1)*(КАЛЕНДАРЬ!$AQ17=GRID!$B$3:$BI$3), 0))*(1-GRID!$B$29))} -> 22500 | I11: {=IF($I$2="Открытый тариф", INDEX(GRID!$B$4:$BI$10,MATCH($I$7,GRID!$A$4:$A$10,0),MATCH(1,($U$2=GRID!$B$1:$BI$1)*(КАЛЕНДАРЬ!AQ17=GRID!$B$3:$BI$3), 0)), INDEX(GRID!$B$4:$BI$10,MATCH($I$7,GRID!$A$4:$A$10,0),MATCH(1,($U$2=GRID!$B$1:$BI$1)*(КАЛЕНДАРЬ!AQ17=GRID!$B$3:$BI$3), 0))*(1-GRID!$B$29))} -> 27300 | J11: {=IF($I$2="Открытый тариф", INDEX(GRID!$B$13:$BI$19,MATCH($I$7,GRID!$A$13:$A$19,0),MATCH(1,($U$2=GRID!$B$1:$BI$1)*(КАЛЕНДАРЬ!$AQ17=GRID!$B$3:$BI$3), 0)), INDEX(GRID!$B$13:$BI$19,MATCH($I$7,GRID!$A$13:$A$19,0),MATCH(1,($U$2=GRID!$B$1:$BI$1)*(КАЛЕНДАРЬ!$AQ17=GRID!$B$3:$BI$3), 0))*(1-GRID!$B$29))} -> 30600 | K11: {=IF($I$2="Открытый тариф", INDEX(GRID!$B$4:$BI$10,MATCH($K$7,GRID!$A$4:$A$10,0),MATCH(1,($U$2=GRID!$B$1:$BI$1)*(КАЛЕНДАРЬ!AQ17=GRID!$B$3:$BI$3), 0)), INDEX(GRID!$B$4:$BI$10,MATCH($K$7,GRID!$A$4:$A$10,0),MATCH(1,($U$2=GRID!$B$1:$BI$1)*(КАЛЕНДАРЬ!AQ17=GRID!$B$3:$BI$3), 0))*(1-GRID!$B$29))} -> 38800 | L11: {=IF($I$2="Открытый тариф", INDEX(GRID!$B$13:$BI$19,MATCH($K$7,GRID!$A$13:$A$19,0),MATCH(1,($U$2=GRID!$B$1:$BI$1)*(КАЛЕНДАРЬ!$AQ17=GRID!$B$3:$BI$3), 0)), INDEX(GRID!$B$13:$BI$19,MATCH($K$7,GRID!$A$13:$A$19,0),MATCH(1,($U$2=GRID!$B$1:$BI$1)*(КАЛЕНДАРЬ!$AQ17=GRID!$B$3:$BI$3), 0))*(1-GRID!$B$29))} -> 42100 | M11: {=IF($I$2="Открытый тариф", INDEX(GRID!$B$4:$BI$10,MATCH($M$7,GRID!$A$4:$A$10,0),MATCH(1,($U$2=GRID!$B$1:$BI$1)*(КАЛЕНДАРЬ!AQ17=GRID!$B$3:$BI$3), 0)), INDEX(GRID!$B$4:$BI$10,MATCH($M$7,GRID!$A$4:$A$10,0),MATCH(1,($U$2=GRID!$B$1:$BI$1)*(КАЛЕНДАРЬ!AQ17=GRID!$B$3:$BI$3), 0))*(1-GRID!$B$29))} -> 56100 | N11: {=IF($I$2="Открытый тариф", INDEX(GRID!$B$13:$BI$19,MATCH($M$7,GRID!$A$13:$A$19,0),MATCH(1,($U$2=GRID!$B$1:$BI$1)*(КАЛЕНДАРЬ!$AQ17=GRID!$B$3:$BI$3), 0)), INDEX(GRID!$B$13:$BI$19,MATCH($M$7,GRID!$A$13:$A$19,0),MATCH(1,($U$2=GRID!$B$1:$BI$1)*(КАЛЕНДАРЬ!$AQ17=GRID!$B$3:$BI$3), 0))*(1-GRID!$B$29))} -> 59400 | O11: {=IF($I$2="Открытый тариф", INDEX(GRID!$B$4:$BI$10,MATCH($O$7,GRID!$A$4:$A$10,0),MATCH(1,($U$2=GRID!$B$1:$BI$1)*(КАЛЕНДАРЬ!AQ17=GRID!$B$3:$BI$3), 0)), INDEX(GRID!$B$4:$BI$10,MATCH($O$7,GRID!$A$4:$A$10,0),MATCH(1,($U$2=GRID!$B$1:$BI$1)*(КАЛЕНДАРЬ!AQ17=GRID!$B$3:$BI$3), 0))*(1-GRID!$B$29))} -> 132000 | P11: {=IF($I$2="Открытый тариф", INDEX(GRID!$B$13:$BI$19,MATCH($O$7,GRID!$A$13:$A$19,0),MATCH(1,($U$2=GRID!$B$1:$BI$1)*(КАЛЕНДАРЬ!$AQ17=GRID!$B$3:$BI$3), 0)), INDEX(GRID!$B$13:$BI$19,MATCH($O$7,GRID!$A$13:$A$19,0),MATCH(1,($U$2=GRID!$B$1:$BI$1)*(КАЛЕНДАРЬ!$AQ17=GRID!$B$3:$BI$3), 0))*(1-GRID!$B$29))} -> 135300
A12: ВС | B12: 15 | C12: {=IF($I$2="Открытый тариф", INDEX(GRID!$B$4:$BI$10,MATCH($C$7,GRID!$A$4:$A$10,0),MATCH(1,($U$2=GRID!$B$1:$BI$1)*(КАЛЕНДАРЬ!AQ18=GRID!$B$3:$BI$3), 0)), INDEX(GRID!$B$4:$BI$10,MATCH($C$7,GRID!$A$4:$A$10,0),MATCH(1,($U$2=GRID!$B$1:$BI$1)*(КАЛЕНДАРЬ!AQ18=GRID!$B$3:$BI$3), 0))*(1-GRID!$B$29))} -> 10200 | D12: {=IF($I$2="Открытый тариф", INDEX(GRID!$B$13:$BI$19,MATCH($C$7,GRID!$A$13:$A$19,0),MATCH(1,($U$2=GRID!$B$1:$BI$1)*(КАЛЕНДАРЬ!$AQ18=GRID!$B$3:$BI$3), 0)), INDEX(GRID!$B$13:$BI$19,MATCH($C$7,GRID!$A$13:$A$19,0),MATCH(1,($U$2=GRID!$B$1:$BI$1)*(КАЛЕНДАРЬ!$AQ18=GRID!$B$3:$BI$3), 0))*(1-GRID!$B$29))} -> 13500 | E12: {=IF($I$2="Открытый тариф", INDEX(GRID!$B$4:$BI$10,MATCH($E$7,GRID!$A$4:$A$10,0),MATCH(1,($U$2=GRID!$B$1:$BI$1)*(КАЛЕНДАРЬ!AQ18=GRID!$B$3:$BI$3), 0)), INDEX(GRID!$B$4:$BI$10,MATCH($E$7,GRID!$A$4:$A$10,0),MATCH(1,($U$2=GRID!$B$1:$BI$1)*(КАЛЕНДАРЬ!AQ18=GRID!$B$3:$BI$3), 0))*(1-GRID!$B$29))} -> 12400 | F12: {=IF($I$2="Открытый тариф", INDEX(GRID!$B$13:$BI$19,MATCH($E$7,GRID!$A$13:$A$19,0),MATCH(1,($U$2=GRID!$B$1:$BI$1)*(КАЛЕНДАРЬ!$AQ18=GRID!$B$3:$BI$3), 0)), INDEX(GRID!$B$13:$BI$19,MATCH($E$7,GRID!$A$13:$A$19,0),MATCH(1,($U$2=GRID!$B$1:$BI$1)*(КАЛЕНДАРЬ!$AQ18=GRID!$B$3:$BI$3), 0))*(1-GRID!$B$29))} -> 15700 | G12: {=IF($I$2="Открытый тариф", INDEX(GRID!$B$4:$BI$10,MATCH($G$7,GRID!$A$4:$A$10,0),MATCH(1,($U$2=GRID!$B$1:$BI$1)*(КАЛЕНДАРЬ!AQ18=GRID!$B$3:$BI$3), 0)), INDEX(GRID!$B$4:$BI$10,MATCH($G$7,GRID!$A$4:$A$10,0),MATCH(1,($U$2=GRID!$B$1:$BI$1)*(КАЛЕНДАРЬ!AQ18=GRID!$B$3:$BI$3), 0))*(1-GRID!$B$29))} -> 15000 | H12: {=IF($I$2="Открытый тариф", INDEX(GRID!$B$13:$BI$19,MATCH($G$7,GRID!$A$13:$A$19,0),MATCH(1,($U$2=GRID!$B$1:$BI$1)*(КАЛЕНДАРЬ!$AQ18=GRID!$B$3:$BI$3), 0)), INDEX(GRID!$B$13:$BI$19,MATCH($G$7,GRID!$A$13:$A$19,0),MATCH(1,($U$2=GRID!$B$1:$BI$1)*(КАЛЕНДАРЬ!$AQ18=GRID!$B$3:$BI$3), 0))*(1-GRID!$B$29))} -> 18300 | I12: {=IF($I$2="Открытый тариф", INDEX(GRID!$B$4:$BI$10,MATCH($I$7,GRID!$A$4:$A$10,0),MATCH(1,($U$2=GRID!$B$1:$BI$1)*(КАЛЕНДАРЬ!AQ18=GRID!$B$3:$BI$3), 0)), INDEX(GRID!$B$4:$BI$10,MATCH($I$7,GRID!$A$4:$A$10,0),MATCH(1,($U$2=GRID!$B$1:$BI$1)*(КАЛЕНДАРЬ!AQ18=GRID!$B$3:$BI$3), 0))*(1-GRID!$B$29))} -> 21000 | J12: {=IF($I$2="Открытый тариф", INDEX(GRID!$B$13:$BI$19,MATCH($I$7,GRID!$A$13:$A$19,0),MATCH(1,($U$2=GRID!$B$1:$BI$1)*(КАЛЕНДАРЬ!$AQ18=GRID!$B$3:$BI$3), 0)), INDEX(GRID!$B$13:$BI$19,MATCH($I$7,GRID!$A$13:$A$19,0),MATCH(1,($U$2=GRID!$B$1:$BI$1)*(КАЛЕНДАРЬ!$AQ18=GRID!$B$3:$BI$3), 0))*(1-GRID!$B$29))} -> 24300 | K12: {=IF($I$2="Открытый тариф", INDEX(GRID!$B$4:$BI$10,MATCH($K$7,GRID!$A$4:$A$10,0),MATCH(1,($U$2=GRID!$B$1:$BI$1)*(КАЛЕНДАРЬ!AQ18=GRID!$B$3:$BI$3), 0)), INDEX(GRID!$B$4:$BI$10,MATCH($K$7,GRID!$A$4:$A$10,0),MATCH(1,($U$2=GRID!$B$1:$BI$1)*(КАЛЕНДАРЬ!AQ18=GRID!$B$3:$BI$3), 0))*(1-GRID!$B$29))} -> 29500 | L12: {=IF($I$2="Открытый тариф", INDEX(GRID!$B$13:$BI$19,MATCH($K$7,GRID!$A$13:$A$19,0),MATCH(1,($U$2=GRID!$B$1:$BI$1)*(КАЛЕНДАРЬ!$AQ18=GRID!$B$3:$BI$3), 0)), INDEX(GRID!$B$13:$BI$19,MATCH($K$7,GRID!$A$13:$A$19,0),MATCH(1,($U$2=GRID!$B$1:$BI$1)*(КАЛЕНДАРЬ!$AQ18=GRID!$B$3:$BI$3), 0))*(1-GRID!$B$29))} -> 32800 | M12: {=IF($I$2="Открытый тариф", INDEX(GRID!$B$4:$BI$10,MATCH($M$7,GRID!$A$4:$A$10,0),MATCH(1,($U$2=GRID!$B$1:$BI$1)*(КАЛЕНДАРЬ!AQ18=GRID!$B$3:$BI$3), 0)), INDEX(GRID!$B$4:$BI$10,MATCH($M$7,GRID!$A$4:$A$10,0),MATCH(1,($U$2=GRID!$B$1:$BI$1)*(КАЛЕНДАРЬ!AQ18=GRID!$B$3:$BI$3), 0))*(1-GRID!$B$29))} -> 42300 | N12: {=IF($I$2="Открытый тариф", INDEX(GRID!$B$13:$BI$19,MATCH($M$7,GRID!$A$13:$A$19,0),MATCH(1,($U$2=GRID!$B$1:$BI$1)*(КАЛЕНДАРЬ!$AQ18=GRID!$B$3:$BI$3), 0)), INDEX(GRID!$B$13:$BI$19,MATCH($M$7,GRID!$A$13:$A$19,0),MATCH(1,($U$2=GRID!$B$1:$BI$1)*(КАЛЕНДАРЬ!$AQ18=GRID!$B$3:$BI$3), 0))*(1-GRID!$B$29))} -> 45600 | O12: {=IF($I$2="Открытый тариф", INDEX(GRID!$B$4:$BI$10,MATCH($O$7,GRID!$A$4:$A$10,0),MATCH(1,($U$2=GRID!$B$1:$BI$1)*(КАЛЕНДАРЬ!AQ18=GRID!$B$3:$BI$3), 0)), INDEX(GRID!$B$4:$BI$10,MATCH($O$7,GRID!$A$4:$A$10,0),MATCH(1,($U$2=GRID!$B$1:$BI$1)*(КАЛЕНДАРЬ!AQ18=GRID!$B$3:$BI$3), 0))*(1-GRID!$B$29))} -> 95400 | P12: {=IF($I$2="Открытый тариф", INDEX(GRID!$B$13:$BI$19,MATCH($O$7,GRID!$A$13:$A$19,0),MATCH(1,($U$2=GRID!$B$1:$BI$1)*(КАЛЕНДАРЬ!$AQ18=GRID!$B$3:$BI$3), 0)), INDEX(GRID!$B$13:$BI$19,MATCH($O$7,GRID!$A$13:$A$19,0),MATCH(1,($U$2=GRID!$B$1:$BI$1)*(КАЛЕНДАРЬ!$AQ18=GRID!$B$3:$BI$3), 0))*(1-GRID!$B$29))} -> 98700
A13: ПН | B13: 16 | C13: {=IF($I$2="Открытый тариф", INDEX(GRID!$B$4:$BI$10,MATCH($C$7,GRID!$A$4:$A$10,0),MATCH(1,($U$2=GRID!$B$1:$BI$1)*(КАЛЕНДАРЬ!AQ19=GRID!$B$3:$BI$3), 0)), INDEX(GRID!$B$4:$BI$10,MATCH($C$7,GRID!$A$4:$A$10,0),MATCH(1,($U$2=GRID!$B$1:$BI$1)*(КАЛЕНДАРЬ!AQ19=GRID!$B$3:$BI$3), 0))*(1-GRID!$B$29))} -> 10200 | D13: {=IF($I$2="Открытый тариф", INDEX(GRID!$B$13:$BI$19,MATCH($C$7,GRID!$A$13:$A$19,0),MATCH(1,($U$2=GRID!$B$1:$BI$1)*(КАЛЕНДАРЬ!$AQ19=GRID!$B$3:$BI$3), 0)), INDEX(GRID!$B$13:$BI$19,MATCH($C$7,GRID!$A$13:$A$19,0),MATCH(1,($U$2=GRID!$B$1:$BI$1)*(КАЛЕНДАРЬ!$AQ19=GRID!$B$3:$BI$3), 0))*(1-GRID!$B$29))} -> 13500 | E13: {=IF($I$2="Открытый тариф", INDEX(GRID!$B$4:$BI$10,MATCH($E$7,GRID!$A$4:$A$10,0),MATCH(1,($U$2=GRID!$B$1:$BI$1)*(КАЛЕНДАРЬ!AQ19=GRID!$B$3:$BI$3), 0)), INDEX(GRID!$B$4:$BI$10,MATCH($E$7,GRID!$A$4:$A$10,0),MATCH(1,($U$2=GRID!$B$1:$BI$1)*(КАЛЕНДАРЬ!AQ19=GRID!$B$3:$BI$3), 0))*(1-GRID!$B$29))} -> 12400 | F13: {=IF($I$2="Открытый тариф", INDEX(GRID!$B$13:$BI$19,MATCH($E$7,GRID!$A$13:$A$19,0),MATCH(1,($U$2=GRID!$B$1:$BI$1)*(КАЛЕНДАРЬ!$AQ19=GRID!$B$3:$BI$3), 0)), INDEX(GRID!$B$13:$BI$19,MATCH($E$7,GRID!$A$13:$A$19,0),MATCH(1,($U$2=GRID!$B$1:$BI$1)*(КАЛЕНДАРЬ!$AQ19=GRID!$B$3:$BI$3), 0))*(1-GRID!$B$29))} -> 15700 | G13: {=IF($I$2="Открытый тариф", INDEX(GRID!$B$4:$BI$10,MATCH($G$7,GRID!$A$4:$A$10,0),MATCH(1,($U$2=GRID!$B$1:$BI$1)*(КАЛЕНДАРЬ!AQ19=GRID!$B$3:$BI$3), 0)), INDEX(GRID!$B$4:$BI$10,MATCH($G$7,GRID!$A$4:$A$10,0),MATCH(1,($U$2=GRID!$B$1:$BI$1)*(КАЛЕНДАРЬ!AQ19=GRID!$B$3:$BI$3), 0))*(1-GRID!$B$29))} -> 15000 | H13: {=IF($I$2="Открытый тариф", INDEX(GRID!$B$13:$BI$19,MATCH($G$7,GRID!$A$13:$A$19,0),MATCH(1,($U$2=GRID!$B$1:$BI$1)*(КАЛЕНДАРЬ!$AQ19=GRID!$B$3:$BI$3), 0)), INDEX(GRID!$B$13:$BI$19,MATCH($G$7,GRID!$A$13:$A$19,0),MATCH(1,($U$2=GRID!$B$1:$BI$1)*(КАЛЕНДАРЬ!$AQ19=GRID!$B$3:$BI$3), 0))*(1-GRID!$B$29))} -> 18300 | I13: {=IF($I$2="Открытый тариф", INDEX(GRID!$B$4:$BI$10,MATCH($I$7,GRID!$A$4:$A$10,0),MATCH(1,($U$2=GRID!$B$1:$BI$1)*(КАЛЕНДАРЬ!AQ19=GRID!$B$3:$BI$3), 0)), INDEX(GRID!$B$4:$BI$10,MATCH($I$7,GRID!$A$4:$A$10,0),MATCH(1,($U$2=GRID!$B$1:$BI$1)*(КАЛЕНДАРЬ!AQ19=GRID!$B$3:$BI$3), 0))*(1-GRID!$B$29))} -> 21000 | J13: {=IF($I$2="Открытый тариф", INDEX(GRID!$B$13:$BI$19,MATCH($I$7,GRID!$A$13:$A$19,0),MATCH(1,($U$2=GRID!$B$1:$BI$1)*(КАЛЕНДАРЬ!$AQ19=GRID!$B$3:$BI$3), 0)), INDEX(GRID!$B$13:$BI$19,MATCH($I$7,GRID!$A$13:$A$19,0),MATCH(1,($U$2=GRID!$B$1:$BI$1)*(КАЛЕНДАРЬ!$AQ19=GRID!$B$3:$BI$3), 0))*(1-GRID!$B$29))} -> 24300 | K13: {=IF($I$2="Открытый тариф", INDEX(GRID!$B$4:$BI$10,MATCH($K$7,GRID!$A$4:$A$10,0),MATCH(1,($U$2=GRID!$B$1:$BI$1)*(КАЛЕНДАРЬ!AQ19=GRID!$B$3:$BI$3), 0)), INDEX(GRID!$B$4:$BI$10,MATCH($K$7,GRID!$A$4:$A$10,0),MATCH(1,($U$2=GRID!$B$1:$BI$1)*(КАЛЕНДАРЬ!AQ19=GRID!$B$3:$BI$3), 0))*(1-GRID!$B$29))} -> 29500 | L13: {=IF($I$2="Открытый тариф", INDEX(GRID!$B$13:$BI$19,MATCH($K$7,GRID!$A$13:$A$19,0),MATCH(1,($U$2=GRID!$B$1:$BI$1)*(КАЛЕНДАРЬ!$AQ19=GRID!$B$3:$BI$3), 0)), INDEX(GRID!$B$13:$BI$19,MATCH($K$7,GRID!$A$13:$A$19,0),MATCH(1,($U$2=GRID!$B$1:$BI$1)*(КАЛЕНДАРЬ!$AQ19=GRID!$B$3:$BI$3), 0))*(1-GRID!$B$29))} -> 32800 | M13: {=IF($I$2="Открытый тариф", INDEX(GRID!$B$4:$BI$10,MATCH($M$7,GRID!$A$4:$A$10,0),MATCH(1,($U$2=GRID!$B$1:$BI$1)*(КАЛЕНДАРЬ!AQ19=GRID!$B$3:$BI$3), 0)), INDEX(GRID!$B$4:$BI$10,MATCH($M$7,GRID!$A$4:$A$10,0),MATCH(1,($U$2=GRID!$B$1:$BI$1)*(КАЛЕНДАРЬ!AQ19=GRID!$B$3:$BI$3), 0))*(1-GRID!$B$29))} -> 42300 | N13: {=IF($I$2="Открытый тариф", INDEX(GRID!$B$13:$BI$19,MATCH($M$7,GRID!$A$13:$A$19,0),MATCH(1,($U$2=GRID!$B$1:$BI$1)*(КАЛЕНДАРЬ!$AQ19=GRID!$B$3:$BI$3), 0)), INDEX(GRID!$B$13:$BI$19,MATCH($M$7,GRID!$A$13:$A$19,0),MATCH(1,($U$2=GRID!$B$1:$BI$1)*(КАЛЕНДАРЬ!$AQ19=GRID!$B$3:$BI$3), 0))*(1-GRID!$B$29))} -> 45600 | O13: {=IF($I$2="Открытый тариф", INDEX(GRID!$B$4:$BI$10,MATCH($O$7,GRID!$A$4:$A$10,0),MATCH(1,($U$2=GRID!$B$1:$BI$1)*(КАЛЕНДАРЬ!AQ19=GRID!$B$3:$BI$3), 0)), INDEX(GRID!$B$4:$BI$10,MATCH($O$7,GRID!$A$4:$A$10,0),MATCH(1,($U$2=GRID!$B$1:$BI$1)*(КАЛЕНДАРЬ!AQ19=GRID!$B$3:$BI$3), 0))*(1-GRID!$B$29))} -> 95400 | P13: {=IF($I$2="Открытый тариф", INDEX(GRID!$B$13:$BI$19,MATCH($O$7,GRID!$A$13:$A$19,0),MATCH(1,($U$2=GRID!$B$1:$BI$1)*(КАЛЕНДАРЬ!$AQ19=GRID!$B$3:$BI$3), 0)), INDEX(GRID!$B$13:$BI$19,MATCH($O$7,GRID!$A$13:$A$19,0),MATCH(1,($U$2=GRID!$B$1:$BI$1)*(КАЛЕНДАРЬ!$AQ19=GRID!$B$3:$BI$3), 0))*(1-GRID!$B$29))} -> 98700
A14: ВТ | B14: 17 | C14: {=IF($I$2="Открытый тариф", INDEX(GRID!$B$4:$BI$10,MATCH($C$7,GRID!$A$4:$A$10,0),MATCH(1,($U$2=GRID!$B$1:$BI$1)*(КАЛЕНДАРЬ!AQ20=GRID!$B$3:$BI$3), 0)), INDEX(GRID!$B$4:$BI$10,MATCH($C$7,GRID!$A$4:$A$10,0),MATCH(1,($U$2=GRID!$B$1:$BI$1)*(КАЛЕНДАРЬ!AQ20=GRID!$B$3:$BI$3), 0))*(1-GRID!$B$29))} -> 10200 | D14: {=IF($I$2="Открытый тариф", INDEX(GRID!$B$13:$BI$19,MATCH($C$7,GRID!$A$13:$A$19,0),MATCH(1,($U$2=GRID!$B$1:$BI$1)*(КАЛЕНДАРЬ!$AQ20=GRID!$B$3:$BI$3), 0)), INDEX(GRID!$B$13:$BI$19,MATCH($C$7,GRID!$A$13:$A$19,0),MATCH(1,($U$2=GRID!$B$1:$BI$1)*(КАЛЕНДАРЬ!$AQ20=GRID!$B$3:$BI$3), 0))*(1-GRID!$B$29))} -> 13500 | E14: {=IF($I$2="Открытый тариф", INDEX(GRID!$B$4:$BI$10,MATCH($E$7,GRID!$A$4:$A$10,0),MATCH(1,($U$2=GRID!$B$1:$BI$1)*(КАЛЕНДАРЬ!AQ20=GRID!$B$3:$BI$3), 0)), INDEX(GRID!$B$4:$BI$10,MATCH($E$7,GRID!$A$4:$A$10,0),MATCH(1,($U$2=GRID!$B$1:$BI$1)*(КАЛЕНДАРЬ!AQ20=GRID!$B$3:$BI$3), 0))*(1-GRID!$B$29))} -> 12400 | F14: {=IF($I$2="Открытый тариф", INDEX(GRID!$B$13:$BI$19,MATCH($E$7,GRID!$A$13:$A$19,0),MATCH(1,($U$2=GRID!$B$1:$BI$1)*(КАЛЕНДАРЬ!$AQ20=GRID!$B$3:$BI$3), 0)), INDEX(GRID!$B$13:$BI$19,MATCH($E$7,GRID!$A$13:$A$19,0),MATCH(1,($U$2=GRID!$B$1:$BI$1)*(КАЛЕНДАРЬ!$AQ20=GRID!$B$3:$BI$3), 0))*(1-GRID!$B$29))} -> 15700 | G14: {=IF($I$2="Открытый тариф", INDEX(GRID!$B$4:$BI$10,MATCH($G$7,GRID!$A$4:$A$10,0),MATCH(1,($U$2=GRID!$B$1:$BI$1)*(КАЛЕНДАРЬ!AQ20=GRID!$B$3:$BI$3), 0)), INDEX(GRID!$B$4:$BI$10,MATCH($G$7,GRID!$A$4:$A$10,0),MATCH(1,($U$2=GRID!$B$1:$BI$1)*(КАЛЕНДАРЬ!AQ20=GRID!$B$3:$BI$3), 0))*(1-GRID!$B$29))} -> 15000 | H14: {=IF($I$2="Открытый тариф", INDEX(GRID!$B$13:$BI$19,MATCH($G$7,GRID!$A$13:$A$19,0),MATCH(1,($U$2=GRID!$B$1:$BI$1)*(КАЛЕНДАРЬ!$AQ20=GRID!$B$3:$BI$3), 0)), INDEX(GRID!$B$13:$BI$19,MATCH($G$7,GRID!$A$13:$A$19,0),MATCH(1,($U$2=GRID!$B$1:$BI$1)*(КАЛЕНДАРЬ!$AQ20=GRID!$B$3:$BI$3), 0))*(1-GRID!$B$29))} -> 18300 | I14: {=IF($I$2="Открытый тариф", INDEX(GRID!$B$4:$BI$10,MATCH($I$7,GRID!$A$4:$A$10,0),MATCH(1,($U$2=GRID!$B$1:$BI$1)*(КАЛЕНДАРЬ!AQ20=GRID!$B$3:$BI$3), 0)), INDEX(GRID!$B$4:$BI$10,MATCH($I$7,GRID!$A$4:$A$10,0),MATCH(1,($U$2=GRID!$B$1:$BI$1)*(КАЛЕНДАРЬ!AQ20=GRID!$B$3:$BI$3), 0))*(1-GRID!$B$29))} -> 21000 | J14: {=IF($I$2="Открытый тариф", INDEX(GRID!$B$13:$BI$19,MATCH($I$7,GRID!$A$13:$A$19,0),MATCH(1,($U$2=GRID!$B$1:$BI$1)*(КАЛЕНДАРЬ!$AQ20=GRID!$B$3:$BI$3), 0)), INDEX(GRID!$B$13:$BI$19,MATCH($I$7,GRID!$A$13:$A$19,0),MATCH(1,($U$2=GRID!$B$1:$BI$1)*(КАЛЕНДАРЬ!$AQ20=GRID!$B$3:$BI$3), 0))*(1-GRID!$B$29))} -> 24300 | K14: {=IF($I$2="Открытый тариф", INDEX(GRID!$B$4:$BI$10,MATCH($K$7,GRID!$A$4:$A$10,0),MATCH(1,($U$2=GRID!$B$1:$BI$1)*(КАЛЕНДАРЬ!AQ20=GRID!$B$3:$BI$3), 0)), INDEX(GRID!$B$4:$BI$10,MATCH($K$7,GRID!$A$4:$A$10,0),MATCH(1,($U$2=GRID!$B$1:$BI$1)*(КАЛЕНДАРЬ!AQ20=GRID!$B$3:$BI$3), 0))*(1-GRID!$B$29))} -> 29500 | L14: {=IF($I$2="Открытый тариф", INDEX(GRID!$B$13:$BI$19,MATCH($K$7,GRID!$A$13:$A$19,0),MATCH(1,($U$2=GRID!$B$1:$BI$1)*(КАЛЕНДАРЬ!$AQ20=GRID!$B$3:$BI$3), 0)), INDEX(GRID!$B$13:$BI$19,MATCH($K$7,GRID!$A$13:$A$19,0),MATCH(1,($U$2=GRID!$B$1:$BI$1)*(КАЛЕНДАРЬ!$AQ20=GRID!$B$3:$BI$3), 0))*(1-GRID!$B$29))} -> 32800 | M14: {=IF($I$2="Открытый тариф", INDEX(GRID!$B$4:$BI$10,MATCH($M$7,GRID!$A$4:$A$10,0),MATCH(1,($U$2=GRID!$B$1:$BI$1)*(КАЛЕНДАРЬ!AQ20=GRID!$B$3:$BI$3), 0)), INDEX(GRID!$B$4:$BI$10,MATCH($M$7,GRID!$A$4:$A$10,0),MATCH(1,($U$2=GRID!$B$1:$BI$1)*(КАЛЕНДАРЬ!AQ20=GRID!$B$3:$BI$3), 0))*(1-GRID!$B$29))} -> 42300 | N14: {=IF($I$2="Открытый тариф", INDEX(GRID!$B$13:$BI$19,MATCH($M$7,GRID!$A$13:$A$19,0),MATCH(1,($U$2=GRID!$B$1:$BI$1)*(КАЛЕНДАРЬ!$AQ20=GRID!$B$3:$BI$3), 0)), INDEX(GRID!$B$13:$BI$19,MATCH($M$7,GRID!$A$13:$A$19,0),MATCH(1,($U$2=GRID!$B$1:$BI$1)*(КАЛЕНДАРЬ!$AQ20=GRID!$B$3:$BI$3), 0))*(1-GRID!$B$29))} -> 45600 | O14: {=IF($I$2="Открытый тариф", INDEX(GRID!$B$4:$BI$10,MATCH($O$7,GRID!$A$4:$A$10,0),MATCH(1,($U$2=GRID!$B$1:$BI$1)*(КАЛЕНДАРЬ!AQ20=GRID!$B$3:$BI$3), 0)), INDEX(GRID!$B$4:$BI$10,MATCH($O$7,GRID!$A$4:$A$10,0),MATCH(1,($U$2=GRID!$B$1:$BI$1)*(КАЛЕНДАРЬ!AQ20=GRID!$B$3:$BI$3), 0))*(1-GRID!$B$29))} -> 95400 | P14: {=IF($I$2="Открытый тариф", INDEX(GRID!$B$13:$BI$19,MATCH($O$7,GRID!$A$13:$A$19,0),MATCH(1,($U$2=GRID!$B$1:$BI$1)*(КАЛЕНДАРЬ!$AQ20=GRID!$B$3:$BI$3), 0)), INDEX(GRID!$B$13:$BI$19,MATCH($O$7,GRID!$A$13:$A$19,0),MATCH(1,($U$2=GRID!$B$1:$BI$1)*(КАЛЕНДАРЬ!$AQ20=GRID!$B$3:$BI$3), 0))*(1-GRID!$B$29))} -> 98700
A15: СР | B15: 18 | C15: {=IF($I$2="Открытый тариф", INDEX(GRID!$B$4:$BI$10,MATCH($C$7,GRID!$A$4:$A$10,0),MATCH(1,($U$2=GRID!$B$1:$BI$1)*(КАЛЕНДАРЬ!AQ21=GRID!$B$3:$BI$3), 0)), INDEX(GRID!$B$4:$BI$10,MATCH($C$7,GRID!$A$4:$A$10,0),MATCH(1,($U$2=GRID!$B$1:$BI$1)*(КАЛЕНДАРЬ!AQ21=GRID!$B$3:$BI$3), 0))*(1-GRID!$B$29))} -> 10200 | D15: {=IF($I$2="Открытый тариф", INDEX(GRID!$B$13:$BI$19,MATCH($C$7,GRID!$A$13:$A$19,0),MATCH(1,($U$2=GRID!$B$1:$BI$1)*(КАЛЕНДАРЬ!$AQ21=GRID!$B$3:$BI$3), 0)), INDEX(GRID!$B$13:$BI$19,MATCH($C$7,GRID!$A$13:$A$19,0),MATCH(1,($U$2=GRID!$B$1:$BI$1)*(КАЛЕНДАРЬ!$AQ21=GRID!$B$3:$BI$3), 0))*(1-GRID!$B$29))} -> 13500 | E15: {=IF($I$2="Открытый тариф", INDEX(GRID!$B$4:$BI$10,MATCH($E$7,GRID!$A$4:$A$10,0),MATCH(1,($U$2=GRID!$B$1:$BI$1)*(КАЛЕНДАРЬ!AQ21=GRID!$B$3:$BI$3), 0)), INDEX(GRID!$B$4:$BI$10,MATCH($E$7,GRID!$A$4:$A$10,0),MATCH(1,($U$2=GRID!$B$1:$BI$1)*(КАЛЕНДАРЬ!AQ21=GRID!$B$3:$BI$3), 0))*(1-GRID!$B$29))} -> 12400 | F15: {=IF($I$2="Открытый тариф", INDEX(GRID!$B$13:$BI$19,MATCH($E$7,GRID!$A$13:$A$19,0),MATCH(1,($U$2=GRID!$B$1:$BI$1)*(КАЛЕНДАРЬ!$AQ21=GRID!$B$3:$BI$3), 0)), INDEX(GRID!$B$13:$BI$19,MATCH($E$7,GRID!$A$13:$A$19,0),MATCH(1,($U$2=GRID!$B$1:$BI$1)*(КАЛЕНДАРЬ!$AQ21=GRID!$B$3:$BI$3), 0))*(1-GRID!$B$29))} -> 15700 | G15: {=IF($I$2="Открытый тариф", INDEX(GRID!$B$4:$BI$10,MATCH($G$7,GRID!$A$4:$A$10,0),MATCH(1,($U$2=GRID!$B$1:$BI$1)*(КАЛЕНДАРЬ!AQ21=GRID!$B$3:$BI$3), 0)), INDEX(GRID!$B$4:$BI$10,MATCH($G$7,GRID!$A$4:$A$10,0),MATCH(1,($U$2=GRID!$B$1:$BI$1)*(КАЛЕНДАРЬ!AQ21=GRID!$B$3:$BI$3), 0))*(1-GRID!$B$29))} -> 15000 | H15: {=IF($I$2="Открытый тариф", INDEX(GRID!$B$13:$BI$19,MATCH($G$7,GRID!$A$13:$A$19,0),MATCH(1,($U$2=GRID!$B$1:$BI$1)*(КАЛЕНДАРЬ!$AQ21=GRID!$B$3:$BI$3), 0)), INDEX(GRID!$B$13:$BI$19,MATCH($G$7,GRID!$A$13:$A$19,0),MATCH(1,($U$2=GRID!$B$1:$BI$1)*(КАЛЕНДАРЬ!$AQ21=GRID!$B$3:$BI$3), 0))*(1-GRID!$B$29))} -> 18300 | I15: {=IF($I$2="Открытый тариф", INDEX(GRID!$B$4:$BI$10,MATCH($I$7,GRID!$A$4:$A$10,0),MATCH(1,($U$2=GRID!$B$1:$BI$1)*(КАЛЕНДАРЬ!AQ21=GRID!$B$3:$BI$3), 0)), INDEX(GRID!$B$4:$BI$10,MATCH($I$7,GRID!$A$4:$A$10,0),MATCH(1,($U$2=GRID!$B$1:$BI$1)*(КАЛЕНДАРЬ!AQ21=GRID!$B$3:$BI$3), 0))*(1-GRID!$B$29))} -> 21000 | J15: {=IF($I$2="Открытый тариф", INDEX(GRID!$B$13:$BI$19,MATCH($I$7,GRID!$A$13:$A$19,0),MATCH(1,($U$2=GRID!$B$1:$BI$1)*(КАЛЕНДАРЬ!$AQ21=GRID!$B$3:$BI$3), 0)), INDEX(GRID!$B$13:$BI$19,MATCH($I$7,GRID!$A$13:$A$19,0),MATCH(1,($U$2=GRID!$B$1:$BI$1)*(КАЛЕНДАРЬ!$AQ21=GRID!$B$3:$BI$3), 0))*(1-GRID!$B$29))} -> 24300 | K15: {=IF($I$2="Открытый тариф", INDEX(GRID!$B$4:$BI$10,MATCH($K$7,GRID!$A$4:$A$10,0),MATCH(1,($U$2=GRID!$B$1:$BI$1)*(КАЛЕНДАРЬ!AQ21=GRID!$B$3:$BI$3), 0)), INDEX(GRID!$B$4:$BI$10,MATCH($K$7,GRID!$A$4:$A$10,0),MATCH(1,($U$2=GRID!$B$1:$BI$1)*(КАЛЕНДАРЬ!AQ21=GRID!$B$3:$BI$3), 0))*(1-GRID!$B$29))} -> 29500 | L15: {=IF($I$2="Открытый тариф", INDEX(GRID!$B$13:$BI$19,MATCH($K$7,GRID!$A$13:$A$19,0),MATCH(1,($U$2=GRID!$B$1:$BI$1)*(КАЛЕНДАРЬ!$AQ21=GRID!$B$3:$BI$3), 0)), INDEX(GRID!$B$13:$BI$19,MATCH($K$7,GRID!$A$13:$A$19,0),MATCH(1,($U$2=GRID!$B$1:$BI$1)*(КАЛЕНДАРЬ!$AQ21=GRID!$B$3:$BI$3), 0))*(1-GRID!$B$29))} -> 32800 | M15: {=IF($I$2="Открытый тариф", INDEX(GRID!$B$4:$BI$10,MATCH($M$7,GRID!$A$4:$A$10,0),MATCH(1,($U$2=GRID!$B$1:$BI$1)*(КАЛЕНДАРЬ!AQ21=GRID!$B$3:$BI$3), 0)), INDEX(GRID!$B$4:$BI$10,MATCH($M$7,GRID!$A$4:$A$10,0),MATCH(1,($U$2=GRID!$B$1:$BI$1)*(КАЛЕНДАРЬ!AQ21=GRID!$B$3:$BI$3), 0))*(1-GRID!$B$29))} -> 42300 | N15: {=IF($I$2="Открытый тариф", INDEX(GRID!$B$13:$BI$19,MATCH($M$7,GRID!$A$13:$A$19,0),MATCH(1,($U$2=GRID!$B$1:$BI$1)*(КАЛЕНДАРЬ!$AQ21=GRID!$B$3:$BI$3), 0)), INDEX(GRID!$B$13:$BI$19,MATCH($M$7,GRID!$A$13:$A$19,0),MATCH(1,($U$2=GRID!$B$1:$BI$1)*(КАЛЕНДАРЬ!$AQ21=GRID!$B$3:$BI$3), 0))*(1-GRID!$B$29))} -> 45600 | O15: {=IF($I$2="Открытый тариф", INDEX(GRID!$B$4:$BI$10,MATCH($O$7,GRID!$A$4:$A$10,0),MATCH(1,($U$2=GRID!$B$1:$BI$1)*(КАЛЕНДАРЬ!AQ21=GRID!$B$3:$BI$3), 0)), INDEX(GRID!$B$4:$BI$10,MATCH($O$7,GRID!$A$4:$A$10,0),MATCH(1,($U$2=GRID!$B$1:$BI$1)*(КАЛЕНДАРЬ!AQ21=GRID!$B$3:$BI$3), 0))*(1-GRID!$B$29))} -> 95400 | P15: {=IF($I$2="Открытый тариф", INDEX(GRID!$B$13:$BI$19,MATCH($O$7,GRID!$A$13:$A$19,0),MATCH(1,($U$2=GRID!$B$1:$BI$1)*(КАЛЕНДАРЬ!$AQ21=GRID!$B$3:$BI$3), 0)), INDEX(GRID!$B$13:$BI$19,MATCH($O$7,GRID!$A$13:$A$19,0),MATCH(1,($U$2=GRID!$B$1:$BI$1)*(КАЛЕНДАРЬ!$AQ21=GRID!$B$3:$BI$3), 0))*(1-GRID!$B$29))} -> 98700
A16: ЧТ | B16: 19 | C16: {=IF($I$2="Открытый тариф", INDEX(GRID!$B$4:$BI$10,MATCH($C$7,GRID!$A$4:$A$10,0),MATCH(1,($U$2=GRID!$B$1:$BI$1)*(КАЛЕНДАРЬ!AQ22=GRID!$B$3:$BI$3), 0)), INDEX(GRID!$B$4:$BI$10,MATCH($C$7,GRID!$A$4:$A$10,0),MATCH(1,($U$2=GRID!$B$1:$BI$1)*(КАЛЕНДАРЬ!AQ22=GRID!$B$3:$BI$3), 0))*(1-GRID!$B$29))} -> 10200 | D16: {=IF($I$2="Открытый тариф", INDEX(GRID!$B$13:$BI$19,MATCH($C$7,GRID!$A$13:$A$19,0),MATCH(1,($U$2=GRID!$B$1:$BI$1)*(КАЛЕНДАРЬ!$AQ22=GRID!$B$3:$BI$3), 0)), INDEX(GRID!$B$13:$BI$19,MATCH($C$7,GRID!$A$13:$A$19,0),MATCH(1,($U$2=GRID!$B$1:$BI$1)*(КАЛЕНДАРЬ!$AQ22=GRID!$B$3:$BI$3), 0))*(1-GRID!$B$29))} -> 13500 | E16: {=IF($I$2="Открытый тариф", INDEX(GRID!$B$4:$BI$10,MATCH($E$7,GRID!$A$4:$A$10,0),MATCH(1,($U$2=GRID!$B$1:$BI$1)*(КАЛЕНДАРЬ!AQ22=GRID!$B$3:$BI$3), 0)), INDEX(GRID!$B$4:$BI$10,MATCH($E$7,GRID!$A$4:$A$10,0),MATCH(1,($U$2=GRID!$B$1:$BI$1)*(КАЛЕНДАРЬ!AQ22=GRID!$B$3:$BI$3), 0))*(1-GRID!$B$29))} -> 12400 | F16: {=IF($I$2="Открытый тариф", INDEX(GRID!$B$13:$BI$19,MATCH($E$7,GRID!$A$13:$A$19,0),MATCH(1,($U$2=GRID!$B$1:$BI$1)*(КАЛЕНДАРЬ!$AQ22=GRID!$B$3:$BI$3), 0)), INDEX(GRID!$B$13:$BI$19,MATCH($E$7,GRID!$A$13:$A$19,0),MATCH(1,($U$2=GRID!$B$1:$BI$1)*(КАЛЕНДАРЬ!$AQ22=GRID!$B$3:$BI$3), 0))*(1-GRID!$B$29))} -> 15700 | G16: {=IF($I$2="Открытый тариф", INDEX(GRID!$B$4:$BI$10,MATCH($G$7,GRID!$A$4:$A$10,0),MATCH(1,($U$2=GRID!$B$1:$BI$1)*(КАЛЕНДАРЬ!AQ22=GRID!$B$3:$BI$3), 0)), INDEX(GRID!$B$4:$BI$10,MATCH($G$7,GRID!$A$4:$A$10,0),MATCH(1,($U$2=GRID!$B$1:$BI$1)*(КАЛЕНДАРЬ!AQ22=GRID!$B$3:$BI$3), 0))*(1-GRID!$B$29))} -> 15000 | H16: {=IF($I$2="Открытый тариф", INDEX(GRID!$B$13:$BI$19,MATCH($G$7,GRID!$A$13:$A$19,0),MATCH(1,($U$2=GRID!$B$1:$BI$1)*(КАЛЕНДАРЬ!$AQ22=GRID!$B$3:$BI$3), 0)), INDEX(GRID!$B$13:$BI$19,MATCH($G$7,GRID!$A$13:$A$19,0),MATCH(1,($U$2=GRID!$B$1:$BI$1)*(КАЛЕНДАРЬ!$AQ22=GRID!$B$3:$BI$3), 0))*(1-GRID!$B$29))} -> 18300 | I16: {=IF($I$2="Открытый тариф", INDEX(GRID!$B$4:$BI$10,MATCH($I$7,GRID!$A$4:$A$10,0),MATCH(1,($U$2=GRID!$B$1:$BI$1)*(КАЛЕНДАРЬ!AQ22=GRID!$B$3:$BI$3), 0)), INDEX(GRID!$B$4:$BI$10,MATCH($I$7,GRID!$A$4:$A$10,0),MATCH(1,($U$2=GRID!$B$1:$BI$1)*(КАЛЕНДАРЬ!AQ22=GRID!$B$3:$BI$3), 0))*(1-GRID!$B$29))} -> 21000 | J16: {=IF($I$2="Открытый тариф", INDEX(GRID!$B$13:$BI$19,MATCH($I$7,GRID!$A$13:$A$19,0),MATCH(1,($U$2=GRID!$B$1:$BI$1)*(КАЛЕНДАРЬ!$AQ22=GRID!$B$3:$BI$3), 0)), INDEX(GRID!$B$13:$BI$19,MATCH($I$7,GRID!$A$13:$A$19,0),MATCH(1,($U$2=GRID!$B$1:$BI$1)*(КАЛЕНДАРЬ!$AQ22=GRID!$B$3:$BI$3), 0))*(1-GRID!$B$29))} -> 24300 | K16: {=IF($I$2="Открытый тариф", INDEX(GRID!$B$4:$BI$10,MATCH($K$7,GRID!$A$4:$A$10,0),MATCH(1,($U$2=GRID!$B$1:$BI$1)*(КАЛЕНДАРЬ!AQ22=GRID!$B$3:$BI$3), 0)), INDEX(GRID!$B$4:$BI$10,MATCH($K$7,GRID!$A$4:$A$10,0),MATCH(1,($U$2=GRID!$B$1:$BI$1)*(КАЛЕНДАРЬ!AQ22=GRID!$B$3:$BI$3), 0))*(1-GRID!$B$29))} -> 29500 | L16: {=IF($I$2="Открытый тариф", INDEX(GRID!$B$13:$BI$19,MATCH($K$7,GRID!$A$13:$A$19,0),MATCH(1,($U$2=GRID!$B$1:$BI$1)*(КАЛЕНДАРЬ!$AQ22=GRID!$B$3:$BI$3), 0)), INDEX(GRID!$B$13:$BI$19,MATCH($K$7,GRID!$A$13:$A$19,0),MATCH(1,($U$2=GRID!$B$1:$BI$1)*(КАЛЕНДАРЬ!$AQ22=GRID!$B$3:$BI$3), 0))*(1-GRID!$B$29))} -> 32800 | M16: {=IF($I$2="Открытый тариф", INDEX(GRID!$B$4:$BI$10,MATCH($M$7,GRID!$A$4:$A$10,0),MATCH(1,($U$2=GRID!$B$1:$BI$1)*(КАЛЕНДАРЬ!AQ22=GRID!$B$3:$BI$3), 0)), INDEX(GRID!$B$4:$BI$10,MATCH($M$7,GRID!$A$4:$A$10,0),MATCH(1,($U$2=GRID!$B$1:$BI$1)*(КАЛЕНДАРЬ!AQ22=GRID!$B$3:$BI$3), 0))*(1-GRID!$B$29))} -> 42300 | N16: {=IF($I$2="Открытый тариф", INDEX(GRID!$B$13:$BI$19,MATCH($M$7,GRID!$A$13:$A$19,0),MATCH(1,($U$2=GRID!$B$1:$BI$1)*(КАЛЕНДАРЬ!$AQ22=GRID!$B$3:$BI$3), 0)), INDEX(GRID!$B$13:$BI$19,MATCH($M$7,GRID!$A$13:$A$19,0),MATCH(1,($U$2=GRID!$B$1:$BI$1)*(КАЛЕНДАРЬ!$AQ22=GRID!$B$3:$BI$3), 0))*(1-GRID!$B$29))} -> 45600 | O16: {=IF($I$2="Открытый тариф", INDEX(GRID!$B$4:$BI$10,MATCH($O$7,GRID!$A$4:$A$10,0),MATCH(1,($U$2=GRID!$B$1:$BI$1)*(КАЛЕНДАРЬ!AQ22=GRID!$B$3:$BI$3), 0)), INDEX(GRID!$B$4:$BI$10,MATCH($O$7,GRID!$A$4:$A$10,0),MATCH(1,($U$2=GRID!$B$1:$BI$1)*(КАЛЕНДАРЬ!AQ22=GRID!$B$3:$BI$3), 0))*(1-GRID!$B$29))} -> 95400 | P16: {=IF($I$2="Открытый тариф", INDEX(GRID!$B$13:$BI$19,MATCH($O$7,GRID!$A$13:$A$19,0),MATCH(1,($U$2=GRID!$B$1:$BI$1)*(КАЛЕНДАРЬ!$AQ22=GRID!$B$3:$BI$3), 0)), INDEX(GRID!$B$13:$BI$19,MATCH($O$7,GRID!$A$13:$A$19,0),MATCH(1,($U$2=GRID!$B$1:$BI$1)*(КАЛЕНДАРЬ!$AQ22=GRID!$B$3:$BI$3), 0))*(1-GRID!$B$29))} -> 98700
A17: ПТ | B17: 20 | C17: {=IF($I$2="Открытый тариф", INDEX(GRID!$B$4:$BI$10,MATCH($C$7,GRID!$A$4:$A$10,0),MATCH(1,($U$2=GRID!$B$1:$BI$1)*(КАЛЕНДАРЬ!AQ23=GRID!$B$3:$BI$3), 0)), INDEX(GRID!$B$4:$BI$10,MATCH($C$7,GRID!$A$4:$A$10,0),MATCH(1,($U$2=GRID!$B$1:$BI$1)*(КАЛЕНДАРЬ!AQ23=GRID!$B$3:$BI$3), 0))*(1-GRID!$B$29))} -> 14300 | D17: {=IF($I$2="Открытый тариф", INDEX(GRID!$B$13:$BI$19,MATCH($C$7,GRID!$A$13:$A$19,0),MATCH(1,($U$2=GRID!$B$1:$BI$1)*(КАЛЕНДАРЬ!$AQ23=GRID!$B$3:$BI$3), 0)), INDEX(GRID!$B$13:$BI$19,MATCH($C$7,GRID!$A$13:$A$19,0),MATCH(1,($U$2=GRID!$B$1:$BI$1)*(КАЛЕНДАРЬ!$AQ23=GRID!$B$3:$BI$3), 0))*(1-GRID!$B$29))} -> 17600 | E17: {=IF($I$2="Открытый тариф", INDEX(GRID!$B$4:$BI$10,MATCH($E$7,GRID!$A$4:$A$10,0),MATCH(1,($U$2=GRID!$B$1:$BI$1)*(КАЛЕНДАРЬ!AQ23=GRID!$B$3:$BI$3), 0)), INDEX(GRID!$B$4:$BI$10,MATCH($E$7,GRID!$A$4:$A$10,0),MATCH(1,($U$2=GRID!$B$1:$BI$1)*(КАЛЕНДАРЬ!AQ23=GRID!$B$3:$BI$3), 0))*(1-GRID!$B$29))} -> 17500 | F17: {=IF($I$2="Открытый тариф", INDEX(GRID!$B$13:$BI$19,MATCH($E$7,GRID!$A$13:$A$19,0),MATCH(1,($U$2=GRID!$B$1:$BI$1)*(КАЛЕНДАРЬ!$AQ23=GRID!$B$3:$BI$3), 0)), INDEX(GRID!$B$13:$BI$19,MATCH($E$7,GRID!$A$13:$A$19,0),MATCH(1,($U$2=GRID!$B$1:$BI$1)*(КАЛЕНДАРЬ!$AQ23=GRID!$B$3:$BI$3), 0))*(1-GRID!$B$29))} -> 20800 | G17: {=IF($I$2="Открытый тариф", INDEX(GRID!$B$4:$BI$10,MATCH($G$7,GRID!$A$4:$A$10,0),MATCH(1,($U$2=GRID!$B$1:$BI$1)*(КАЛЕНДАРЬ!AQ23=GRID!$B$3:$BI$3), 0)), INDEX(GRID!$B$4:$BI$10,MATCH($G$7,GRID!$A$4:$A$10,0),MATCH(1,($U$2=GRID!$B$1:$BI$1)*(КАЛЕНДАРЬ!AQ23=GRID!$B$3:$BI$3), 0))*(1-GRID!$B$29))} -> 21300 | H17: {=IF($I$2="Открытый тариф", INDEX(GRID!$B$13:$BI$19,MATCH($G$7,GRID!$A$13:$A$19,0),MATCH(1,($U$2=GRID!$B$1:$BI$1)*(КАЛЕНДАРЬ!$AQ23=GRID!$B$3:$BI$3), 0)), INDEX(GRID!$B$13:$BI$19,MATCH($G$7,GRID!$A$13:$A$19,0),MATCH(1,($U$2=GRID!$B$1:$BI$1)*(КАЛЕНДАРЬ!$AQ23=GRID!$B$3:$BI$3), 0))*(1-GRID!$B$29))} -> 24600 | I17: {=IF($I$2="Открытый тариф", INDEX(GRID!$B$4:$BI$10,MATCH($I$7,GRID!$A$4:$A$10,0),MATCH(1,($U$2=GRID!$B$1:$BI$1)*(КАЛЕНДАРЬ!AQ23=GRID!$B$3:$BI$3), 0)), INDEX(GRID!$B$4:$BI$10,MATCH($I$7,GRID!$A$4:$A$10,0),MATCH(1,($U$2=GRID!$B$1:$BI$1)*(КАЛЕНДАРЬ!AQ23=GRID!$B$3:$BI$3), 0))*(1-GRID!$B$29))} -> 30100 | J17: {=IF($I$2="Открытый тариф", INDEX(GRID!$B$13:$BI$19,MATCH($I$7,GRID!$A$13:$A$19,0),MATCH(1,($U$2=GRID!$B$1:$BI$1)*(КАЛЕНДАРЬ!$AQ23=GRID!$B$3:$BI$3), 0)), INDEX(GRID!$B$13:$BI$19,MATCH($I$7,GRID!$A$13:$A$19,0),MATCH(1,($U$2=GRID!$B$1:$BI$1)*(КАЛЕНДАРЬ!$AQ23=GRID!$B$3:$BI$3), 0))*(1-GRID!$B$29))} -> 33400 | K17: {=IF($I$2="Открытый тариф", INDEX(GRID!$B$4:$BI$10,MATCH($K$7,GRID!$A$4:$A$10,0),MATCH(1,($U$2=GRID!$B$1:$BI$1)*(КАЛЕНДАРЬ!AQ23=GRID!$B$3:$BI$3), 0)), INDEX(GRID!$B$4:$BI$10,MATCH($K$7,GRID!$A$4:$A$10,0),MATCH(1,($U$2=GRID!$B$1:$BI$1)*(КАЛЕНДАРЬ!AQ23=GRID!$B$3:$BI$3), 0))*(1-GRID!$B$29))} -> 42600 | L17: {=IF($I$2="Открытый тариф", INDEX(GRID!$B$13:$BI$19,MATCH($K$7,GRID!$A$13:$A$19,0),MATCH(1,($U$2=GRID!$B$1:$BI$1)*(КАЛЕНДАРЬ!$AQ23=GRID!$B$3:$BI$3), 0)), INDEX(GRID!$B$13:$BI$19,MATCH($K$7,GRID!$A$13:$A$19,0),MATCH(1,($U$2=GRID!$B$1:$BI$1)*(КАЛЕНДАРЬ!$AQ23=GRID!$B$3:$BI$3), 0))*(1-GRID!$B$29))} -> 45900 | M17: {=IF($I$2="Открытый тариф", INDEX(GRID!$B$4:$BI$10,MATCH($M$7,GRID!$A$4:$A$10,0),MATCH(1,($U$2=GRID!$B$1:$BI$1)*(КАЛЕНДАРЬ!AQ23=GRID!$B$3:$BI$3), 0)), INDEX(GRID!$B$4:$BI$10,MATCH($M$7,GRID!$A$4:$A$10,0),MATCH(1,($U$2=GRID!$B$1:$BI$1)*(КАЛЕНДАРЬ!AQ23=GRID!$B$3:$BI$3), 0))*(1-GRID!$B$29))} -> 61400 | N17: {=IF($I$2="Открытый тариф", INDEX(GRID!$B$13:$BI$19,MATCH($M$7,GRID!$A$13:$A$19,0),MATCH(1,($U$2=GRID!$B$1:$BI$1)*(КАЛЕНДАРЬ!$AQ23=GRID!$B$3:$BI$3), 0)), INDEX(GRID!$B$13:$BI$19,MATCH($M$7,GRID!$A$13:$A$19,0),MATCH(1,($U$2=GRID!$B$1:$BI$1)*(КАЛЕНДАРЬ!$AQ23=GRID!$B$3:$BI$3), 0))*(1-GRID!$B$29))} -> 64700 | O17: {=IF($I$2="Открытый тариф", INDEX(GRID!$B$4:$BI$10,MATCH($O$7,GRID!$A$4:$A$10,0),MATCH(1,($U$2=GRID!$B$1:$BI$1)*(КАЛЕНДАРЬ!AQ23=GRID!$B$3:$BI$3), 0)), INDEX(GRID!$B$4:$BI$10,MATCH($O$7,GRID!$A$4:$A$10,0),MATCH(1,($U$2=GRID!$B$1:$BI$1)*(КАЛЕНДАРЬ!AQ23=GRID!$B$3:$BI$3), 0))*(1-GRID!$B$29))} -> 145300 | P17: {=IF($I$2="Открытый тариф", INDEX(GRID!$B$13:$BI$19,MATCH($O$7,GRID!$A$13:$A$19,0),MATCH(1,($U$2=GRID!$B$1:$BI$1)*(КАЛЕНДАРЬ!$AQ23=GRID!$B$3:$BI$3), 0)), INDEX(GRID!$B$13:$BI$19,MATCH($O$7,GRID!$A$13:$A$19,0),MATCH(1,($U$2=GRID!$B$1:$BI$1)*(КАЛЕНДАРЬ!$AQ23=GRID!$B$3:$BI$3), 0))*(1-GRID!$B$29))} -> 148600
A18: СБ | B18: 21 | C18: {=IF($I$2="Открытый тариф", INDEX(GRID!$B$4:$BI$10,MATCH($C$7,GRID!$A$4:$A$10,0),MATCH(1,($U$2=GRID!$B$1:$BI$1)*(КАЛЕНДАРЬ!AQ24=GRID!$B$3:$BI$3), 0)), INDEX(GRID!$B$4:$BI$10,MATCH($C$7,GRID!$A$4:$A$10,0),MATCH(1,($U$2=GRID!$B$1:$BI$1)*(КАЛЕНДАРЬ!AQ24=GRID!$B$3:$BI$3), 0))*(1-GRID!$B$29))} -> 15000 | D18: {=IF($I$2="Открытый тариф", INDEX(GRID!$B$13:$BI$19,MATCH($C$7,GRID!$A$13:$A$19,0),MATCH(1,($U$2=GRID!$B$1:$BI$1)*(КАЛЕНДАРЬ!$AQ24=GRID!$B$3:$BI$3), 0)), INDEX(GRID!$B$13:$BI$19,MATCH($C$7,GRID!$A$13:$A$19,0),MATCH(1,($U$2=GRID!$B$1:$BI$1)*(КАЛЕНДАРЬ!$AQ24=GRID!$B$3:$BI$3), 0))*(1-GRID!$B$29))} -> 18300 | E18: {=IF($I$2="Открытый тариф", INDEX(GRID!$B$4:$BI$10,MATCH($E$7,GRID!$A$4:$A$10,0),MATCH(1,($U$2=GRID!$B$1:$BI$1)*(КАЛЕНДАРЬ!AQ24=GRID!$B$3:$BI$3), 0)), INDEX(GRID!$B$4:$BI$10,MATCH($E$7,GRID!$A$4:$A$10,0),MATCH(1,($U$2=GRID!$B$1:$BI$1)*(КАЛЕНДАРЬ!AQ24=GRID!$B$3:$BI$3), 0))*(1-GRID!$B$29))} -> 18300 | F18: {=IF($I$2="Открытый тариф", INDEX(GRID!$B$13:$BI$19,MATCH($E$7,GRID!$A$13:$A$19,0),MATCH(1,($U$2=GRID!$B$1:$BI$1)*(КАЛЕНДАРЬ!$AQ24=GRID!$B$3:$BI$3), 0)), INDEX(GRID!$B$13:$BI$19,MATCH($E$7,GRID!$A$13:$A$19,0),MATCH(1,($U$2=GRID!$B$1:$BI$1)*(КАЛЕНДАРЬ!$AQ24=GRID!$B$3:$BI$3), 0))*(1-GRID!$B$29))} -> 21600 | G18: {=IF($I$2="Открытый тариф", INDEX(GRID!$B$4:$BI$10,MATCH($G$7,GRID!$A$4:$A$10,0),MATCH(1,($U$2=GRID!$B$1:$BI$1)*(КАЛЕНДАРЬ!AQ24=GRID!$B$3:$BI$3), 0)), INDEX(GRID!$B$4:$BI$10,MATCH($G$7,GRID!$A$4:$A$10,0),MATCH(1,($U$2=GRID!$B$1:$BI$1)*(КАЛЕНДАРЬ!AQ24=GRID!$B$3:$BI$3), 0))*(1-GRID!$B$29))} -> 22200 | H18: {=IF($I$2="Открытый тариф", INDEX(GRID!$B$13:$BI$19,MATCH($G$7,GRID!$A$13:$A$19,0),MATCH(1,($U$2=GRID!$B$1:$BI$1)*(КАЛЕНДАРЬ!$AQ24=GRID!$B$3:$BI$3), 0)), INDEX(GRID!$B$13:$BI$19,MATCH($G$7,GRID!$A$13:$A$19,0),MATCH(1,($U$2=GRID!$B$1:$BI$1)*(КАЛЕНДАРЬ!$AQ24=GRID!$B$3:$BI$3), 0))*(1-GRID!$B$29))} -> 25500 | I18: {=IF($I$2="Открытый тариф", INDEX(GRID!$B$4:$BI$10,MATCH($I$7,GRID!$A$4:$A$10,0),MATCH(1,($U$2=GRID!$B$1:$BI$1)*(КАЛЕНДАРЬ!AQ24=GRID!$B$3:$BI$3), 0)), INDEX(GRID!$B$4:$BI$10,MATCH($I$7,GRID!$A$4:$A$10,0),MATCH(1,($U$2=GRID!$B$1:$BI$1)*(КАЛЕНДАРЬ!AQ24=GRID!$B$3:$BI$3), 0))*(1-GRID!$B$29))} -> 31300 | J18: {=IF($I$2="Открытый тариф", INDEX(GRID!$B$13:$BI$19,MATCH($I$7,GRID!$A$13:$A$19,0),MATCH(1,($U$2=GRID!$B$1:$BI$1)*(КАЛЕНДАРЬ!$AQ24=GRID!$B$3:$BI$3), 0)), INDEX(GRID!$B$13:$BI$19,MATCH($I$7,GRID!$A$13:$A$19,0),MATCH(1,($U$2=GRID!$B$1:$BI$1)*(КАЛЕНДАРЬ!$AQ24=GRID!$B$3:$BI$3), 0))*(1-GRID!$B$29))} -> 34600 | K18: {=IF($I$2="Открытый тариф", INDEX(GRID!$B$4:$BI$10,MATCH($K$7,GRID!$A$4:$A$10,0),MATCH(1,($U$2=GRID!$B$1:$BI$1)*(КАЛЕНДАРЬ!AQ24=GRID!$B$3:$BI$3), 0)), INDEX(GRID!$B$4:$BI$10,MATCH($K$7,GRID!$A$4:$A$10,0),MATCH(1,($U$2=GRID!$B$1:$BI$1)*(КАЛЕНДАРЬ!AQ24=GRID!$B$3:$BI$3), 0))*(1-GRID!$B$29))} -> 44300 | L18: {=IF($I$2="Открытый тариф", INDEX(GRID!$B$13:$BI$19,MATCH($K$7,GRID!$A$13:$A$19,0),MATCH(1,($U$2=GRID!$B$1:$BI$1)*(КАЛЕНДАРЬ!$AQ24=GRID!$B$3:$BI$3), 0)), INDEX(GRID!$B$13:$BI$19,MATCH($K$7,GRID!$A$13:$A$19,0),MATCH(1,($U$2=GRID!$B$1:$BI$1)*(КАЛЕНДАРЬ!$AQ24=GRID!$B$3:$BI$3), 0))*(1-GRID!$B$29))} -> 47600 | M18: {=IF($I$2="Открытый тариф", INDEX(GRID!$B$4:$BI$10,MATCH($M$7,GRID!$A$4:$A$10,0),MATCH(1,($U$2=GRID!$B$1:$BI$1)*(КАЛЕНДАРЬ!AQ24=GRID!$B$3:$BI$3), 0)), INDEX(GRID!$B$4:$BI$10,MATCH($M$7,GRID!$A$4:$A$10,0),MATCH(1,($U$2=GRID!$B$1:$BI$1)*(КАЛЕНДАРЬ!AQ24=GRID!$B$3:$BI$3), 0))*(1-GRID!$B$29))} -> 63800 | N18: {=IF($I$2="Открытый тариф", INDEX(GRID!$B$13:$BI$19,MATCH($M$7,GRID!$A$13:$A$19,0),MATCH(1,($U$2=GRID!$B$1:$BI$1)*(КАЛЕНДАРЬ!$AQ24=GRID!$B$3:$BI$3), 0)), INDEX(GRID!$B$13:$BI$19,MATCH($M$7,GRID!$A$13:$A$19,0),MATCH(1,($U$2=GRID!$B$1:$BI$1)*(КАЛЕНДАРЬ!$AQ24=GRID!$B$3:$BI$3), 0))*(1-GRID!$B$29))} -> 67100 | O18: {=IF($I$2="Открытый тариф", INDEX(GRID!$B$4:$BI$10,MATCH($O$7,GRID!$A$4:$A$10,0),MATCH(1,($U$2=GRID!$B$1:$BI$1)*(КАЛЕНДАРЬ!AQ24=GRID!$B$3:$BI$3), 0)), INDEX(GRID!$B$4:$BI$10,MATCH($O$7,GRID!$A$4:$A$10,0),MATCH(1,($U$2=GRID!$B$1:$BI$1)*(КАЛЕНДАРЬ!AQ24=GRID!$B$3:$BI$3), 0))*(1-GRID!$B$29))} -> 151700 | P18: {=IF($I$2="Открытый тариф", INDEX(GRID!$B$13:$BI$19,MATCH($O$7,GRID!$A$13:$A$19,0),MATCH(1,($U$2=GRID!$B$1:$BI$1)*(КАЛЕНДАРЬ!$AQ24=GRID!$B$3:$BI$3), 0)), INDEX(GRID!$B$13:$BI$19,MATCH($O$7,GRID!$A$13:$A$19,0),MATCH(1,($U$2=GRID!$B$1:$BI$1)*(КАЛЕНДАРЬ!$AQ24=GRID!$B$3:$BI$3), 0))*(1-GRID!$B$29))} -> 155000
A19: ВС | B19: 22 | C19: {=IF($I$2="Открытый тариф", INDEX(GRID!$B$4:$BI$10,MATCH($C$7,GRID!$A$4:$A$10,0),MATCH(1,($U$2=GRID!$B$1:$BI$1)*(КАЛЕНДАРЬ!AQ25=GRID!$B$3:$BI$3), 0)), INDEX(GRID!$B$4:$BI$10,MATCH($C$7,GRID!$A$4:$A$10,0),MATCH(1,($U$2=GRID!$B$1:$BI$1)*(КАЛЕНДАРЬ!AQ25=GRID!$B$3:$BI$3), 0))*(1-GRID!$B$29))} -> 14300 | D19: {=IF($I$2="Открытый тариф", INDEX(GRID!$B$13:$BI$19,MATCH($C$7,GRID!$A$13:$A$19,0),MATCH(1,($U$2=GRID!$B$1:$BI$1)*(КАЛЕНДАРЬ!$AQ25=GRID!$B$3:$BI$3), 0)), INDEX(GRID!$B$13:$BI$19,MATCH($C$7,GRID!$A$13:$A$19,0),MATCH(1,($U$2=GRID!$B$1:$BI$1)*(КАЛЕНДАРЬ!$AQ25=GRID!$B$3:$BI$3), 0))*(1-GRID!$B$29))} -> 17600 | E19: {=IF($I$2="Открытый тариф", INDEX(GRID!$B$4:$BI$10,MATCH($E$7,GRID!$A$4:$A$10,0),MATCH(1,($U$2=GRID!$B$1:$BI$1)*(КАЛЕНДАРЬ!AQ25=GRID!$B$3:$BI$3), 0)), INDEX(GRID!$B$4:$BI$10,MATCH($E$7,GRID!$A$4:$A$10,0),MATCH(1,($U$2=GRID!$B$1:$BI$1)*(КАЛЕНДАРЬ!AQ25=GRID!$B$3:$BI$3), 0))*(1-GRID!$B$29))} -> 17500 | F19: {=IF($I$2="Открытый тариф", INDEX(GRID!$B$13:$BI$19,MATCH($E$7,GRID!$A$13:$A$19,0),MATCH(1,($U$2=GRID!$B$1:$BI$1)*(КАЛЕНДАРЬ!$AQ25=GRID!$B$3:$BI$3), 0)), INDEX(GRID!$B$13:$BI$19,MATCH($E$7,GRID!$A$13:$A$19,0),MATCH(1,($U$2=GRID!$B$1:$BI$1)*(КАЛЕНДАРЬ!$AQ25=GRID!$B$3:$BI$3), 0))*(1-GRID!$B$29))} -> 20800 | G19: {=IF($I$2="Открытый тариф", INDEX(GRID!$B$4:$BI$10,MATCH($G$7,GRID!$A$4:$A$10,0),MATCH(1,($U$2=GRID!$B$1:$BI$1)*(КАЛЕНДАРЬ!AQ25=GRID!$B$3:$BI$3), 0)), INDEX(GRID!$B$4:$BI$10,MATCH($G$7,GRID!$A$4:$A$10,0),MATCH(1,($U$2=GRID!$B$1:$BI$1)*(КАЛЕНДАРЬ!AQ25=GRID!$B$3:$BI$3), 0))*(1-GRID!$B$29))} -> 21300 | H19: {=IF($I$2="Открытый тариф", INDEX(GRID!$B$13:$BI$19,MATCH($G$7,GRID!$A$13:$A$19,0),MATCH(1,($U$2=GRID!$B$1:$BI$1)*(КАЛЕНДАРЬ!$AQ25=GRID!$B$3:$BI$3), 0)), INDEX(GRID!$B$13:$BI$19,MATCH($G$7,GRID!$A$13:$A$19,0),MATCH(1,($U$2=GRID!$B$1:$BI$1)*(КАЛЕНДАРЬ!$AQ25=GRID!$B$3:$BI$3), 0))*(1-GRID!$B$29))} -> 24600 | I19: {=IF($I$2="Открытый тариф", INDEX(GRID!$B$4:$BI$10,MATCH($I$7,GRID!$A$4:$A$10,0),MATCH(1,($U$2=GRID!$B$1:$BI$1)*(КАЛЕНДАРЬ!AQ25=GRID!$B$3:$BI$3), 0)), INDEX(GRID!$B$4:$BI$10,MATCH($I$7,GRID!$A$4:$A$10,0),MATCH(1,($U$2=GRID!$B$1:$BI$1)*(КАЛЕНДАРЬ!AQ25=GRID!$B$3:$BI$3), 0))*(1-GRID!$B$29))} -> 30100 | J19: {=IF($I$2="Открытый тариф", INDEX(GRID!$B$13:$BI$19,MATCH($I$7,GRID!$A$13:$A$19,0),MATCH(1,($U$2=GRID!$B$1:$BI$1)*(КАЛЕНДАРЬ!$AQ25=GRID!$B$3:$BI$3), 0)), INDEX(GRID!$B$13:$BI$19,MATCH($I$7,GRID!$A$13:$A$19,0),MATCH(1,($U$2=GRID!$B$1:$BI$1)*(КАЛЕНДАРЬ!$AQ25=GRID!$B$3:$BI$3), 0))*(1-GRID!$B$29))} -> 33400 | K19: {=IF($I$2="Открытый тариф", INDEX(GRID!$B$4:$BI$10,MATCH($K$7,GRID!$A$4:$A$10,0),MATCH(1,($U$2=GRID!$B$1:$BI$1)*(КАЛЕНДАРЬ!AQ25=GRID!$B$3:$BI$3), 0)), INDEX(GRID!$B$4:$BI$10,MATCH($K$7,GRID!$A$4:$A$10,0),MATCH(1,($U$2=GRID!$B$1:$BI$1)*(КАЛЕНДАРЬ!AQ25=GRID!$B$3:$BI$3), 0))*(1-GRID!$B$29))} -> 42600 | L19: {=IF($I$2="Открытый тариф", INDEX(GRID!$B$13:$BI$19,MATCH($K$7,GRID!$A$13:$A$19,0),MATCH(1,($U$2=GRID!$B$1:$BI$1)*(КАЛЕНДАРЬ!$AQ25=GRID!$B$3:$BI$3), 0)), INDEX(GRID!$B$13:$BI$19,MATCH($K$7,GRID!$A$13:$A$19,0),MATCH(1,($U$2=GRID!$B$1:$BI$1)*(КАЛЕНДАРЬ!$AQ25=GRID!$B$3:$BI$3), 0))*(1-GRID!$B$29))} -> 45900 | M19: {=IF($I$2="Открытый тариф", INDEX(GRID!$B$4:$BI$10,MATCH($M$7,GRID!$A$4:$A$10,0),MATCH(1,($U$2=GRID!$B$1:$BI$1)*(КАЛЕНДАРЬ!AQ25=GRID!$B$3:$BI$3), 0)), INDEX(GRID!$B$4:$BI$10,MATCH($M$7,GRID!$A$4:$A$10,0),MATCH(1,($U$2=GRID!$B$1:$BI$1)*(КАЛЕНДАРЬ!AQ25=GRID!$B$3:$BI$3), 0))*(1-GRID!$B$29))} -> 61400 | N19: {=IF($I$2="Открытый тариф", INDEX(GRID!$B$13:$BI$19,MATCH($M$7,GRID!$A$13:$A$19,0),MATCH(1,($U$2=GRID!$B$1:$BI$1)*(КАЛЕНДАРЬ!$AQ25=GRID!$B$3:$BI$3), 0)), INDEX(GRID!$B$13:$BI$19,MATCH($M$7,GRID!$A$13:$A$19,0),MATCH(1,($U$2=GRID!$B$1:$BI$1)*(КАЛЕНДАРЬ!$AQ25=GRID!$B$3:$BI$3), 0))*(1-GRID!$B$29))} -> 64700 | O19: {=IF($I$2="Открытый тариф", INDEX(GRID!$B$4:$BI$10,MATCH($O$7,GRID!$A$4:$A$10,0),MATCH(1,($U$2=GRID!$B$1:$BI$1)*(КАЛЕНДАРЬ!AQ25=GRID!$B$3:$BI$3), 0)), INDEX(GRID!$B$4:$BI$10,MATCH($O$7,GRID!$A$4:$A$10,0),MATCH(1,($U$2=GRID!$B$1:$BI$1)*(КАЛЕНДАРЬ!AQ25=GRID!$B$3:$BI$3), 0))*(1-GRID!$B$29))} -> 145300 | P19: {=IF($I$2="Открытый тариф", INDEX(GRID!$B$13:$BI$19,MATCH($O$7,GRID!$A$13:$A$19,0),MATCH(1,($U$2=GRID!$B$1:$BI$1)*(КАЛЕНДАРЬ!$AQ25=GRID!$B$3:$BI$3), 0)), INDEX(GRID!$B$13:$BI$19,MATCH($O$7,GRID!$A$13:$A$19,0),MATCH(1,($U$2=GRID!$B$1:$BI$1)*(КАЛЕНДАРЬ!$AQ25=GRID!$B$3:$BI$3), 0))*(1-GRID!$B$29))} -> 148600
A20: ПН | B20: 23 | C20: {=IF($I$2="Открытый тариф", INDEX(GRID!$B$4:$BI$10,MATCH($C$7,GRID!$A$4:$A$10,0),MATCH(1,($U$2=GRID!$B$1:$BI$1)*(КАЛЕНДАРЬ!AQ26=GRID!$B$3:$BI$3), 0)), INDEX(GRID!$B$4:$BI$10,MATCH($C$7,GRID!$A$4:$A$10,0),MATCH(1,($U$2=GRID!$B$1:$BI$1)*(КАЛЕНДАРЬ!AQ26=GRID!$B$3:$BI$3), 0))*(1-GRID!$B$29))} -> 12800 | D20: {=IF($I$2="Открытый тариф", INDEX(GRID!$B$13:$BI$19,MATCH($C$7,GRID!$A$13:$A$19,0),MATCH(1,($U$2=GRID!$B$1:$BI$1)*(КАЛЕНДАРЬ!$AQ26=GRID!$B$3:$BI$3), 0)), INDEX(GRID!$B$13:$BI$19,MATCH($C$7,GRID!$A$13:$A$19,0),MATCH(1,($U$2=GRID!$B$1:$BI$1)*(КАЛЕНДАРЬ!$AQ26=GRID!$B$3:$BI$3), 0))*(1-GRID!$B$29))} -> 16100 | E20: {=IF($I$2="Открытый тариф", INDEX(GRID!$B$4:$BI$10,MATCH($E$7,GRID!$A$4:$A$10,0),MATCH(1,($U$2=GRID!$B$1:$BI$1)*(КАЛЕНДАРЬ!AQ26=GRID!$B$3:$BI$3), 0)), INDEX(GRID!$B$4:$BI$10,MATCH($E$7,GRID!$A$4:$A$10,0),MATCH(1,($U$2=GRID!$B$1:$BI$1)*(КАЛЕНДАРЬ!AQ26=GRID!$B$3:$BI$3), 0))*(1-GRID!$B$29))} -> 15700 | F20: {=IF($I$2="Открытый тариф", INDEX(GRID!$B$13:$BI$19,MATCH($E$7,GRID!$A$13:$A$19,0),MATCH(1,($U$2=GRID!$B$1:$BI$1)*(КАЛЕНДАРЬ!$AQ26=GRID!$B$3:$BI$3), 0)), INDEX(GRID!$B$13:$BI$19,MATCH($E$7,GRID!$A$13:$A$19,0),MATCH(1,($U$2=GRID!$B$1:$BI$1)*(КАЛЕНДАРЬ!$AQ26=GRID!$B$3:$BI$3), 0))*(1-GRID!$B$29))} -> 19000 | G20: {=IF($I$2="Открытый тариф", INDEX(GRID!$B$4:$BI$10,MATCH($G$7,GRID!$A$4:$A$10,0),MATCH(1,($U$2=GRID!$B$1:$BI$1)*(КАЛЕНДАРЬ!AQ26=GRID!$B$3:$BI$3), 0)), INDEX(GRID!$B$4:$BI$10,MATCH($G$7,GRID!$A$4:$A$10,0),MATCH(1,($U$2=GRID!$B$1:$BI$1)*(КАЛЕНДАРЬ!AQ26=GRID!$B$3:$BI$3), 0))*(1-GRID!$B$29))} -> 19200 | H20: {=IF($I$2="Открытый тариф", INDEX(GRID!$B$13:$BI$19,MATCH($G$7,GRID!$A$13:$A$19,0),MATCH(1,($U$2=GRID!$B$1:$BI$1)*(КАЛЕНДАРЬ!$AQ26=GRID!$B$3:$BI$3), 0)), INDEX(GRID!$B$13:$BI$19,MATCH($G$7,GRID!$A$13:$A$19,0),MATCH(1,($U$2=GRID!$B$1:$BI$1)*(КАЛЕНДАРЬ!$AQ26=GRID!$B$3:$BI$3), 0))*(1-GRID!$B$29))} -> 22500 | I20: {=IF($I$2="Открытый тариф", INDEX(GRID!$B$4:$BI$10,MATCH($I$7,GRID!$A$4:$A$10,0),MATCH(1,($U$2=GRID!$B$1:$BI$1)*(КАЛЕНДАРЬ!AQ26=GRID!$B$3:$BI$3), 0)), INDEX(GRID!$B$4:$BI$10,MATCH($I$7,GRID!$A$4:$A$10,0),MATCH(1,($U$2=GRID!$B$1:$BI$1)*(КАЛЕНДАРЬ!AQ26=GRID!$B$3:$BI$3), 0))*(1-GRID!$B$29))} -> 27300 | J20: {=IF($I$2="Открытый тариф", INDEX(GRID!$B$13:$BI$19,MATCH($I$7,GRID!$A$13:$A$19,0),MATCH(1,($U$2=GRID!$B$1:$BI$1)*(КАЛЕНДАРЬ!$AQ26=GRID!$B$3:$BI$3), 0)), INDEX(GRID!$B$13:$BI$19,MATCH($I$7,GRID!$A$13:$A$19,0),MATCH(1,($U$2=GRID!$B$1:$BI$1)*(КАЛЕНДАРЬ!$AQ26=GRID!$B$3:$BI$3), 0))*(1-GRID!$B$29))} -> 30600 | K20: {=IF($I$2="Открытый тариф", INDEX(GRID!$B$4:$BI$10,MATCH($K$7,GRID!$A$4:$A$10,0),MATCH(1,($U$2=GRID!$B$1:$BI$1)*(КАЛЕНДАРЬ!AQ26=GRID!$B$3:$BI$3), 0)), INDEX(GRID!$B$4:$BI$10,MATCH($K$7,GRID!$A$4:$A$10,0),MATCH(1,($U$2=GRID!$B$1:$BI$1)*(КАЛЕНДАРЬ!AQ26=GRID!$B$3:$BI$3), 0))*(1-GRID!$B$29))} -> 38800 | L20: {=IF($I$2="Открытый тариф", INDEX(GRID!$B$13:$BI$19,MATCH($K$7,GRID!$A$13:$A$19,0),MATCH(1,($U$2=GRID!$B$1:$BI$1)*(КАЛЕНДАРЬ!$AQ26=GRID!$B$3:$BI$3), 0)), INDEX(GRID!$B$13:$BI$19,MATCH($K$7,GRID!$A$13:$A$19,0),MATCH(1,($U$2=GRID!$B$1:$BI$1)*(КАЛЕНДАРЬ!$AQ26=GRID!$B$3:$BI$3), 0))*(1-GRID!$B$29))} -> 42100 | M20: {=IF($I$2="Открытый тариф", INDEX(GRID!$B$4:$BI$10,MATCH($M$7,GRID!$A$4:$A$10,0),MATCH(1,($U$2=GRID!$B$1:$BI$1)*(КАЛЕНДАРЬ!AQ26=GRID!$B$3:$BI$3), 0)), INDEX(GRID!$B$4:$BI$10,MATCH($M$7,GRID!$A$4:$A$10,0),MATCH(1,($U$2=GRID!$B$1:$BI$1)*(КАЛЕНДАРЬ!AQ26=GRID!$B$3:$BI$3), 0))*(1-GRID!$B$29))} -> 56100 | N20: {=IF($I$2="Открытый тариф", INDEX(GRID!$B$13:$BI$19,MATCH($M$7,GRID!$A$13:$A$19,0),MATCH(1,($U$2=GRID!$B$1:$BI$1)*(КАЛЕНДАРЬ!$AQ26=GRID!$B$3:$BI$3), 0)), INDEX(GRID!$B$13:$BI$19,MATCH($M$7,GRID!$A$13:$A$19,0),MATCH(1,($U$2=GRID!$B$1:$BI$1)*(КАЛЕНДАРЬ!$AQ26=GRID!$B$3:$BI$3), 0))*(1-GRID!$B$29))} -> 59400 | O20: {=IF($I$2="Открытый тариф", INDEX(GRID!$B$4:$BI$10,MATCH($O$7,GRID!$A$4:$A$10,0),MATCH(1,($U$2=GRID!$B$1:$BI$1)*(КАЛЕНДАРЬ!AQ26=GRID!$B$3:$BI$3), 0)), INDEX(GRID!$B$4:$BI$10,MATCH($O$7,GRID!$A$4:$A$10,0),MATCH(1,($U$2=GRID!$B$1:$BI$1)*(КАЛЕНДАРЬ!AQ26=GRID!$B$3:$BI$3), 0))*(1-GRID!$B$29))} -> 132000 | P20: {=IF($I$2="Открытый тариф", INDEX(GRID!$B$13:$BI$19,MATCH($O$7,GRID!$A$13:$A$19,0),MATCH(1,($U$2=GRID!$B$1:$BI$1)*(КАЛЕНДАРЬ!$AQ26=GRID!$B$3:$BI$3), 0)), INDEX(GRID!$B$13:$BI$19,MATCH($O$7,GRID!$A$13:$A$19,0),MATCH(1,($U$2=GRID!$B$1:$BI$1)*(КАЛЕНДАРЬ!$AQ26=GRID!$B$3:$BI$3), 0))*(1-GRID!$B$29))} -> 135300
... A25: СБ | B25: 28 | C25: {=IF($I$2="Открытый тариф", INDEX(GRID!$B$4:$BI$10,MATCH($C$7,GRID!$A$4:$A$10,0),MATCH(1,($U$2=GRID!$B$1:$BI$1)*(КАЛЕНДАРЬ!AQ31=GRID!$B$3:$BI$3), 0)), INDEX(GRID!$B$4:$BI$10,MATCH($C$7,GRID!$A$4:$A$10,0),MATCH(1,($U$2=GRID!$B$1:$BI$1)*(КАЛЕНДАРЬ!AQ31=GRID!$B$3:$BI$3), 0))*(1-GRID!$B$29))} -> 16900 | D25: {=IF($I$2="Открытый тариф", INDEX(GRID!$B$13:$BI$19,MATCH($C$7,GRID!$A$13:$A$19,0),MATCH(1,($U$2=GRID!$B$1:$BI$1)*(КАЛЕНДАРЬ!$AQ31=GRID!$B$3:$BI$3), 0)), INDEX(GRID!$B$13:$BI$19,MATCH($C$7,GRID!$A$13:$A$19,0),MATCH(1,($U$2=GRID!$B$1:$BI$1)*(КАЛЕНДАРЬ!$AQ31=GRID!$B$3:$BI$3), 0))*(1-GRID!$B$29))} -> 20200 | E25: {=IF($I$2="Открытый тариф", INDEX(GRID!$B$4:$BI$10,MATCH($E$7,GRID!$A$4:$A$10,0),MATCH(1,($U$2=GRID!$B$1:$BI$1)*(КАЛЕНДАРЬ!AQ31=GRID!$B$3:$BI$3), 0)), INDEX(GRID!$B$4:$BI$10,MATCH($E$7,GRID!$A$4:$A$10,0),MATCH(1,($U$2=GRID!$B$1:$BI$1)*(КАЛЕНДАРЬ!AQ31=GRID!$B$3:$BI$3), 0))*(1-GRID!$B$29))} -> 20400 | F25: {=IF($I$2="Открытый тариф", INDEX(GRID!$B$13:$BI$19,MATCH($E$7,GRID!$A$13:$A$19,0),MATCH(1,($U$2=GRID!$B$1:$BI$1)*(КАЛЕНДАРЬ!$AQ31=GRID!$B$3:$BI$3), 0)), INDEX(GRID!$B$13:$BI$19,MATCH($E$7,GRID!$A$13:$A$19,0),MATCH(1,($U$2=GRID!$B$1:$BI$1)*(КАЛЕНДАРЬ!$AQ31=GRID!$B$3:$BI$3), 0))*(1-GRID!$B$29))} -> 23700 | G25: {=IF($I$2="Открытый тариф", INDEX(GRID!$B$4:$BI$10,MATCH($G$7,GRID!$A$4:$A$10,0),MATCH(1,($U$2=GRID!$B$1:$BI$1)*(КАЛЕНДАРЬ!AQ31=GRID!$B$3:$BI$3), 0)), INDEX(GRID!$B$4:$BI$10,MATCH($G$7,GRID!$A$4:$A$10,0),MATCH(1,($U$2=GRID!$B$1:$BI$1)*(КАЛЕНДАРЬ!AQ31=GRID!$B$3:$BI$3), 0))*(1-GRID!$B$29))} -> 24600 | H25: {=IF($I$2="Открытый тариф", INDEX(GRID!$B$13:$BI$19,MATCH($G$7,GRID!$A$13:$A$19,0),MATCH(1,($U$2=GRID!$B$1:$BI$1)*(КАЛЕНДАРЬ!$AQ31=GRID!$B$3:$BI$3), 0)), INDEX(GRID!$B$13:$BI$19,MATCH($G$7,GRID!$A$13:$A$19,0),MATCH(1,($U$2=GRID!$B$1:$BI$1)*(КАЛЕНДАРЬ!$AQ31=GRID!$B$3:$BI$3), 0))*(1-GRID!$B$29))} -> 27900 | I25: {=IF($I$2="Открытый тариф", INDEX(GRID!$B$4:$BI$10,MATCH($I$7,GRID!$A$4:$A$10,0),MATCH(1,($U$2=GRID!$B$1:$BI$1)*(КАЛЕНДАРЬ!AQ31=GRID!$B$3:$BI$3), 0)), INDEX(GRID!$B$4:$BI$10,MATCH($I$7,GRID!$A$4:$A$10,0),MATCH(1,($U$2=GRID!$B$1:$BI$1)*(КАЛЕНДАРЬ!AQ31=GRID!$B$3:$BI$3), 0))*(1-GRID!$B$29))} -> 34400 | J25: {=IF($I$2="Открытый тариф", INDEX(GRID!$B$13:$BI$19,MATCH($I$7,GRID!$A$13:$A$19,0),MATCH(1,($U$2=GRID!$B$1:$BI$1)*(КАЛЕНДАРЬ!$AQ31=GRID!$B$3:$BI$3), 0)), INDEX(GRID!$B$13:$BI$19,MATCH($I$7,GRID!$A$13:$A$19,0),MATCH(1,($U$2=GRID!$B$1:$BI$1)*(КАЛЕНДАРЬ!$AQ31=GRID!$B$3:$BI$3), 0))*(1-GRID!$B$29))} -> 37700 | K25: {=IF($I$2="Открытый тариф", INDEX(GRID!$B$4:$BI$10,MATCH($K$7,GRID!$A$4:$A$10,0),MATCH(1,($U$2=GRID!$B$1:$BI$1)*(КАЛЕНДАРЬ!AQ31=GRID!$B$3:$BI$3), 0)), INDEX(GRID!$B$4:$BI$10,MATCH($K$7,GRID!$A$4:$A$10,0),MATCH(1,($U$2=GRID!$B$1:$BI$1)*(КАЛЕНДАРЬ!AQ31=GRID!$B$3:$BI$3), 0))*(1-GRID!$B$29))} -> 48400 | L25: {=IF($I$2="Открытый тариф", INDEX(GRID!$B$13:$BI$19,MATCH($K$7,GRID!$A$13:$A$19,0),MATCH(1,($U$2=GRID!$B$1:$BI$1)*(КАЛЕНДАРЬ!$AQ31=GRID!$B$3:$BI$3), 0)), INDEX(GRID!$B$13:$BI$19,MATCH($K$7,GRID!$A$13:$A$19,0),MATCH(1,($U$2=GRID!$B$1:$BI$1)*(КАЛЕНДАРЬ!$AQ31=GRID!$B$3:$BI$3), 0))*(1-GRID!$B$29))} -> 51700 | M25: {=IF($I$2="Открытый тариф", INDEX(GRID!$B$4:$BI$10,MATCH($M$7,GRID!$A$4:$A$10,0),MATCH(1,($U$2=GRID!$B$1:$BI$1)*(КАЛЕНДАРЬ!AQ31=GRID!$B$3:$BI$3), 0)), INDEX(GRID!$B$4:$BI$10,MATCH($M$7,GRID!$A$4:$A$10,0),MATCH(1,($U$2=GRID!$B$1:$BI$1)*(КАЛЕНДАРЬ!AQ31=GRID!$B$3:$BI$3), 0))*(1-GRID!$B$29))} -> 69400 | N25: {=IF($I$2="Открытый тариф", INDEX(GRID!$B$13:$BI$19,MATCH($M$7,GRID!$A$13:$A$19,0),MATCH(1,($U$2=GRID!$B$1:$BI$1)*(КАЛЕНДАРЬ!$AQ31=GRID!$B$3:$BI$3), 0)), INDEX(GRID!$B$13:$BI$19,MATCH($M$7,GRID!$A$13:$A$19,0),MATCH(1,($U$2=GRID!$B$1:$BI$1)*(КАЛЕНДАРЬ!$AQ31=GRID!$B$3:$BI$3), 0))*(1-GRID!$B$29))} -> 72700 | O25: {=IF($I$2="Открытый тариф", INDEX(GRID!$B$4:$BI$10,MATCH($O$7,GRID!$A$4:$A$10,0),MATCH(1,($U$2=GRID!$B$1:$BI$1)*(КАЛЕНДАРЬ!AQ31=GRID!$B$3:$BI$3), 0)), INDEX(GRID!$B$4:$BI$10,MATCH($O$7,GRID!$A$4:$A$10,0),MATCH(1,($U$2=GRID!$B$1:$BI$1)*(КАЛЕНДАРЬ!AQ31=GRID!$B$3:$BI$3), 0))*(1-GRID!$B$29))} -> 165400 | P25: {=IF($I$2="Открытый тариф", INDEX(GRID!$B$13:$BI$19,MATCH($O$7,GRID!$A$13:$A$19,0),MATCH(1,($U$2=GRID!$B$1:$BI$1)*(КАЛЕНДАРЬ!$AQ31=GRID!$B$3:$BI$3), 0)), INDEX(GRID!$B$13:$BI$19,MATCH($O$7,GRID!$A$13:$A$19,0),MATCH(1,($U$2=GRID!$B$1:$BI$1)*(КАЛЕНДАРЬ!$AQ31=GRID!$B$3:$BI$3), 0))*(1-GRID!$B$29))} -> 168700
A27: ТАРИФЫ
A28: МАРТ 2026
A29: День | C29: Стандарт | E29: Стандарт улучшенный с двухъярусной кроватью | G29: Полулюкс | I29: Люкс | K29: Люкс Королевы | M29: Люкс Короля | O29: Президентский люкс
C30: 1-мест. | D30: 2-мест. | E30: 1-мест. | F30: 2-мест. | G30: 1-мест. | H30: 2-мест. | I30: 1-мест. | J30: 2-мест. | K30: 1-мест. | L30: 2-мест. | M30: 1-мест. | N30: 2-мест. | O30: 1-мест. | P30: 2-мест.
A31: ВС | B31: 1 | C31: {=IF($I$2="Открытый тариф", INDEX(GRID!$B$4:$BI$10,MATCH($C$7,GRID!$A$4:$A$10,0),MATCH(1,($U$2=GRID!$B$1:$BI$1)*(КАЛЕНДАРЬ!AT4=GRID!$B$3:$BI$3), 0)), INDEX(GRID!$B$4:$BI$10,MATCH($C$7,GRID!$A$4:$A$10,0),MATCH(1,($U$2=GRID!$B$1:$BI$1)*(КАЛЕНДАРЬ!AT4=GRID!$B$3:$BI$3), 0))*(1-GRID!$B$29))} -> 16900 | D31: {=IF($I$2="Открытый тариф", INDEX(GRID!$B$13:$BI$19,MATCH($C$7,GRID!$A$13:$A$19,0),MATCH(1,($U$2=GRID!$B$1:$BI$1)*(КАЛЕНДАРЬ!$AT4=GRID!$B$3:$BI$3), 0)), INDEX(GRID!$B$13:$BI$19,MATCH($C$7,GRID!$A$13:$A$19,0),MATCH(1,($U$2=GRID!$B$1:$BI$1)*(КАЛЕНДАРЬ!$AT4=GRID!$B$3:$BI$3), 0))*(1-GRID!$B$29))} -> 20200 | E31: {=IF($I$2="Открытый тариф", INDEX(GRID!$B$4:$BI$10,MATCH($E$7,GRID!$A$4:$A$10,0),MATCH(1,($U$2=GRID!$B$1:$BI$1)*(КАЛЕНДАРЬ!AT4=GRID!$B$3:$BI$3), 0)), INDEX(GRID!$B$4:$BI$10,MATCH($E$7,GRID!$A$4:$A$10,0),MATCH(1,($U$2=GRID!$B$1:$BI$1)*(КАЛЕНДАРЬ!AT4=GRID!$B$3:$BI$3), 0))*(1-GRID!$B$29))} -> 20400 | F31: {=IF($I$2="Открытый тариф", INDEX(GRID!$B$13:$BI$19,MATCH($E$7,GRID!$A$13:$A$19,0),MATCH(1,($U$2=GRID!$B$1:$BI$1)*(КАЛЕНДАРЬ!$AT4=GRID!$B$3:$BI$3), 0)), INDEX(GRID!$B$13:$BI$19,MATCH($E$7,GRID!$A$13:$A$19,0),MATCH(1,($U$2=GRID!$B$1:$BI$1)*(КАЛЕНДАРЬ!$AT4=GRID!$B$3:$BI$3), 0))*(1-GRID!$B$29))} -> 23700 | G31: {=IF($I$2="Открытый тариф", INDEX(GRID!$B$4:$BI$10,MATCH($G$7,GRID!$A$4:$A$10,0),MATCH(1,($U$2=GRID!$B$1:$BI$1)*(КАЛЕНДАРЬ!AT4=GRID!$B$3:$BI$3), 0)), INDEX(GRID!$B$4:$BI$10,MATCH($G$7,GRID!$A$4:$A$10,0),MATCH(1,($U$2=GRID!$B$1:$BI$1)*(КАЛЕНДАРЬ!AT4=GRID!$B$3:$BI$3), 0))*(1-GRID!$B$29))} -> 24600 | H31: {=IF($I$2="Открытый тариф", INDEX(GRID!$B$13:$BI$19,MATCH($G$7,GRID!$A$13:$A$19,0),MATCH(1,($U$2=GRID!$B$1:$BI$1)*(КАЛЕНДАРЬ!$AT4=GRID!$B$3:$BI$3), 0)), INDEX(GRID!$B$13:$BI$19,MATCH($G$7,GRID!$A$13:$A$19,0),MATCH(1,($U$2=GRID!$B$1:$BI$1)*(КАЛЕНДАРЬ!$AT4=GRID!$B$3:$BI$3), 0))*(1-GRID!$B$29))} -> 27900 | I31: {=IF($I$2="Открытый тариф", INDEX(GRID!$B$4:$BI$10,MATCH($I$7,GRID!$A$4:$A$10,0),MATCH(1,($U$2=GRID!$B$1:$BI$1)*(КАЛЕНДАРЬ!AT4=GRID!$B$3:$BI$3), 0)), INDEX(GRID!$B$4:$BI$10,MATCH($I$7,GRID!$A$4:$A$10,0),MATCH(1,($U$2=GRID!$B$1:$BI$1)*(КАЛЕНДАРЬ!AT4=GRID!$B$3:$BI$3), 0))*(1-GRID!$B$29))} -> 34400 | J31: {=IF($I$2="Открытый тариф", INDEX(GRID!$B$13:$BI$19,MATCH($I$7,GRID!$A$13:$A$19,0),MATCH(1,($U$2=GRID!$B$1:$BI$1)*(КАЛЕНДАРЬ!$AT4=GRID!$B$3:$BI$3), 0)), INDEX(GRID!$B$13:$BI$19,MATCH($I$7,GRID!$A$13:$A$19,0),MATCH(1,($U$2=GRID!$B$1:$BI$1)*(КАЛЕНДАРЬ!$AT4=GRID!$B$3:$BI$3), 0))*(1-GRID!$B$29))} -> 37700 | K31: {=IF($I$2="Открытый тариф", INDEX(GRID!$B$4:$BI$10,MATCH($K$7,GRID!$A$4:$A$10,0),MATCH(1,($U$2=GRID!$B$1:$BI$1)*(КАЛЕНДАРЬ!AT4=GRID!$B$3:$BI$3), 0)), INDEX(GRID!$B$4:$BI$10,MATCH($K$7,GRID!$A$4:$A$10,0),MATCH(1,($U$2=GRID!$B$1:$BI$1)*(КАЛЕНДАРЬ!AT4=GRID!$B$3:$BI$3), 0))*(1-GRID!$B$29))} -> 48400 | L31: {=IF($I$2="Открытый тариф", INDEX(GRID!$B$13:$BI$19,MATCH($K$7,GRID!$A$13:$A$19,0),MATCH(1,($U$2=GRID!$B$1:$BI$1)*(КАЛЕНДАРЬ!$AT4=GRID!$B$3:$BI$3), 0)), INDEX(GRID!$B$13:$BI$19,MATCH($K$7,GRID!$A$13:$A$19,0),MATCH(1,($U$2=GRID!$B$1:$BI$1)*(КАЛЕНДАРЬ!$AT4=GRID!$B$3:$BI$3), 0))*(1-GRID!$B$29))} -> 51700 | M31: {=IF($I$2="Открытый тариф", INDEX(GRID!$B$4:$BI$10,MATCH($M$7,GRID!$A$4:$A$10,0),MATCH(1,($U$2=GRID!$B$1:$BI$1)*(КАЛЕНДАРЬ!AT4=GRID!$B$3:$BI$3), 0)), INDEX(GRID!$B$4:$BI$10,MATCH($M$7,GRID!$A$4:$A$10,0),MATCH(1,($U$2=GRID!$B$1:$BI$1)*(КАЛЕНДАРЬ!AT4=GRID!$B$3:$BI$3), 0))*(1-GRID!$B$29))} -> 69400 | N31: {=IF($I$2="Открытый тариф", INDEX(GRID!$B$13:$BI$19,MATCH($M$7,GRID!$A$13:$A$19,0),MATCH(1,($U$2=GRID!$B$1:$BI$1)*(КАЛЕНДАРЬ!$AT4=GRID!$B$3:$BI$3), 0)), INDEX(GRID!$B$13:$BI$19,MATCH($M$7,GRID!$A$13:$A$19,0),MATCH(1,($U$2=GRID!$B$1:$BI$1)*(КАЛЕНДАРЬ!$AT4=GRID!$B$3:$BI$3), 0))*(1-GRID!$B$29))} -> 72700 | O31: {=IF($I$2="Открытый тариф", INDEX(GRID!$B$4:$BI$10,MATCH($O$7,GRID!$A$4:$A$10,0),MATCH(1,($U$2=GRID!$B$1:$BI$1)*(КАЛЕНДАРЬ!AT4=GRID!$B$3:$BI$3), 0)), INDEX(GRID!$B$4:$BI$10,MATCH($O$7,GRID!$A$4:$A$10,0),MATCH(1,($U$2=GRID!$B$1:$BI$1)*(КАЛЕНДАРЬ!AT4=GRID!$B$3:$BI$3), 0))*(1-GRID!$B$29))} -> 165400 | P31: {=IF($I$2="Открытый тариф", INDEX(GRID!$B$13:$BI$19,MATCH($O$7,GRID!$A$13:$A$19,0),MATCH(1,($U$2=GRID!$B$1:$BI$1)*(КАЛЕНДАРЬ!$AT4=GRID!$B$3:$BI$3), 0)), INDEX(GRID!$B$13:$BI$19,MATCH($O$7,GRID!$A$13:$A$19,0),MATCH(1,($U$2=GRID!$B$1:$BI$1)*(КАЛЕНДАРЬ!$AT4=GRID!$B$3:$BI$3), 0))*(1-GRID!$B$29))} -> 168700
A32: ПН | B32: 2 | C32: {=IF($I$2="Открытый тариф", INDEX(GRID!$B$4:$BI$10,MATCH($C$7,GRID!$A$4:$A$10,0),MATCH(1,($U$2=GRID!$B$1:$BI$1)*(КАЛЕНДАРЬ!AT5=GRID!$B$3:$BI$3), 0)), INDEX(GRID!$B$4:$BI$10,MATCH($C$7,GRID!$A$4:$A$10,0),MATCH(1,($U$2=GRID!$B$1:$BI$1)*(КАЛЕНДАРЬ!AT5=GRID!$B$3:$BI$3), 0))*(1-GRID!$B$29))} -> 11700 | D32: {=IF($I$2="Открытый тариф", INDEX(GRID!$B$13:$BI$19,MATCH($C$7,GRID!$A$13:$A$19,0),MATCH(1,($U$2=GRID!$B$1:$BI$1)*(КАЛЕНДАРЬ!$AT5=GRID!$B$3:$BI$3), 0)), INDEX(GRID!$B$13:$BI$19,MATCH($C$7,GRID!$A$13:$A$19,0),MATCH(1,($U$2=GRID!$B$1:$BI$1)*(КАЛЕНДАРЬ!$AT5=GRID!$B$3:$BI$3), 0))*(1-GRID!$B$29))} -> 15000 | E32: {=IF($I$2="Открытый тариф", INDEX(GRID!$B$4:$BI$10,MATCH($E$7,GRID!$A$4:$A$10,0),MATCH(1,($U$2=GRID!$B$1:$BI$1)*(КАЛЕНДАРЬ!AT5=GRID!$B$3:$BI$3), 0)), INDEX(GRID!$B$4:$BI$10,MATCH($E$7,GRID!$A$4:$A$10,0),MATCH(1,($U$2=GRID!$B$1:$BI$1)*(КАЛЕНДАРЬ!AT5=GRID!$B$3:$BI$3), 0))*(1-GRID!$B$29))} -> 14400 | F32: {=IF($I$2="Открытый тариф", INDEX(GRID!$B$13:$BI$19,MATCH($E$7,GRID!$A$13:$A$19,0),MATCH(1,($U$2=GRID!$B$1:$BI$1)*(КАЛЕНДАРЬ!$AT5=GRID!$B$3:$BI$3), 0)), INDEX(GRID!$B$13:$BI$19,MATCH($E$7,GRID!$A$13:$A$19,0),MATCH(1,($U$2=GRID!$B$1:$BI$1)*(КАЛЕНДАРЬ!$AT5=GRID!$B$3:$BI$3), 0))*(1-GRID!$B$29))} -> 17700 | G32: {=IF($I$2="Открытый тариф", INDEX(GRID!$B$4:$BI$10,MATCH($G$7,GRID!$A$4:$A$10,0),MATCH(1,($U$2=GRID!$B$1:$BI$1)*(КАЛЕНДАРЬ!AT5=GRID!$B$3:$BI$3), 0)), INDEX(GRID!$B$4:$BI$10,MATCH($G$7,GRID!$A$4:$A$10,0),MATCH(1,($U$2=GRID!$B$1:$BI$1)*(КАЛЕНДАРЬ!AT5=GRID!$B$3:$BI$3), 0))*(1-GRID!$B$29))} -> 17600 | H32: {=IF($I$2="Открытый тариф", INDEX(GRID!$B$13:$BI$19,MATCH($G$7,GRID!$A$13:$A$19,0),MATCH(1,($U$2=GRID!$B$1:$BI$1)*(КАЛЕНДАРЬ!$AT5=GRID!$B$3:$BI$3), 0)), INDEX(GRID!$B$13:$BI$19,MATCH($G$7,GRID!$A$13:$A$19,0),MATCH(1,($U$2=GRID!$B$1:$BI$1)*(КАЛЕНДАРЬ!$AT5=GRID!$B$3:$BI$3), 0))*(1-GRID!$B$29))} -> 20900 | I32: {=IF($I$2="Открытый тариф", INDEX(GRID!$B$4:$BI$10,MATCH($I$7,GRID!$A$4:$A$10,0),MATCH(1,($U$2=GRID!$B$1:$BI$1)*(КАЛЕНДАРЬ!AT5=GRID!$B$3:$BI$3), 0)), INDEX(GRID!$B$4:$BI$10,MATCH($I$7,GRID!$A$4:$A$10,0),MATCH(1,($U$2=GRID!$B$1:$BI$1)*(КАЛЕНДАРЬ!AT5=GRID!$B$3:$BI$3), 0))*(1-GRID!$B$29))} -> 25000 | J32: {=IF($I$2="Открытый тариф", INDEX(GRID!$B$13:$BI$19,MATCH($I$7,GRID!$A$13:$A$19,0),MATCH(1,($U$2=GRID!$B$1:$BI$1)*(КАЛЕНДАРЬ!$AT5=GRID!$B$3:$BI$3), 0)), INDEX(GRID!$B$13:$BI$19,MATCH($I$7,GRID!$A$13:$A$19,0),MATCH(1,($U$2=GRID!$B$1:$BI$1)*(КАЛЕНДАРЬ!$AT5=GRID!$B$3:$BI$3), 0))*(1-GRID!$B$29))} -> 28300 | K32: {=IF($I$2="Открытый тариф", INDEX(GRID!$B$4:$BI$10,MATCH($K$7,GRID!$A$4:$A$10,0),MATCH(1,($U$2=GRID!$B$1:$BI$1)*(КАЛЕНДАРЬ!AT5=GRID!$B$3:$BI$3), 0)), INDEX(GRID!$B$4:$BI$10,MATCH($K$7,GRID!$A$4:$A$10,0),MATCH(1,($U$2=GRID!$B$1:$BI$1)*(КАЛЕНДАРЬ!AT5=GRID!$B$3:$BI$3), 0))*(1-GRID!$B$29))} -> 35500 | L32: {=IF($I$2="Открытый тариф", INDEX(GRID!$B$13:$BI$19,MATCH($K$7,GRID!$A$13:$A$19,0),MATCH(1,($U$2=GRID!$B$1:$BI$1)*(КАЛЕНДАРЬ!$AT5=GRID!$B$3:$BI$3), 0)), INDEX(GRID!$B$13:$BI$19,MATCH($K$7,GRID!$A$13:$A$19,0),MATCH(1,($U$2=GRID!$B$1:$BI$1)*(КАЛЕНДАРЬ!$AT5=GRID!$B$3:$BI$3), 0))*(1-GRID!$B$29))} -> 38800 | M32: {=IF($I$2="Открытый тариф", INDEX(GRID!$B$4:$BI$10,MATCH($M$7,GRID!$A$4:$A$10,0),MATCH(1,($U$2=GRID!$B$1:$BI$1)*(КАЛЕНДАРЬ!AT5=GRID!$B$3:$BI$3), 0)), INDEX(GRID!$B$4:$BI$10,MATCH($M$7,GRID!$A$4:$A$10,0),MATCH(1,($U$2=GRID!$B$1:$BI$1)*(КАЛЕНДАРЬ!AT5=GRID!$B$3:$BI$3), 0))*(1-GRID!$B$29))} -> 51300 | N32: {=IF($I$2="Открытый тариф", INDEX(GRID!$B$13:$BI$19,MATCH($M$7,GRID!$A$13:$A$19,0),MATCH(1,($U$2=GRID!$B$1:$BI$1)*(КАЛЕНДАРЬ!$AT5=GRID!$B$3:$BI$3), 0)), INDEX(GRID!$B$13:$BI$19,MATCH($M$7,GRID!$A$13:$A$19,0),MATCH(1,($U$2=GRID!$B$1:$BI$1)*(КАЛЕНДАРЬ!$AT5=GRID!$B$3:$BI$3), 0))*(1-GRID!$B$29))} -> 54600 | O32: {=IF($I$2="Открытый тариф", INDEX(GRID!$B$4:$BI$10,MATCH($O$7,GRID!$A$4:$A$10,0),MATCH(1,($U$2=GRID!$B$1:$BI$1)*(КАЛЕНДАРЬ!AT5=GRID!$B$3:$BI$3), 0)), INDEX(GRID!$B$4:$BI$10,MATCH($O$7,GRID!$A$4:$A$10,0),MATCH(1,($U$2=GRID!$B$1:$BI$1)*(КАЛЕНДАРЬ!AT5=GRID!$B$3:$BI$3), 0))*(1-GRID!$B$29))} -> 119400 | P32: {=IF($I$2="Открытый тариф", INDEX(GRID!$B$13:$BI$19,MATCH($O$7,GRID!$A$13:$A$19,0),MATCH(1,($U$2=GRID!$B$1:$BI$1)*(КАЛЕНДАРЬ!$AT5=GRID!$B$3:$BI$3), 0)), INDEX(GRID!$B$13:$BI$19,MATCH($O$7,GRID!$A$13:$A$19,0),MATCH(1,($U$2=GRID!$B$1:$BI$1)*(КАЛЕНДАРЬ!$AT5=GRID!$B$3:$BI$3), 0))*(1-GRID!$B$29))} -> 122700
A33: ВТ | B33: 3 | C33: {=IF($I$2="Открытый тариф", INDEX(GRID!$B$4:$BI$10,MATCH($C$7,GRID!$A$4:$A$10,0),MATCH(1,($U$2=GRID!$B$1:$BI$1)*(КАЛЕНДАРЬ!AT6=GRID!$B$3:$BI$3), 0)), INDEX(GRID!$B$4:$BI$10,MATCH($C$7,GRID!$A$4:$A$10,0),MATCH(1,($U$2=GRID!$B$1:$BI$1)*(КАЛЕНДАРЬ!AT6=GRID!$B$3:$BI$3), 0))*(1-GRID!$B$29))} -> 12800 | D33: {=IF($I$2="Открытый тариф", INDEX(GRID!$B$13:$BI$19,MATCH($C$7,GRID!$A$13:$A$19,0),MATCH(1,($U$2=GRID!$B$1:$BI$1)*(КАЛЕНДАРЬ!$AT6=GRID!$B$3:$BI$3), 0)), INDEX(GRID!$B$13:$BI$19,MATCH($C$7,GRID!$A$13:$A$19,0),MATCH(1,($U$2=GRID!$B$1:$BI$1)*(КАЛЕНДАРЬ!$AT6=GRID!$B$3:$BI$3), 0))*(1-GRID!$B$29))} -> 16100 | E33: {=IF($I$2="Открытый тариф", INDEX(GRID!$B$4:$BI$10,MATCH($E$7,GRID!$A$4:$A$10,0),MATCH(1,($U$2=GRID!$B$1:$BI$1)*(КАЛЕНДАРЬ!AT6=GRID!$B$3:$BI$3), 0)), INDEX(GRID!$B$4:$BI$10,MATCH($E$7,GRID!$A$4:$A$10,0),MATCH(1,($U$2=GRID!$B$1:$BI$1)*(КАЛЕНДАРЬ!AT6=GRID!$B$3:$BI$3), 0))*(1-GRID!$B$29))} -> 15700 | F33: {=IF($I$2="Открытый тариф", INDEX(GRID!$B$13:$BI$19,MATCH($E$7,GRID!$A$13:$A$19,0),MATCH(1,($U$2=GRID!$B$1:$BI$1)*(КАЛЕНДАРЬ!$AT6=GRID!$B$3:$BI$3), 0)), INDEX(GRID!$B$13:$BI$19,MATCH($E$7,GRID!$A$13:$A$19,0),MATCH(1,($U$2=GRID!$B$1:$BI$1)*(КАЛЕНДАРЬ!$AT6=GRID!$B$3:$BI$3), 0))*(1-GRID!$B$29))} -> 19000 | G33: {=IF($I$2="Открытый тариф", INDEX(GRID!$B$4:$BI$10,MATCH($G$7,GRID!$A$4:$A$10,0),MATCH(1,($U$2=GRID!$B$1:$BI$1)*(КАЛЕНДАРЬ!AT6=GRID!$B$3:$BI$3), 0)), INDEX(GRID!$B$4:$BI$10,MATCH($G$7,GRID!$A$4:$A$10,0),MATCH(1,($U$2=GRID!$B$1:$BI$1)*(КАЛЕНДАРЬ!AT6=GRID!$B$3:$BI$3), 0))*(1-GRID!$B$29))} -> 19200 | H33: {=IF($I$2="Открытый тариф", INDEX(GRID!$B$13:$BI$19,MATCH($G$7,GRID!$A$13:$A$19,0),MATCH(1,($U$2=GRID!$B$1:$BI$1)*(КАЛЕНДАРЬ!$AT6=GRID!$B$3:$BI$3), 0)), INDEX(GRID!$B$13:$BI$19,MATCH($G$7,GRID!$A$13:$A$19,0),MATCH(1,($U$2=GRID!$B$1:$BI$1)*(КАЛЕНДАРЬ!$AT6=GRID!$B$3:$BI$3), 0))*(1-GRID!$B$29))} -> 22500 | I33: {=IF($I$2="Открытый тариф", INDEX(GRID!$B$4:$BI$10,MATCH($I$7,GRID!$A$4:$A$10,0),MATCH(1,($U$2=GRID!$B$1:$BI$1)*(КАЛЕНДАРЬ!AT6=GRID!$B$3:$BI$3), 0)), INDEX(GRID!$B$4:$BI$10,MATCH($I$7,GRID!$A$4:$A$10,0),MATCH(1,($U$2=GRID!$B$1:$BI$1)*(КАЛЕНДАРЬ!AT6=GRID!$B$3:$BI$3), 0))*(1-GRID!$B$29))} -> 27300 | J33: {=IF($I$2="Открытый тариф", INDEX(GRID!$B$13:$BI$19,MATCH($I$7,GRID!$A$13:$A$19,0),MATCH(1,($U$2=GRID!$B$1:$BI$1)*(КАЛЕНДАРЬ!$AT6=GRID!$B$3:$BI$3), 0)), INDEX(GRID!$B$13:$BI$19,MATCH($I$7,GRID!$A$13:$A$19,0),MATCH(1,($U$2=GRID!$B$1:$BI$1)*(КАЛЕНДАРЬ!$AT6=GRID!$B$3:$BI$3), 0))*(1-GRID!$B$29))} -> 30600 | K33: {=IF($I$2="Открытый тариф", INDEX(GRID!$B$4:$BI$10,MATCH($K$7,GRID!$A$4:$A$10,0),MATCH(1,($U$2=GRID!$B$1:$BI$1)*(КАЛЕНДАРЬ!AT6=GRID!$B$3:$BI$3), 0)), INDEX(GRID!$B$4:$BI$10,MATCH($K$7,GRID!$A$4:$A$10,0),MATCH(1,($U$2=GRID!$B$1:$BI$1)*(КАЛЕНДАРЬ!AT6=GRID!$B$3:$BI$3), 0))*(1-GRID!$B$29))} -> 38800 | L33: {=IF($I$2="Открытый тариф", INDEX(GRID!$B$13:$BI$19,MATCH($K$7,GRID!$A$13:$A$19,0),MATCH(1,($U$2=GRID!$B$1:$BI$1)*(КАЛЕНДАРЬ!$AT6=GRID!$B$3:$BI$3), 0)), INDEX(GRID!$B$13:$BI$19,MATCH($K$7,GRID!$A$13:$A$19,0),MATCH(1,($U$2=GRID!$B$1:$BI$1)*(КАЛЕНДАРЬ!$AT6=GRID!$B$3:$BI$3), 0))*(1-GRID!$B$29))} -> 42100 | M33: {=IF($I$2="Открытый тариф", INDEX(GRID!$B$4:$BI$10,MATCH($M$7,GRID!$A$4:$A$10,0),MATCH(1,($U$2=GRID!$B$1:$BI$1)*(КАЛЕНДАРЬ!AT6=GRID!$B$3:$BI$3), 0)), INDEX(GRID!$B$4:$BI$10,MATCH($M$7,GRID!$A$4:$A$10,0),MATCH(1,($U$2=GRID!$B$1:$BI$1)*(КАЛЕНДАРЬ!AT6=GRID!$B$3:$BI$3), 0))*(1-GRID!$B$29))} -> 56100 | N33: {=IF($I$2="Открытый тариф", INDEX(GRID!$B$13:$BI$19,MATCH($M$7,GRID!$A$13:$A$19,0),MATCH(1,($U$2=GRID!$B$1:$BI$1)*(КАЛЕНДАРЬ!$AT6=GRID!$B$3:$BI$3), 0)), INDEX(GRID!$B$13:$BI$19,MATCH($M$7,GRID!$A$13:$A$19,0),MATCH(1,($U$2=GRID!$B$1:$BI$1)*(КАЛЕНДАРЬ!$AT6=GRID!$B$3:$BI$3), 0))*(1-GRID!$B$29))} -> 59400 | O33: {=IF($I$2="Открытый тариф", INDEX(GRID!$B$4:$BI$10,MATCH($O$7,GRID!$A$4:$A$10,0),MATCH(1,($U$2=GRID!$B$1:$BI$1)*(КАЛЕНДАРЬ!AT6=GRID!$B$3:$BI$3), 0)), INDEX(GRID!$B$4:$BI$10,MATCH($O$7,GRID!$A$4:$A$10,0),MATCH(1,($U$2=GRID!$B$1:$BI$1)*(КАЛЕНДАРЬ!AT6=GRID!$B$3:$BI$3), 0))*(1-GRID!$B$29))} -> 132000 | P33: {=IF($I$2="Открытый тариф", INDEX(GRID!$B$13:$BI$19,MATCH($O$7,GRID!$A$13:$A$19,0),MATCH(1,($U$2=GRID!$B$1:$BI$1)*(КАЛЕНДАРЬ!$AT6=GRID!$B$3:$BI$3), 0)), INDEX(GRID!$B$13:$BI$19,MATCH($O$7,GRID!$A$13:$A$19,0),MATCH(1,($U$2=GRID!$B$1:$BI$1)*(КАЛЕНДАРЬ!$AT6=GRID!$B$3:$BI$3), 0))*(1-GRID!$B$29))} -> 135300
A34: СР | B34: 4 | C34: {=IF($I$2="Открытый тариф", INDEX(GRID!$B$4:$BI$10,MATCH($C$7,GRID!$A$4:$A$10,0),MATCH(1,($U$2=GRID!$B$1:$BI$1)*(КАЛЕНДАРЬ!AT7=GRID!$B$3:$BI$3), 0)), INDEX(GRID!$B$4:$BI$10,MATCH($C$7,GRID!$A$4:$A$10,0),MATCH(1,($U$2=GRID!$B$1:$BI$1)*(КАЛЕНДАРЬ!AT7=GRID!$B$3:$BI$3), 0))*(1-GRID!$B$29))} -> 12800 | D34: {=IF($I$2="Открытый тариф", INDEX(GRID!$B$13:$BI$19,MATCH($C$7,GRID!$A$13:$A$19,0),MATCH(1,($U$2=GRID!$B$1:$BI$1)*(КАЛЕНДАРЬ!$AT7=GRID!$B$3:$BI$3), 0)), INDEX(GRID!$B$13:$BI$19,MATCH($C$7,GRID!$A$13:$A$19,0),MATCH(1,($U$2=GRID!$B$1:$BI$1)*(КАЛЕНДАРЬ!$AT7=GRID!$B$3:$BI$3), 0))*(1-GRID!$B$29))} -> 16100 | E34: {=IF($I$2="Открытый тариф", INDEX(GRID!$B$4:$BI$10,MATCH($E$7,GRID!$A$4:$A$10,0),MATCH(1,($U$2=GRID!$B$1:$BI$1)*(КАЛЕНДАРЬ!AT7=GRID!$B$3:$BI$3), 0)), INDEX(GRID!$B$4:$BI$10,MATCH($E$7,GRID!$A$4:$A$10,0),MATCH(1,($U$2=GRID!$B$1:$BI$1)*(КАЛЕНДАРЬ!AT7=GRID!$B$3:$BI$3), 0))*(1-GRID!$B$29))} -> 15700 | F34: {=IF($I$2="Открытый тариф", INDEX(GRID!$B$13:$BI$19,MATCH($E$7,GRID!$A$13:$A$19,0),MATCH(1,($U$2=GRID!$B$1:$BI$1)*(КАЛЕНДАРЬ!$AT7=GRID!$B$3:$BI$3), 0)), INDEX(GRID!$B$13:$BI$19,MATCH($E$7,GRID!$A$13:$A$19,0),MATCH(1,($U$2=GRID!$B$1:$BI$1)*(КАЛЕНДАРЬ!$AT7=GRID!$B$3:$BI$3), 0))*(1-GRID!$B$29))} -> 19000 | G34: {=IF($I$2="Открытый тариф", INDEX(GRID!$B$4:$BI$10,MATCH($G$7,GRID!$A$4:$A$10,0),MATCH(1,($U$2=GRID!$B$1:$BI$1)*(КАЛЕНДАРЬ!AT7=GRID!$B$3:$BI$3), 0)), INDEX(GRID!$B$4:$BI$10,MATCH($G$7,GRID!$A$4:$A$10,0),MATCH(1,($U$2=GRID!$B$1:$BI$1)*(КАЛЕНДАРЬ!AT7=GRID!$B$3:$BI$3), 0))*(1-GRID!$B$29))} -> 19200 | H34: {=IF($I$2="Открытый тариф", INDEX(GRID!$B$13:$BI$19,MATCH($G$7,GRID!$A$13:$A$19,0),MATCH(1,($U$2=GRID!$B$1:$BI$1)*(КАЛЕНДАРЬ!$AT7=GRID!$B$3:$BI$3), 0)), INDEX(GRID!$B$13:$BI$19,MATCH($G$7,GRID!$A$13:$A$19,0),MATCH(1,($U$2=GRID!$B$1:$BI$1)*(КАЛЕНДАРЬ!$AT7=GRID!$B$3:$BI$3), 0))*(1-GRID!$B$29))} -> 22500 | I34: {=IF($I$2="Открытый тариф", INDEX(GRID!$B$4:$BI$10,MATCH($I$7,GRID!$A$4:$A$10,0),MATCH(1,($U$2=GRID!$B$1:$BI$1)*(КАЛЕНДАРЬ!AT7=GRID!$B$3:$BI$3), 0)), INDEX(GRID!$B$4:$BI$10,MATCH($I$7,GRID!$A$4:$A$10,0),MATCH(1,($U$2=GRID!$B$1:$BI$1)*(КАЛЕНДАРЬ!AT7=GRID!$B$3:$BI$3), 0))*(1-GRID!$B$29))} -> 27300 | J34: {=IF($I$2="Открытый тариф", INDEX(GRID!$B$13:$BI$19,MATCH($I$7,GRID!$A$13:$A$19,0),MATCH(1,($U$2=GRID!$B$1:$BI$1)*(КАЛЕНДАРЬ!$AT7=GRID!$B$3:$BI$3), 0)), INDEX(GRID!$B$13:$BI$19,MATCH($I$7,GRID!$A$13:$A$19,0),MATCH(1,($U$2=GRID!$B$1:$BI$1)*(КАЛЕНДАРЬ!$AT7=GRID!$B$3:$BI$3), 0))*(1-GRID!$B$29))} -> 30600 | K34: {=IF($I$2="Открытый тариф", INDEX(GRID!$B$4:$BI$10,MATCH($K$7,GRID!$A$4:$A$10,0),MATCH(1,($U$2=GRID!$B$1:$BI$1)*(КАЛЕНДАРЬ!AT7=GRID!$B$3:$BI$3), 0)), INDEX(GRID!$B$4:$BI$10,MATCH($K$7,GRID!$A$4:$A$10,0),MATCH(1,($U$2=GRID!$B$1:$BI$1)*(КАЛЕНДАРЬ!AT7=GRID!$B$3:$BI$3), 0))*(1-GRID!$B$29))} -> 38800 | L34: {=IF($I$2="Открытый тариф", INDEX(GRID!$B$13:$BI$19,MATCH($K$7,GRID!$A$13:$A$19,0),MATCH(1,($U$2=GRID!$B$1:$BI$1)*(КАЛЕНДАРЬ!$AT7=GRID!$B$3:$BI$3), 0)), INDEX(GRID!$B$13:$BI$19,MATCH($K$7,GRID!$A$13:$A$19,0),MATCH(1,($U$2=GRID!$B$1:$BI$1)*(КАЛЕНДАРЬ!$AT7=GRID!$B$3:$BI$3), 0))*(1-GRID!$B$29))} -> 42100 | M34: {=IF($I$2="Открытый тариф", INDEX(GRID!$B$4:$BI$10,MATCH($M$7,GRID!$A$4:$A$10,0),MATCH(1,($U$2=GRID!$B$1:$BI$1)*(КАЛЕНДАРЬ!AT7=GRID!$B$3:$BI$3), 0)), INDEX(GRID!$B$4:$BI$10,MATCH($M$7,GRID!$A$4:$A$10,0),MATCH(1,($U$2=GRID!$B$1:$BI$1)*(КАЛЕНДАРЬ!AT7=GRID!$B$3:$BI$3), 0))*(1-GRID!$B$29))} -> 56100 | N34: {=IF($I$2="Открытый тариф", INDEX(GRID!$B$13:$BI$19,MATCH($M$7,GRID!$A$13:$A$19,0),MATCH(1,($U$2=GRID!$B$1:$BI$1)*(КАЛЕНДАРЬ!$AT7=GRID!$B$3:$BI$3), 0)), INDEX(GRID!$B$13:$BI$19,MATCH($M$7,GRID!$A$13:$A$19,0),MATCH(1,($U$2=GRID!$B$1:$BI$1)*(КАЛЕНДАРЬ!$AT7=GRID!$B$3:$BI$3), 0))*(1-GRID!$B$29))} -> 59400 | O34: {=IF($I$2="Открытый тариф", INDEX(GRID!$B$4:$BI$10,MATCH($O$7,GRID!$A$4:$A$10,0),MATCH(1,($U$2=GRID!$B$1:$BI$1)*(КАЛЕНДАРЬ!AT7=GRID!$B$3:$BI$3), 0)), INDEX(GRID!$B$4:$BI$10,MATCH($O$7,GRID!$A$4:$A$10,0),MATCH(1,($U$2=GRID!$B$1:$BI$1)*(КАЛЕНДАРЬ!AT7=GRID!$B$3:$BI$3), 0))*(1-GRID!$B$29))} -> 132000 | P34: {=IF($I$2="Открытый тариф", INDEX(GRID!$B$13:$BI$19,MATCH($O$7,GRID!$A$13:$A$19,0),MATCH(1,($U$2=GRID!$B$1:$BI$1)*(КАЛЕНДАРЬ!$AT7=GRID!$B$3:$BI$3), 0)), INDEX(GRID!$B$13:$BI$19,MATCH($O$7,GRID!$A$13:$A$19,0),MATCH(1,($U$2=GRID!$B$1:$BI$1)*(КАЛЕНДАРЬ!$AT7=GRID!$B$3:$BI$3), 0))*(1-GRID!$B$29))} -> 135300
A35: ЧТ | B35: 5 | C35: {=IF($I$2="Открытый тариф", INDEX(GRID!$B$4:$BI$10,MATCH($C$7,GRID!$A$4:$A$10,0),MATCH(1,($U$2=GRID!$B$1:$BI$1)*(КАЛЕНДАРЬ!AT8=GRID!$B$3:$BI$3), 0)), INDEX(GRID!$B$4:$BI$10,MATCH($C$7,GRID!$A$4:$A$10,0),MATCH(1,($U$2=GRID!$B$1:$BI$1)*(КАЛЕНДАРЬ!AT8=GRID!$B$3:$BI$3), 0))*(1-GRID!$B$29))} -> 12800 | D35: {=IF($I$2="Открытый тариф", INDEX(GRID!$B$13:$BI$19,MATCH($C$7,GRID!$A$13:$A$19,0),MATCH(1,($U$2=GRID!$B$1:$BI$1)*(КАЛЕНДАРЬ!$AT8=GRID!$B$3:$BI$3), 0)), INDEX(GRID!$B$13:$BI$19,MATCH($C$7,GRID!$A$13:$A$19,0),MATCH(1,($U$2=GRID!$B$1:$BI$1)*(КАЛЕНДАРЬ!$AT8=GRID!$B$3:$BI$3), 0))*(1-GRID!$B$29))} -> 16100 | E35: {=IF($I$2="Открытый тариф", INDEX(GRID!$B$4:$BI$10,MATCH($E$7,GRID!$A$4:$A$10,0),MATCH(1,($U$2=GRID!$B$1:$BI$1)*(КАЛЕНДАРЬ!AT8=GRID!$B$3:$BI$3), 0)), INDEX(GRID!$B$4:$BI$10,MATCH($E$7,GRID!$A$4:$A$10,0),MATCH(1,($U$2=GRID!$B$1:$BI$1)*(КАЛЕНДАРЬ!AT8=GRID!$B$3:$BI$3), 0))*(1-GRID!$B$29))} -> 15700 | F35: {=IF($I$2="Открытый тариф", INDEX(GRID!$B$13:$BI$19,MATCH($E$7,GRID!$A$13:$A$19,0),MATCH(1,($U$2=GRID!$B$1:$BI$1)*(КАЛЕНДАРЬ!$AT8=GRID!$B$3:$BI$3), 0)), INDEX(GRID!$B$13:$BI$19,MATCH($E$7,GRID!$A$13:$A$19,0),MATCH(1,($U$2=GRID!$B$1:$BI$1)*(КАЛЕНДАРЬ!$AT8=GRID!$B$3:$BI$3), 0))*(1-GRID!$B$29))} -> 19000 | G35: {=IF($I$2="Открытый тариф", INDEX(GRID!$B$4:$BI$10,MATCH($G$7,GRID!$A$4:$A$10,0),MATCH(1,($U$2=GRID!$B$1:$BI$1)*(КАЛЕНДАРЬ!AT8=GRID!$B$3:$BI$3), 0)), INDEX(GRID!$B$4:$BI$10,MATCH($G$7,GRID!$A$4:$A$10,0),MATCH(1,($U$2=GRID!$B$1:$BI$1)*(КАЛЕНДАРЬ!AT8=GRID!$B$3:$BI$3), 0))*(1-GRID!$B$29))} -> 19200 | H35: {=IF($I$2="Открытый тариф", INDEX(GRID!$B$13:$BI$19,MATCH($G$7,GRID!$A$13:$A$19,0),MATCH(1,($U$2=GRID!$B$1:$BI$1)*(КАЛЕНДАРЬ!$AT8=GRID!$B$3:$BI$3), 0)), INDEX(GRID!$B$13:$BI$19,MATCH($G$7,GRID!$A$13:$A$19,0),MATCH(1,($U$2=GRID!$B$1:$BI$1)*(КАЛЕНДАРЬ!$AT8=GRID!$B$3:$BI$3), 0))*(1-GRID!$B$29))} -> 22500 | I35: {=IF($I$2="Открытый тариф", INDEX(GRID!$B$4:$BI$10,MATCH($I$7,GRID!$A$4:$A$10,0),MATCH(1,($U$2=GRID!$B$1:$BI$1)*(КАЛЕНДАРЬ!AT8=GRID!$B$3:$BI$3), 0)), INDEX(GRID!$B$4:$BI$10,MATCH($I$7,GRID!$A$4:$A$10,0),MATCH(1,($U$2=GRID!$B$1:$BI$1)*(КАЛЕНДАРЬ!AT8=GRID!$B$3:$BI$3), 0))*(1-GRID!$B$29))} -> 27300 | J35: {=IF($I$2="Открытый тариф", INDEX(GRID!$B$13:$BI$19,MATCH($I$7,GRID!$A$13:$A$19,0),MATCH(1,($U$2=GRID!$B$1:$BI$1)*(КАЛЕНДАРЬ!$AT8=GRID!$B$3:$BI$3), 0)), INDEX(GRID!$B$13:$BI$19,MATCH($I$7,GRID!$A$13:$A$19,0),MATCH(1,($U$2=GRID!$B$1:$BI$1)*(КАЛЕНДАРЬ!$AT8=GRID!$B$3:$BI$3), 0))*(1-GRID!$B$29))} -> 30600 | K35: {=IF($I$2="Открытый тариф", INDEX(GRID!$B$4:$BI$10,MATCH($K$7,GRID!$A$4:$A$10,0),MATCH(1,($U$2=GRID!$B$1:$BI$1)*(КАЛЕНДАРЬ!AT8=GRID!$B$3:$BI$3), 0)), INDEX(GRID!$B$4:$BI$10,MATCH($K$7,GRID!$A$4:$A$10,0),MATCH(1,($U$2=GRID!$B$1:$BI$1)*(КАЛЕНДАРЬ!AT8=GRID!$B$3:$BI$3), 0))*(1-GRID!$B$29))} -> 38800 | L35: {=IF($I$2="Открытый тариф", INDEX(GRID!$B$13:$BI$19,MATCH($K$7,GRID!$A$13:$A$19,0),MATCH(1,($U$2=GRID!$B$1:$BI$1)*(КАЛЕНДАРЬ!$AT8=GRID!$B$3:$BI$3), 0)), INDEX(GRID!$B$13:$BI$19,MATCH($K$7,GRID!$A$13:$A$19,0),MATCH(1,($U$2=GRID!$B$1:$BI$1)*(КАЛЕНДАРЬ!$AT8=GRID!$B$3:$BI$3), 0))*(1-GRID!$B$29))} -> 42100 | M35: {=IF($I$2="Открытый тариф", INDEX(GRID!$B$4:$BI$10,MATCH($M$7,GRID!$A$4:$A$10,0),MATCH(1,($U$2=GRID!$B$1:$BI$1)*(КАЛЕНДАРЬ!AT8=GRID!$B$3:$BI$3), 0)), INDEX(GRID!$B$4:$BI$10,MATCH($M$7,GRID!$A$4:$A$10,0),MATCH(1,($U$2=GRID!$B$1:$BI$1)*(КАЛЕНДАРЬ!AT8=GRID!$B$3:$BI$3), 0))*(1-GRID!$B$29))} -> 56100 | N35: {=IF($I$2="Открытый тариф", INDEX(GRID!$B$13:$BI$19,MATCH($M$7,GRID!$A$13:$A$19,0),MATCH(1,($U$2=GRID!$B$1:$BI$1)*(КАЛЕНДАРЬ!$AT8=GRID!$B$3:$BI$3), 0)), INDEX(GRID!$B$13:$BI$19,MATCH($M$7,GRID!$A$13:$A$19,0),MATCH(1,($U$2=GRID!$B$1:$BI$1)*(КАЛЕНДАРЬ!$AT8=GRID!$B$3:$BI$3), 0))*(1-GRID!$B$29))} -> 59400 | O35: {=IF($I$2="Открытый тариф", INDEX(GRID!$B$4:$BI$10,MATCH($O$7,GRID!$A$4:$A$10,0),MATCH(1,($U$2=GRID!$B$1:$BI$1)*(КАЛЕНДАРЬ!AT8=GRID!$B$3:$BI$3), 0)), INDEX(GRID!$B$4:$BI$10,MATCH($O$7,GRID!$A$4:$A$10,0),MATCH(1,($U$2=GRID!$B$1:$BI$1)*(КАЛЕНДАРЬ!AT8=GRID!$B$3:$BI$3), 0))*(1-GRID!$B$29))} -> 132000 | P35: {=IF($I$2="Открытый тариф", INDEX(GRID!$B$13:$BI$19,MATCH($O$7,GRID!$A$13:$A$19,0),MATCH(1,($U$2=GRID!$B$1:$BI$1)*(КАЛЕНДАРЬ!$AT8=GRID!$B$3:$BI$3), 0)), INDEX(GRID!$B$13:$BI$19,MATCH($O$7,GRID!$A$13:$A$19,0),MATCH(1,($U$2=GRID!$B$1:$BI$1)*(КАЛЕНДАРЬ!$AT8=GRID!$B$3:$BI$3), 0))*(1-GRID!$B$29))} -> 135300
A36: ПТ | B36: 6 | C36: {=IF($I$2="Открытый тариф", INDEX(GRID!$B$4:$BI$10,MATCH($C$7,GRID!$A$4:$A$10,0),MATCH(1,($U$2=GRID!$B$1:$BI$1)*(КАЛЕНДАРЬ!AT9=GRID!$B$3:$BI$3), 0)), INDEX(GRID!$B$4:$BI$10,MATCH($C$7,GRID!$A$4:$A$10,0),MATCH(1,($U$2=GRID!$B$1:$BI$1)*(КАЛЕНДАРЬ!AT9=GRID!$B$3:$BI$3), 0))*(1-GRID!$B$29))} -> 16900 | D36: {=IF($I$2="Открытый тариф", INDEX(GRID!$B$13:$BI$19,MATCH($C$7,GRID!$A$13:$A$19,0),MATCH(1,($U$2=GRID!$B$1:$BI$1)*(КАЛЕНДАРЬ!$AT9=GRID!$B$3:$BI$3), 0)), INDEX(GRID!$B$13:$BI$19,MATCH($C$7,GRID!$A$13:$A$19,0),MATCH(1,($U$2=GRID!$B$1:$BI$1)*(КАЛЕНДАРЬ!$AT9=GRID!$B$3:$BI$3), 0))*(1-GRID!$B$29))} -> 20200 | E36: {=IF($I$2="Открытый тариф", INDEX(GRID!$B$4:$BI$10,MATCH($E$7,GRID!$A$4:$A$10,0),MATCH(1,($U$2=GRID!$B$1:$BI$1)*(КАЛЕНДАРЬ!AT9=GRID!$B$3:$BI$3), 0)), INDEX(GRID!$B$4:$BI$10,MATCH($E$7,GRID!$A$4:$A$10,0),MATCH(1,($U$2=GRID!$B$1:$BI$1)*(КАЛЕНДАРЬ!AT9=GRID!$B$3:$BI$3), 0))*(1-GRID!$B$29))} -> 20400 | F36: {=IF($I$2="Открытый тариф", INDEX(GRID!$B$13:$BI$19,MATCH($E$7,GRID!$A$13:$A$19,0),MATCH(1,($U$2=GRID!$B$1:$BI$1)*(КАЛЕНДАРЬ!$AT9=GRID!$B$3:$BI$3), 0)), INDEX(GRID!$B$13:$BI$19,MATCH($E$7,GRID!$A$13:$A$19,0),MATCH(1,($U$2=GRID!$B$1:$BI$1)*(КАЛЕНДАРЬ!$AT9=GRID!$B$3:$BI$3), 0))*(1-GRID!$B$29))} -> 23700 | G36: {=IF($I$2="Открытый тариф", INDEX(GRID!$B$4:$BI$10,MATCH($G$7,GRID!$A$4:$A$10,0),MATCH(1,($U$2=GRID!$B$1:$BI$1)*(КАЛЕНДАРЬ!AT9=GRID!$B$3:$BI$3), 0)), INDEX(GRID!$B$4:$BI$10,MATCH($G$7,GRID!$A$4:$A$10,0),MATCH(1,($U$2=GRID!$B$1:$BI$1)*(КАЛЕНДАРЬ!AT9=GRID!$B$3:$BI$3), 0))*(1-GRID!$B$29))} -> 24600 | H36: {=IF($I$2="Открытый тариф", INDEX(GRID!$B$13:$BI$19,MATCH($G$7,GRID!$A$13:$A$19,0),MATCH(1,($U$2=GRID!$B$1:$BI$1)*(КАЛЕНДАРЬ!$AT9=GRID!$B$3:$BI$3), 0)), INDEX(GRID!$B$13:$BI$19,MATCH($G$7,GRID!$A$13:$A$19,0),MATCH(1,($U$2=GRID!$B$1:$BI$1)*(КАЛЕНДАРЬ!$AT9=GRID!$B$3:$BI$3), 0))*(1-GRID!$B$29))} -> 27900 | I36: {=IF($I$2="Открытый тариф", INDEX(GRID!$B$4:$BI$10,MATCH($I$7,GRID!$A$4:$A$10,0),MATCH(1,($U$2=GRID!$B$1:$BI$1)*(КАЛЕНДАРЬ!AT9=GRID!$B$3:$BI$3), 0)), INDEX(GRID!$B$4:$BI$10,MATCH($I$7,GRID!$A$4:$A$10,0),MATCH(1,($U$2=GRID!$B$1:$BI$1)*(КАЛЕНДАРЬ!AT9=GRID!$B$3:$BI$3), 0))*(1-GRID!$B$29))} -> 34400 | J36: {=IF($I$2="Открытый тариф", INDEX(GRID!$B$13:$BI$19,MATCH($I$7,GRID!$A$13:$A$19,0),MATCH(1,($U$2=GRID!$B$1:$BI$1)*(КАЛЕНДАРЬ!$AT9=GRID!$B$3:$BI$3), 0)), INDEX(GRID!$B$13:$BI$19,MATCH($I$7,GRID!$A$13:$A$19,0),MATCH(1,($U$2=GRID!$B$1:$BI$1)*(КАЛЕНДАРЬ!$AT9=GRID!$B$3:$BI$3), 0))*(1-GRID!$B$29))} -> 37700 | K36: {=IF($I$2="Открытый тариф", INDEX(GRID!$B$4:$BI$10,MATCH($K$7,GRID!$A$4:$A$10,0),MATCH(1,($U$2=GRID!$B$1:$BI$1)*(КАЛЕНДАРЬ!AT9=GRID!$B$3:$BI$3), 0)), INDEX(GRID!$B$4:$BI$10,MATCH($K$7,GRID!$A$4:$A$10,0),MATCH(1,($U$2=GRID!$B$1:$BI$1)*(КАЛЕНДАРЬ!AT9=GRID!$B$3:$BI$3), 0))*(1-GRID!$B$29))} -> 48400 | L36: {=IF($I$2="Открытый тариф", INDEX(GRID!$B$13:$BI$19,MATCH($K$7,GRID!$A$13:$A$19,0),MATCH(1,($U$2=GRID!$B$1:$BI$1)*(КАЛЕНДАРЬ!$AT9=GRID!$B$3:$BI$3), 0)), INDEX(GRID!$B$13:$BI$19,MATCH($K$7,GRID!$A$13:$A$19,0),MATCH(1,($U$2=GRID!$B$1:$BI$1)*(КАЛЕНДАРЬ!$AT9=GRID!$B$3:$BI$3), 0))*(1-GRID!$B$29))} -> 51700 | M36: {=IF($I$2="Открытый тариф", INDEX(GRID!$B$4:$BI$10,MATCH($M$7,GRID!$A$4:$A$10,0),MATCH(1,($U$2=GRID!$B$1:$BI$1)*(КАЛЕНДАРЬ!AT9=GRID!$B$3:$BI$3), 0)), INDEX(GRID!$B$4:$BI$10,MATCH($M$7,GRID!$A$4:$A$10,0),MATCH(1,($U$2=GRID!$B$1:$BI$1)*(КАЛЕНДАРЬ!AT9=GRID!$B$3:$BI$3), 0))*(1-GRID!$B$29))} -> 69400 | N36: {=IF($I$2="Открытый тариф", INDEX(GRID!$B$13:$BI$19,MATCH($M$7,GRID!$A$13:$A$19,0),MATCH(1,($U$2=GRID!$B$1:$BI$1)*(КАЛЕНДАРЬ!$AT9=GRID!$B$3:$BI$3), 0)), INDEX(GRID!$B$13:$BI$19,MATCH($M$7,GRID!$A$13:$A$19,0),MATCH(1,($U$2=GRID!$B$1:$BI$1)*(КАЛЕНДАРЬ!$AT9=GRID!$B$3:$BI$3), 0))*(1-GRID!$B$29))} -> 72700 | O36: {=IF($I$2="Открытый тариф", INDEX(GRID!$B$4:$BI$10,MATCH($O$7,GRID!$A$4:$A$10,0),MATCH(1,($U$2=GRID!$B$1:$BI$1)*(КАЛЕНДАРЬ!AT9=GRID!$B$3:$BI$3), 0)), INDEX(GRID!$B$4:$BI$10,MATCH($O$7,GRID!$A$4:$A$10,0),MATCH(1,($U$2=GRID!$B$1:$BI$1)*(КАЛЕНДАРЬ!AT9=GRID!$B$3:$BI$3), 0))*(1-GRID!$B$29))} -> 165400 | P36: {=IF($I$2="Открытый тариф", INDEX(GRID!$B$13:$BI$19,MATCH($O$7,GRID!$A$13:$A$19,0),MATCH(1,($U$2=GRID!$B$1:$BI$1)*(КАЛЕНДАРЬ!$AT9=GRID!$B$3:$BI$3), 0)), INDEX(GRID!$B$13:$BI$19,MATCH($O$7,GRID!$A$13:$A$19,0),MATCH(1,($U$2=GRID!$B$1:$BI$1)*(КАЛЕНДАРЬ!$AT9=GRID!$B$3:$BI$3), 0))*(1-GRID!$B$29))} -> 168700
A37: СБ | B37: 7 | C37: {=IF($I$2="Открытый тариф", INDEX(GRID!$B$4:$BI$10,MATCH($C$7,GRID!$A$4:$A$10,0),MATCH(1,($U$2=GRID!$B$1:$BI$1)*(КАЛЕНДАРЬ!AT10=GRID!$B$3:$BI$3), 0)), INDEX(GRID!$B$4:$BI$10,MATCH($C$7,GRID!$A$4:$A$10,0),MATCH(1,($U$2=GRID!$B$1:$BI$1)*(КАЛЕНДАРЬ!AT10=GRID!$B$3:$BI$3), 0))*(1-GRID!$B$29))} -> 18000 | D37: {=IF($I$2="Открытый тариф", INDEX(GRID!$B$13:$BI$19,MATCH($C$7,GRID!$A$13:$A$19,0),MATCH(1,($U$2=GRID!$B$1:$BI$1)*(КАЛЕНДАРЬ!$AT10=GRID!$B$3:$BI$3), 0)), INDEX(GRID!$B$13:$BI$19,MATCH($C$7,GRID!$A$13:$A$19,0),MATCH(1,($U$2=GRID!$B$1:$BI$1)*(КАЛЕНДАРЬ!$AT10=GRID!$B$3:$BI$3), 0))*(1-GRID!$B$29))} -> 21300 | E37: {=IF($I$2="Открытый тариф", INDEX(GRID!$B$4:$BI$10,MATCH($E$7,GRID!$A$4:$A$10,0),MATCH(1,($U$2=GRID!$B$1:$BI$1)*(КАЛЕНДАРЬ!AT10=GRID!$B$3:$BI$3), 0)), INDEX(GRID!$B$4:$BI$10,MATCH($E$7,GRID!$A$4:$A$10,0),MATCH(1,($U$2=GRID!$B$1:$BI$1)*(КАЛЕНДАРЬ!AT10=GRID!$B$3:$BI$3), 0))*(1-GRID!$B$29))} -> 21700 | F37: {=IF($I$2="Открытый тариф", INDEX(GRID!$B$13:$BI$19,MATCH($E$7,GRID!$A$13:$A$19,0),MATCH(1,($U$2=GRID!$B$1:$BI$1)*(КАЛЕНДАРЬ!$AT10=GRID!$B$3:$BI$3), 0)), INDEX(GRID!$B$13:$BI$19,MATCH($E$7,GRID!$A$13:$A$19,0),MATCH(1,($U$2=GRID!$B$1:$BI$1)*(КАЛЕНДАРЬ!$AT10=GRID!$B$3:$BI$3), 0))*(1-GRID!$B$29))} -> 25000 | G37: {=IF($I$2="Открытый тариф", INDEX(GRID!$B$4:$BI$10,MATCH($G$7,GRID!$A$4:$A$10,0),MATCH(1,($U$2=GRID!$B$1:$BI$1)*(КАЛЕНДАРЬ!AT10=GRID!$B$3:$BI$3), 0)), INDEX(GRID!$B$4:$BI$10,MATCH($G$7,GRID!$A$4:$A$10,0),MATCH(1,($U$2=GRID!$B$1:$BI$1)*(КАЛЕНДАРЬ!AT10=GRID!$B$3:$BI$3), 0))*(1-GRID!$B$29))} -> 26100 | H37: {=IF($I$2="Открытый тариф", INDEX(GRID!$B$13:$BI$19,MATCH($G$7,GRID!$A$13:$A$19,0),MATCH(1,($U$2=GRID!$B$1:$BI$1)*(КАЛЕНДАРЬ!$AT10=GRID!$B$3:$BI$3), 0)), INDEX(GRID!$B$13:$BI$19,MATCH($G$7,GRID!$A$13:$A$19,0),MATCH(1,($U$2=GRID!$B$1:$BI$1)*(КАЛЕНДАРЬ!$AT10=GRID!$B$3:$BI$3), 0))*(1-GRID!$B$29))} -> 29400 | I37: {=IF($I$2="Открытый тариф", INDEX(GRID!$B$4:$BI$10,MATCH($I$7,GRID!$A$4:$A$10,0),MATCH(1,($U$2=GRID!$B$1:$BI$1)*(КАЛЕНДАРЬ!AT10=GRID!$B$3:$BI$3), 0)), INDEX(GRID!$B$4:$BI$10,MATCH($I$7,GRID!$A$4:$A$10,0),MATCH(1,($U$2=GRID!$B$1:$BI$1)*(КАЛЕНДАРЬ!AT10=GRID!$B$3:$BI$3), 0))*(1-GRID!$B$29))} -> 36300 | J37: {=IF($I$2="Открытый тариф", INDEX(GRID!$B$13:$BI$19,MATCH($I$7,GRID!$A$13:$A$19,0),MATCH(1,($U$2=GRID!$B$1:$BI$1)*(КАЛЕНДАРЬ!$AT10=GRID!$B$3:$BI$3), 0)), INDEX(GRID!$B$13:$BI$19,MATCH($I$7,GRID!$A$13:$A$19,0),MATCH(1,($U$2=GRID!$B$1:$BI$1)*(КАЛЕНДАРЬ!$AT10=GRID!$B$3:$BI$3), 0))*(1-GRID!$B$29))} -> 39600 | K37: {=IF($I$2="Открытый тариф", INDEX(GRID!$B$4:$BI$10,MATCH($K$7,GRID!$A$4:$A$10,0),MATCH(1,($U$2=GRID!$B$1:$BI$1)*(КАЛЕНДАРЬ!AT10=GRID!$B$3:$BI$3), 0)), INDEX(GRID!$B$4:$BI$10,MATCH($K$7,GRID!$A$4:$A$10,0),MATCH(1,($U$2=GRID!$B$1:$BI$1)*(КАЛЕНДАРЬ!AT10=GRID!$B$3:$BI$3), 0))*(1-GRID!$B$29))} -> 50800 | L37: {=IF($I$2="Открытый тариф", INDEX(GRID!$B$13:$BI$19,MATCH($K$7,GRID!$A$13:$A$19,0),MATCH(1,($U$2=GRID!$B$1:$BI$1)*(КАЛЕНДАРЬ!$AT10=GRID!$B$3:$BI$3), 0)), INDEX(GRID!$B$13:$BI$19,MATCH($K$7,GRID!$A$13:$A$19,0),MATCH(1,($U$2=GRID!$B$1:$BI$1)*(КАЛЕНДАРЬ!$AT10=GRID!$B$3:$BI$3), 0))*(1-GRID!$B$29))} -> 54100 | M37: {=IF($I$2="Открытый тариф", INDEX(GRID!$B$4:$BI$10,MATCH($M$7,GRID!$A$4:$A$10,0),MATCH(1,($U$2=GRID!$B$1:$BI$1)*(КАЛЕНДАРЬ!AT10=GRID!$B$3:$BI$3), 0)), INDEX(GRID!$B$4:$BI$10,MATCH($M$7,GRID!$A$4:$A$10,0),MATCH(1,($U$2=GRID!$B$1:$BI$1)*(КАЛЕНДАРЬ!AT10=GRID!$B$3:$BI$3), 0))*(1-GRID!$B$29))} -> 72600 | N37: {=IF($I$2="Открытый тариф", INDEX(GRID!$B$13:$BI$19,MATCH($M$7,GRID!$A$13:$A$19,0),MATCH(1,($U$2=GRID!$B$1:$BI$1)*(КАЛЕНДАРЬ!$AT10=GRID!$B$3:$BI$3), 0)), INDEX(GRID!$B$13:$BI$19,MATCH($M$7,GRID!$A$13:$A$19,0),MATCH(1,($U$2=GRID!$B$1:$BI$1)*(КАЛЕНДАРЬ!$AT10=GRID!$B$3:$BI$3), 0))*(1-GRID!$B$29))} -> 75900 | O37: {=IF($I$2="Открытый тариф", INDEX(GRID!$B$4:$BI$10,MATCH($O$7,GRID!$A$4:$A$10,0),MATCH(1,($U$2=GRID!$B$1:$BI$1)*(КАЛЕНДАРЬ!AT10=GRID!$B$3:$BI$3), 0)), INDEX(GRID!$B$4:$BI$10,MATCH($O$7,GRID!$A$4:$A$10,0),MATCH(1,($U$2=GRID!$B$1:$BI$1)*(КАЛЕНДАРЬ!AT10=GRID!$B$3:$BI$3), 0))*(1-GRID!$B$29))} -> 172700 | P37: {=IF($I$2="Открытый тариф", INDEX(GRID!$B$13:$BI$19,MATCH($O$7,GRID!$A$13:$A$19,0),MATCH(1,($U$2=GRID!$B$1:$BI$1)*(КАЛЕНДАРЬ!$AT10=GRID!$B$3:$BI$3), 0)), INDEX(GRID!$B$13:$BI$19,MATCH($O$7,GRID!$A$13:$A$19,0),MATCH(1,($U$2=GRID!$B$1:$BI$1)*(КАЛЕНДАРЬ!$AT10=GRID!$B$3:$BI$3), 0))*(1-GRID!$B$29))} -> 176000
A38: ВС | B38: 8 | C38: {=IF($I$2="Открытый тариф", INDEX(GRID!$B$4:$BI$10,MATCH($C$7,GRID!$A$4:$A$10,0),MATCH(1,($U$2=GRID!$B$1:$BI$1)*(КАЛЕНДАРЬ!AT11=GRID!$B$3:$BI$3), 0)), INDEX(GRID!$B$4:$BI$10,MATCH($C$7,GRID!$A$4:$A$10,0),MATCH(1,($U$2=GRID!$B$1:$BI$1)*(КАЛЕНДАРЬ!AT11=GRID!$B$3:$BI$3), 0))*(1-GRID!$B$29))} -> 18000 | D38: {=IF($I$2="Открытый тариф", INDEX(GRID!$B$13:$BI$19,MATCH($C$7,GRID!$A$13:$A$19,0),MATCH(1,($U$2=GRID!$B$1:$BI$1)*(КАЛЕНДАРЬ!$AT11=GRID!$B$3:$BI$3), 0)), INDEX(GRID!$B$13:$BI$19,MATCH($C$7,GRID!$A$13:$A$19,0),MATCH(1,($U$2=GRID!$B$1:$BI$1)*(КАЛЕНДАРЬ!$AT11=GRID!$B$3:$BI$3), 0))*(1-GRID!$B$29))} -> 21300 | E38: {=IF($I$2="Открытый тариф", INDEX(GRID!$B$4:$BI$10,MATCH($E$7,GRID!$A$4:$A$10,0),MATCH(1,($U$2=GRID!$B$1:$BI$1)*(КАЛЕНДАРЬ!AT11=GRID!$B$3:$BI$3), 0)), INDEX(GRID!$B$4:$BI$10,MATCH($E$7,GRID!$A$4:$A$10,0),MATCH(1,($U$2=GRID!$B$1:$BI$1)*(КАЛЕНДАРЬ!AT11=GRID!$B$3:$BI$3), 0))*(1-GRID!$B$29))} -> 21700 | F38: {=IF($I$2="Открытый тариф", INDEX(GRID!$B$13:$BI$19,MATCH($E$7,GRID!$A$13:$A$19,0),MATCH(1,($U$2=GRID!$B$1:$BI$1)*(КАЛЕНДАРЬ!$AT11=GRID!$B$3:$BI$3), 0)), INDEX(GRID!$B$13:$BI$19,MATCH($E$7,GRID!$A$13:$A$19,0),MATCH(1,($U$2=GRID!$B$1:$BI$1)*(КАЛЕНДАРЬ!$AT11=GRID!$B$3:$BI$3), 0))*(1-GRID!$B$29))} -> 25000 | G38: {=IF($I$2="Открытый тариф", INDEX(GRID!$B$4:$BI$10,MATCH($G$7,GRID!$A$4:$A$10,0),MATCH(1,($U$2=GRID!$B$1:$BI$1)*(КАЛЕНДАРЬ!AT11=GRID!$B$3:$BI$3), 0)), INDEX(GRID!$B$4:$BI$10,MATCH($G$7,GRID!$A$4:$A$10,0),MATCH(1,($U$2=GRID!$B$1:$BI$1)*(КАЛЕНДАРЬ!AT11=GRID!$B$3:$BI$3), 0))*(1-GRID!$B$29))} -> 26100 | H38: {=IF($I$2="Открытый тариф", INDEX(GRID!$B$13:$BI$19,MATCH($G$7,GRID!$A$13:$A$19,0),MATCH(1,($U$2=GRID!$B$1:$BI$1)*(КАЛЕНДАРЬ!$AT11=GRID!$B$3:$BI$3), 0)), INDEX(GRID!$B$13:$BI$19,MATCH($G$7,GRID!$A$13:$A$19,0),MATCH(1,($U$2=GRID!$B$1:$BI$1)*(КАЛЕНДАРЬ!$AT11=GRID!$B$3:$BI$3), 0))*(1-GRID!$B$29))} -> 29400 | I38: {=IF($I$2="Открытый тариф", INDEX(GRID!$B$4:$BI$10,MATCH($I$7,GRID!$A$4:$A$10,0),MATCH(1,($U$2=GRID!$B$1:$BI$1)*(КАЛЕНДАРЬ!AT11=GRID!$B$3:$BI$3), 0)), INDEX(GRID!$B$4:$BI$10,MATCH($I$7,GRID!$A$4:$A$10,0),MATCH(1,($U$2=GRID!$B$1:$BI$1)*(КАЛЕНДАРЬ!AT11=GRID!$B$3:$BI$3), 0))*(1-GRID!$B$29))} -> 36300 | J38: {=IF($I$2="Открытый тариф", INDEX(GRID!$B$13:$BI$19,MATCH($I$7,GRID!$A$13:$A$19,0),MATCH(1,($U$2=GRID!$B$1:$BI$1)*(КАЛЕНДАРЬ!$AT11=GRID!$B$3:$BI$3), 0)), INDEX(GRID!$B$13:$BI$19,MATCH($I$7,GRID!$A$13:$A$19,0),MATCH(1,($U$2=GRID!$B$1:$BI$1)*(КАЛЕНДАРЬ!$AT11=GRID!$B$3:$BI$3), 0))*(1-GRID!$B$29))} -> 39600 | K38: {=IF($I$2="Открытый тариф", INDEX(GRID!$B$4:$BI$10,MATCH($K$7,GRID!$A$4:$A$10,0),MATCH(1,($U$2=GRID!$B$1:$BI$1)*(КАЛЕНДАРЬ!AT11=GRID!$B$3:$BI$3), 0)), INDEX(GRID!$B$4:$BI$10,MATCH($K$7,GRID!$A$4:$A$10,0),MATCH(1,($U$2=GRID!$B$1:$BI$1)*(КАЛЕНДАРЬ!AT11=GRID!$B$3:$BI$3), 0))*(1-GRID!$B$29))} -> 50800 | L38: {=IF($I$2="Открытый тариф", INDEX(GRID!$B$13:$BI$19,MATCH($K$7,GRID!$A$13:$A$19,0),MATCH(1,($U$2=GRID!$B$1:$BI$1)*(КАЛЕНДАРЬ!$AT11=GRID!$B$3:$BI$3), 0)), INDEX(GRID!$B$13:$BI$19,MATCH($K$7,GRID!$A$13:$A$19,0),MATCH(1,($U$2=GRID!$B$1:$BI$1)*(КАЛЕНДАРЬ!$AT11=GRID!$B$3:$BI$3), 0))*(1-GRID!$B$29))} -> 54100 | M38: {=IF($I$2="Открытый тариф", INDEX(GRID!$B$4:$BI$10,MATCH($M$7,GRID!$A$4:$A$10,0),MATCH(1,($U$2=GRID!$B$1:$BI$1)*(КАЛЕНДАРЬ!AT11=GRID!$B$3:$BI$3), 0)), INDEX(GRID!$B$4:$BI$10,MATCH($M$7,GRID!$A$4:$A$10,0),MATCH(1,($U$2=GRID!$B$1:$BI$1)*(КАЛЕНДАРЬ!AT11=GRID!$B$3:$BI$3), 0))*(1-GRID!$B$29))} -> 72600 | N38: {=IF($I$2="Открытый тариф", INDEX(GRID!$B$13:$BI$19,MATCH($M$7,GRID!$A$13:$A$19,0),MATCH(1,($U$2=GRID!$B$1:$BI$1)*(КАЛЕНДАРЬ!$AT11=GRID!$B$3:$BI$3), 0)), INDEX(GRID!$B$13:$BI$19,MATCH($M$7,GRID!$A$13:$A$19,0),MATCH(1,($U$2=GRID!$B$1:$BI$1)*(КАЛЕНДАРЬ!$AT11=GRID!$B$3:$BI$3), 0))*(1-GRID!$B$29))} -> 75900 | O38: {=IF($I$2="Открытый тариф", INDEX(GRID!$B$4:$BI$10,MATCH($O$7,GRID!$A$4:$A$10,0),MATCH(1,($U$2=GRID!$B$1:$BI$1)*(КАЛЕНДАРЬ!AT11=GRID!$B$3:$BI$3), 0)), INDEX(GRID!$B$4:$BI$10,MATCH($O$7,GRID!$A$4:$A$10,0),MATCH(1,($U$2=GRID!$B$1:$BI$1)*(КАЛЕНДАРЬ!AT11=GRID!$B$3:$BI$3), 0))*(1-GRID!$B$29))} -> 172700 | P38: {=IF($I$2="Открытый тариф", INDEX(GRID!$B$13:$BI$19,MATCH($O$7,GRID!$A$13:$A$19,0),MATCH(1,($U$2=GRID!$B$1:$BI$1)*(КАЛЕНДАРЬ!$AT11=GRID!$B$3:$BI$3), 0)), INDEX(GRID!$B$13:$BI$19,MATCH($O$7,GRID!$A$13:$A$19,0),MATCH(1,($U$2=GRID!$B$1:$BI$1)*(КАЛЕНДАРЬ!$AT11=GRID!$B$3:$BI$3), 0))*(1-GRID!$B$29))} -> 176000
A39: ПН | B39: 9 | C39: {=IF($I$2="Открытый тариф", INDEX(GRID!$B$4:$BI$10,MATCH($C$7,GRID!$A$4:$A$10,0),MATCH(1,($U$2=GRID!$B$1:$BI$1)*(КАЛЕНДАРЬ!AT12=GRID!$B$3:$BI$3), 0)), INDEX(GRID!$B$4:$BI$10,MATCH($C$7,GRID!$A$4:$A$10,0),MATCH(1,($U$2=GRID!$B$1:$BI$1)*(КАЛЕНДАРЬ!AT12=GRID!$B$3:$BI$3), 0))*(1-GRID!$B$29))} -> 11700 | D39: {=IF($I$2="Открытый тариф", INDEX(GRID!$B$13:$BI$19,MATCH($C$7,GRID!$A$13:$A$19,0),MATCH(1,($U$2=GRID!$B$1:$BI$1)*(КАЛЕНДАРЬ!$AT12=GRID!$B$3:$BI$3), 0)), INDEX(GRID!$B$13:$BI$19,MATCH($C$7,GRID!$A$13:$A$19,0),MATCH(1,($U$2=GRID!$B$1:$BI$1)*(КАЛЕНДАРЬ!$AT12=GRID!$B$3:$BI$3), 0))*(1-GRID!$B$29))} -> 15000 | E39: {=IF($I$2="Открытый тариф", INDEX(GRID!$B$4:$BI$10,MATCH($E$7,GRID!$A$4:$A$10,0),MATCH(1,($U$2=GRID!$B$1:$BI$1)*(КАЛЕНДАРЬ!AT12=GRID!$B$3:$BI$3), 0)), INDEX(GRID!$B$4:$BI$10,MATCH($E$7,GRID!$A$4:$A$10,0),MATCH(1,($U$2=GRID!$B$1:$BI$1)*(КАЛЕНДАРЬ!AT12=GRID!$B$3:$BI$3), 0))*(1-GRID!$B$29))} -> 14400 | F39: {=IF($I$2="Открытый тариф", INDEX(GRID!$B$13:$BI$19,MATCH($E$7,GRID!$A$13:$A$19,0),MATCH(1,($U$2=GRID!$B$1:$BI$1)*(КАЛЕНДАРЬ!$AT12=GRID!$B$3:$BI$3), 0)), INDEX(GRID!$B$13:$BI$19,MATCH($E$7,GRID!$A$13:$A$19,0),MATCH(1,($U$2=GRID!$B$1:$BI$1)*(КАЛЕНДАРЬ!$AT12=GRID!$B$3:$BI$3), 0))*(1-GRID!$B$29))} -> 17700 | G39: {=IF($I$2="Открытый тариф", INDEX(GRID!$B$4:$BI$10,MATCH($G$7,GRID!$A$4:$A$10,0),MATCH(1,($U$2=GRID!$B$1:$BI$1)*(КАЛЕНДАРЬ!AT12=GRID!$B$3:$BI$3), 0)), INDEX(GRID!$B$4:$BI$10,MATCH($G$7,GRID!$A$4:$A$10,0),MATCH(1,($U$2=GRID!$B$1:$BI$1)*(КАЛЕНДАРЬ!AT12=GRID!$B$3:$BI$3), 0))*(1-GRID!$B$29))} -> 17600 | H39: {=IF($I$2="Открытый тариф", INDEX(GRID!$B$13:$BI$19,MATCH($G$7,GRID!$A$13:$A$19,0),MATCH(1,($U$2=GRID!$B$1:$BI$1)*(КАЛЕНДАРЬ!$AT12=GRID!$B$3:$BI$3), 0)), INDEX(GRID!$B$13:$BI$19,MATCH($G$7,GRID!$A$13:$A$19,0),MATCH(1,($U$2=GRID!$B$1:$BI$1)*(КАЛЕНДАРЬ!$AT12=GRID!$B$3:$BI$3), 0))*(1-GRID!$B$29))} -> 20900 | I39: {=IF($I$2="Открытый тариф", INDEX(GRID!$B$4:$BI$10,MATCH($I$7,GRID!$A$4:$A$10,0),MATCH(1,($U$2=GRID!$B$1:$BI$1)*(КАЛЕНДАРЬ!AT12=GRID!$B$3:$BI$3), 0)), INDEX(GRID!$B$4:$BI$10,MATCH($I$7,GRID!$A$4:$A$10,0),MATCH(1,($U$2=GRID!$B$1:$BI$1)*(КАЛЕНДАРЬ!AT12=GRID!$B$3:$BI$3), 0))*(1-GRID!$B$29))} -> 25000 | J39: {=IF($I$2="Открытый тариф", INDEX(GRID!$B$13:$BI$19,MATCH($I$7,GRID!$A$13:$A$19,0),MATCH(1,($U$2=GRID!$B$1:$BI$1)*(КАЛЕНДАРЬ!$AT12=GRID!$B$3:$BI$3), 0)), INDEX(GRID!$B$13:$BI$19,MATCH($I$7,GRID!$A$13:$A$19,0),MATCH(1,($U$2=GRID!$B$1:$BI$1)*(КАЛЕНДАРЬ!$AT12=GRID!$B$3:$BI$3), 0))*(1-GRID!$B$29))} -> 28300 | K39: {=IF($I$2="Открытый тариф", INDEX(GRID!$B$4:$BI$10,MATCH($K$7,GRID!$A$4:$A$10,0),MATCH(1,($U$2=GRID!$B$1:$BI$1)*(КАЛЕНДАРЬ!AT12=GRID!$B$3:$BI$3), 0)), INDEX(GRID!$B$4:$BI$10,MATCH($K$7,GRID!$A$4:$A$10,0),MATCH(1,($U$2=GRID!$B$1:$BI$1)*(КАЛЕНДАРЬ!AT12=GRID!$B$3:$BI$3), 0))*(1-GRID!$B$29))} -> 35500 | L39: {=IF($I$2="Открытый тариф", INDEX(GRID!$B$13:$BI$19,MATCH($K$7,GRID!$A$13:$A$19,0),MATCH(1,($U$2=GRID!$B$1:$BI$1)*(КАЛЕНДАРЬ!$AT12=GRID!$B$3:$BI$3), 0)), INDEX(GRID!$B$13:$BI$19,MATCH($K$7,GRID!$A$13:$A$19,0),MATCH(1,($U$2=GRID!$B$1:$BI$1)*(КАЛЕНДАРЬ!$AT12=GRID!$B$3:$BI$3), 0))*(1-GRID!$B$29))} -> 38800 | M39: {=IF($I$2="Открытый тариф", INDEX(GRID!$B$4:$BI$10,MATCH($M$7,GRID!$A$4:$A$10,0),MATCH(1,($U$2=GRID!$B$1:$BI$1)*(КАЛЕНДАРЬ!AT12=GRID!$B$3:$BI$3), 0)), INDEX(GRID!$B$4:$BI$10,MATCH($M$7,GRID!$A$4:$A$10,0),MATCH(1,($U$2=GRID!$B$1:$BI$1)*(КАЛЕНДАРЬ!AT12=GRID!$B$3:$BI$3), 0))*(1-GRID!$B$29))} -> 51300 | N39: {=IF($I$2="Открытый тариф", INDEX(GRID!$B$13:$BI$19,MATCH($M$7,GRID!$A$13:$A$19,0),MATCH(1,($U$2=GRID!$B$1:$BI$1)*(КАЛЕНДАРЬ!$AT12=GRID!$B$3:$BI$3), 0)), INDEX(GRID!$B$13:$BI$19,MATCH($M$7,GRID!$A$13:$A$19,0),MATCH(1,($U$2=GRID!$B$1:$BI$1)*(КАЛЕНДАРЬ!$AT12=GRID!$B$3:$BI$3), 0))*(1-GRID!$B$29))} -> 54600 | O39: {=IF($I$2="Открытый тариф", INDEX(GRID!$B$4:$BI$10,MATCH($O$7,GRID!$A$4:$A$10,0),MATCH(1,($U$2=GRID!$B$1:$BI$1)*(КАЛЕНДАРЬ!AT12=GRID!$B$3:$BI$3), 0)), INDEX(GRID!$B$4:$BI$10,MATCH($O$7,GRID!$A$4:$A$10,0),MATCH(1,($U$2=GRID!$B$1:$BI$1)*(КАЛЕНДАРЬ!AT12=GRID!$B$3:$BI$3), 0))*(1-GRID!$B$29))} -> 119400 | P39: {=IF($I$2="Открытый тариф", INDEX(GRID!$B$13:$BI$19,MATCH($O$7,GRID!$A$13:$A$19,0),MATCH(1,($U$2=GRID!$B$1:$BI$1)*(КАЛЕНДАРЬ!$AT12=GRID!$B$3:$BI$3), 0)), INDEX(GRID!$B$13:$BI$19,MATCH($O$7,GRID!$A$13:$A$19,0),MATCH(1,($U$2=GRID!$B$1:$BI$1)*(КАЛЕНДАРЬ!$AT12=GRID!$B$3:$BI$3), 0))*(1-GRID!$B$29))} -> 122700
A40: ВТ | B40: 10 | C40: {=IF($I$2="Открытый тариф", INDEX(GRID!$B$4:$BI$10,MATCH($C$7,GRID!$A$4:$A$10,0),MATCH(1,($U$2=GRID!$B$1:$BI$1)*(КАЛЕНДАРЬ!AT13=GRID!$B$3:$BI$3), 0)), INDEX(GRID!$B$4:$BI$10,MATCH($C$7,GRID!$A$4:$A$10,0),MATCH(1,($U$2=GRID!$B$1:$BI$1)*(КАЛЕНДАРЬ!AT13=GRID!$B$3:$BI$3), 0))*(1-GRID!$B$29))} -> 11700 | D40: {=IF($I$2="Открытый тариф", INDEX(GRID!$B$13:$BI$19,MATCH($C$7,GRID!$A$13:$A$19,0),MATCH(1,($U$2=GRID!$B$1:$BI$1)*(КАЛЕНДАРЬ!$AT13=GRID!$B$3:$BI$3), 0)), INDEX(GRID!$B$13:$BI$19,MATCH($C$7,GRID!$A$13:$A$19,0),MATCH(1,($U$2=GRID!$B$1:$BI$1)*(КАЛЕНДАРЬ!$AT13=GRID!$B$3:$BI$3), 0))*(1-GRID!$B$29))} -> 15000 | E40: {=IF($I$2="Открытый тариф", INDEX(GRID!$B$4:$BI$10,MATCH($E$7,GRID!$A$4:$A$10,0),MATCH(1,($U$2=GRID!$B$1:$BI$1)*(КАЛЕНДАРЬ!AT13=GRID!$B$3:$BI$3), 0)), INDEX(GRID!$B$4:$BI$10,MATCH($E$7,GRID!$A$4:$A$10,0),MATCH(1,($U$2=GRID!$B$1:$BI$1)*(КАЛЕНДАРЬ!AT13=GRID!$B$3:$BI$3), 0))*(1-GRID!$B$29))} -> 14400 | F40: {=IF($I$2="Открытый тариф", INDEX(GRID!$B$13:$BI$19,MATCH($E$7,GRID!$A$13:$A$19,0),MATCH(1,($U$2=GRID!$B$1:$BI$1)*(КАЛЕНДАРЬ!$AT13=GRID!$B$3:$BI$3), 0)), INDEX(GRID!$B$13:$BI$19,MATCH($E$7,GRID!$A$13:$A$19,0),MATCH(1,($U$2=GRID!$B$1:$BI$1)*(КАЛЕНДАРЬ!$AT13=GRID!$B$3:$BI$3), 0))*(1-GRID!$B$29))} -> 17700 | G40: {=IF($I$2="Открытый тариф", INDEX(GRID!$B$4:$BI$10,MATCH($G$7,GRID!$A$4:$A$10,0),MATCH(1,($U$2=GRID!$B$1:$BI$1)*(КАЛЕНДАРЬ!AT13=GRID!$B$3:$BI$3), 0)), INDEX(GRID!$B$4:$BI$10,MATCH($G$7,GRID!$A$4:$A$10,0),MATCH(1,($U$2=GRID!$B$1:$BI$1)*(КАЛЕНДАРЬ!AT13=GRID!$B$3:$BI$3), 0))*(1-GRID!$B$29))} -> 17600 | H40: {=IF($I$2="Открытый тариф", INDEX(GRID!$B$13:$BI$19,MATCH($G$7,GRID!$A$13:$A$19,0),MATCH(1,($U$2=GRID!$B$1:$BI$1)*(КАЛЕНДАРЬ!$AT13=GRID!$B$3:$BI$3), 0)), INDEX(GRID!$B$13:$BI$19,MATCH($G$7,GRID!$A$13:$A$19,0),MATCH(1,($U$2=GRID!$B$1:$BI$1)*(КАЛЕНДАРЬ!$AT13=GRID!$B$3:$BI$3), 0))*(1-GRID!$B$29))} -> 20900 | I40: {=IF($I$2="Открытый тариф", INDEX(GRID!$B$4:$BI$10,MATCH($I$7,GRID!$A$4:$A$10,0),MATCH(1,($U$2=GRID!$B$1:$BI$1)*(КАЛЕНДАРЬ!AT13=GRID!$B$3:$BI$3), 0)), INDEX(GRID!$B$4:$BI$10,MATCH($I$7,GRID!$A$4:$A$10,0),MATCH(1,($U$2=GRID!$B$1:$BI$1)*(КАЛЕНДАРЬ!AT13=GRID!$B$3:$BI$3), 0))*(1-GRID!$B$29))} -> 25000 | J40: {=IF($I$2="Открытый тариф", INDEX(GRID!$B$13:$BI$19,MATCH($I$7,GRID!$A$13:$A$19,0),MATCH(1,($U$2=GRID!$B$1:$BI$1)*(КАЛЕНДАРЬ!$AT13=GRID!$B$3:$BI$3), 0)), INDEX(GRID!$B$13:$BI$19,MATCH($I$7,GRID!$A$13:$A$19,0),MATCH(1,($U$2=GRID!$B$1:$BI$1)*(КАЛЕНДАРЬ!$AT13=GRID!$B$3:$BI$3), 0))*(1-GRID!$B$29))} -> 28300 | K40: {=IF($I$2="Открытый тариф", INDEX(GRID!$B$4:$BI$10,MATCH($K$7,GRID!$A$4:$A$10,0),MATCH(1,($U$2=GRID!$B$1:$BI$1)*(КАЛЕНДАРЬ!AT13=GRID!$B$3:$BI$3), 0)), INDEX(GRID!$B$4:$BI$10,MATCH($K$7,GRID!$A$4:$A$10,0),MATCH(1,($U$2=GRID!$B$1:$BI$1)*(КАЛЕНДАРЬ!AT13=GRID!$B$3:$BI$3), 0))*(1-GRID!$B$29))} -> 35500 | L40: {=IF($I$2="Открытый тариф", INDEX(GRID!$B$13:$BI$19,MATCH($K$7,GRID!$A$13:$A$19,0),MATCH(1,($U$2=GRID!$B$1:$BI$1)*(КАЛЕНДАРЬ!$AT13=GRID!$B$3:$BI$3), 0)), INDEX(GRID!$B$13:$BI$19,MATCH($K$7,GRID!$A$13:$A$19,0),MATCH(1,($U$2=GRID!$B$1:$BI$1)*(КАЛЕНДАРЬ!$AT13=GRID!$B$3:$BI$3), 0))*(1-GRID!$B$29))} -> 38800 | M40: {=IF($I$2="Открытый тариф", INDEX(GRID!$B$4:$BI$10,MATCH($M$7,GRID!$A$4:$A$10,0),MATCH(1,($U$2=GRID!$B$1:$BI$1)*(КАЛЕНДАРЬ!AT13=GRID!$B$3:$BI$3), 0)), INDEX(GRID!$B$4:$BI$10,MATCH($M$7,GRID!$A$4:$A$10,0),MATCH(1,($U$2=GRID!$B$1:$BI$1)*(КАЛЕНДАРЬ!AT13=GRID!$B$3:$BI$3), 0))*(1-GRID!$B$29))} -> 51300 | N40: {=IF($I$2="Открытый тариф", INDEX(GRID!$B$13:$BI$19,MATCH($M$7,GRID!$A$13:$A$19,0),MATCH(1,($U$2=GRID!$B$1:$BI$1)*(КАЛЕНДАРЬ!$AT13=GRID!$B$3:$BI$3), 0)), INDEX(GRID!$B$13:$BI$19,MATCH($M$7,GRID!$A$13:$A$19,0),MATCH(1,($U$2=GRID!$B$1:$BI$1)*(КАЛЕНДАРЬ!$AT13=GRID!$B$3:$BI$3), 0))*(1-GRID!$B$29))} -> 54600 | O40: {=IF($I$2="Открытый тариф", INDEX(GRID!$B$4:$BI$10,MATCH($O$7,GRID!$A$4:$A$10,0),MATCH(1,($U$2=GRID!$B$1:$BI$1)*(КАЛЕНДАРЬ!AT13=GRID!$B$3:$BI$3), 0)), INDEX(GRID!$B$4:$BI$10,MATCH($O$7,GRID!$A$4:$A$10,0),MATCH(1,($U$2=GRID!$B$1:$BI$1)*(КАЛЕНДАРЬ!AT13=GRID!$B$3:$BI$3), 0))*(1-GRID!$B$29))} -> 119400 | P40: {=IF($I$2="Открытый тариф", INDEX(GRID!$B$13:$BI$19,MATCH($O$7,GRID!$A$13:$A$19,0),MATCH(1,($U$2=GRID!$B$1:$BI$1)*(КАЛЕНДАРЬ!$AT13=GRID!$B$3:$BI$3), 0)), INDEX(GRID!$B$13:$BI$19,MATCH($O$7,GRID!$A$13:$A$19,0),MATCH(1,($U$2=GRID!$B$1:$BI$1)*(КАЛЕНДАРЬ!$AT13=GRID!$B$3:$BI$3), 0))*(1-GRID!$B$29))} -> 122700
A41: СР | B41: 11 | C41: {=IF($I$2="Открытый тариф", INDEX(GRID!$B$4:$BI$10,MATCH($C$7,GRID!$A$4:$A$10,0),MATCH(1,($U$2=GRID!$B$1:$BI$1)*(КАЛЕНДАРЬ!AT14=GRID!$B$3:$BI$3), 0)), INDEX(GRID!$B$4:$BI$10,MATCH($C$7,GRID!$A$4:$A$10,0),MATCH(1,($U$2=GRID!$B$1:$BI$1)*(КАЛЕНДАРЬ!AT14=GRID!$B$3:$BI$3), 0))*(1-GRID!$B$29))} -> 11700 | D41: {=IF($I$2="Открытый тариф", INDEX(GRID!$B$13:$BI$19,MATCH($C$7,GRID!$A$13:$A$19,0),MATCH(1,($U$2=GRID!$B$1:$BI$1)*(КАЛЕНДАРЬ!$AT14=GRID!$B$3:$BI$3), 0)), INDEX(GRID!$B$13:$BI$19,MATCH($C$7,GRID!$A$13:$A$19,0),MATCH(1,($U$2=GRID!$B$1:$BI$1)*(КАЛЕНДАРЬ!$AT14=GRID!$B$3:$BI$3), 0))*(1-GRID!$B$29))} -> 15000 | E41: {=IF($I$2="Открытый тариф", INDEX(GRID!$B$4:$BI$10,MATCH($E$7,GRID!$A$4:$A$10,0),MATCH(1,($U$2=GRID!$B$1:$BI$1)*(КАЛЕНДАРЬ!AT14=GRID!$B$3:$BI$3), 0)), INDEX(GRID!$B$4:$BI$10,MATCH($E$7,GRID!$A$4:$A$10,0),MATCH(1,($U$2=GRID!$B$1:$BI$1)*(КАЛЕНДАРЬ!AT14=GRID!$B$3:$BI$3), 0))*(1-GRID!$B$29))} -> 14400 | F41: {=IF($I$2="Открытый тариф", INDEX(GRID!$B$13:$BI$19,MATCH($E$7,GRID!$A$13:$A$19,0),MATCH(1,($U$2=GRID!$B$1:$BI$1)*(КАЛЕНДАРЬ!$AT14=GRID!$B$3:$BI$3), 0)), INDEX(GRID!$B$13:$BI$19,MATCH($E$7,GRID!$A$13:$A$19,0),MATCH(1,($U$2=GRID!$B$1:$BI$1)*(КАЛЕНДАРЬ!$AT14=GRID!$B$3:$BI$3), 0))*(1-GRID!$B$29))} -> 17700 | G41: {=IF($I$2="Открытый тариф", INDEX(GRID!$B$4:$BI$10,MATCH($G$7,GRID!$A$4:$A$10,0),MATCH(1,($U$2=GRID!$B$1:$BI$1)*(КАЛЕНДАРЬ!AT14=GRID!$B$3:$BI$3), 0)), INDEX(GRID!$B$4:$BI$10,MATCH($G$7,GRID!$A$4:$A$10,0),MATCH(1,($U$2=GRID!$B$1:$BI$1)*(КАЛЕНДАРЬ!AT14=GRID!$B$3:$BI$3), 0))*(1-GRID!$B$29))} -> 17600 | H41: {=IF($I$2="Открытый тариф", INDEX(GRID!$B$13:$BI$19,MATCH($G$7,GRID!$A$13:$A$19,0),MATCH(1,($U$2=GRID!$B$1:$BI$1)*(КАЛЕНДАРЬ!$AT14=GRID!$B$3:$BI$3), 0)), INDEX(GRID!$B$13:$BI$19,MATCH($G$7,GRID!$A$13:$A$19,0),MATCH(1,($U$2=GRID!$B$1:$BI$1)*(КАЛЕНДАРЬ!$AT14=GRID!$B$3:$BI$3), 0))*(1-GRID!$B$29))} -> 20900 | I41: {=IF($I$2="Открытый тариф", INDEX(GRID!$B$4:$BI$10,MATCH($I$7,GRID!$A$4:$A$10,0),MATCH(1,($U$2=GRID!$B$1:$BI$1)*(КАЛЕНДАРЬ!AT14=GRID!$B$3:$BI$3), 0)), INDEX(GRID!$B$4:$BI$10,MATCH($I$7,GRID!$A$4:$A$10,0),MATCH(1,($U$2=GRID!$B$1:$BI$1)*(КАЛЕНДАРЬ!AT14=GRID!$B$3:$BI$3), 0))*(1-GRID!$B$29))} -> 25000 | J41: {=IF($I$2="Открытый тариф", INDEX(GRID!$B$13:$BI$19,MATCH($I$7,GRID!$A$13:$A$19,0),MATCH(1,($U$2=GRID!$B$1:$BI$1)*(КАЛЕНДАРЬ!$AT14=GRID!$B$3:$BI$3), 0)), INDEX(GRID!$B$13:$BI$19,MATCH($I$7,GRID!$A$13:$A$19,0),MATCH(1,($U$2=GRID!$B$1:$BI$1)*(КАЛЕНДАРЬ!$AT14=GRID!$B$3:$BI$3), 0))*(1-GRID!$B$29))} -> 28300 | K41: {=IF($I$2="Открытый тариф", INDEX(GRID!$B$4:$BI$10,MATCH($K$7,GRID!$A$4:$A$10,0),MATCH(1,($U$2=GRID!$B$1:$BI$1)*(КАЛЕНДАРЬ!AT14=GRID!$B$3:$BI$3), 0)), INDEX(GRID!$B$4:$BI$10,MATCH($K$7,GRID!$A$4:$A$10,0),MATCH(1,($U$2=GRID!$B$1:$BI$1)*(КАЛЕНДАРЬ!AT14=GRID!$B$3:$BI$3), 0))*(1-GRID!$B$29))} -> 35500 | L41: {=IF($I$2="Открытый тариф", INDEX(GRID!$B$13:$BI$19,MATCH($K$7,GRID!$A$13:$A$19,0),MATCH(1,($U$2=GRID!$B$1:$BI$1)*(КАЛЕНДАРЬ!$AT14=GRID!$B$3:$BI$3), 0)), INDEX(GRID!$B$13:$BI$19,MATCH($K$7,GRID!$A$13:$A$19,0),MATCH(1,($U$2=GRID!$B$1:$BI$1)*(КАЛЕНДАРЬ!$AT14=GRID!$B$3:$BI$3), 0))*(1-GRID!$B$29))} -> 38800 | M41: {=IF($I$2="Открытый тариф", INDEX(GRID!$B$4:$BI$10,MATCH($M$7,GRID!$A$4:$A$10,0),MATCH(1,($U$2=GRID!$B$1:$BI$1)*(КАЛЕНДАРЬ!AT14=GRID!$B$3:$BI$3), 0)), INDEX(GRID!$B$4:$BI$10,MATCH($M$7,GRID!$A$4:$A$10,0),MATCH(1,($U$2=GRID!$B$1:$BI$1)*(КАЛЕНДАРЬ!AT14=GRID!$B$3:$BI$3), 0))*(1-GRID!$B$29))} -> 51300 | N41: {=IF($I$2="Открытый тариф", INDEX(GRID!$B$13:$BI$19,MATCH($M$7,GRID!$A$13:$A$19,0),MATCH(1,($U$2=GRID!$B$1:$BI$1)*(КАЛЕНДАРЬ!$AT14=GRID!$B$3:$BI$3), 0)), INDEX(GRID!$B$13:$BI$19,MATCH($M$7,GRID!$A$13:$A$19,0),MATCH(1,($U$2=GRID!$B$1:$BI$1)*(КАЛЕНДАРЬ!$AT14=GRID!$B$3:$BI$3), 0))*(1-GRID!$B$29))} -> 54600 | O41: {=IF($I$2="Открытый тариф", INDEX(GRID!$B$4:$BI$10,MATCH($O$7,GRID!$A$4:$A$10,0),MATCH(1,($U$2=GRID!$B$1:$BI$1)*(КАЛЕНДАРЬ!AT14=GRID!$B$3:$BI$3), 0)), INDEX(GRID!$B$4:$BI$10,MATCH($O$7,GRID!$A$4:$A$10,0),MATCH(1,($U$2=GRID!$B$1:$BI$1)*(КАЛЕНДАРЬ!AT14=GRID!$B$3:$BI$3), 0))*(1-GRID!$B$29))} -> 119400 | P41: {=IF($I$2="Открытый тариф", INDEX(GRID!$B$13:$BI$19,MATCH($O$7,GRID!$A$13:$A$19,0),MATCH(1,($U$2=GRID!$B$1:$BI$1)*(КАЛЕНДАРЬ!$AT14=GRID!$B$3:$BI$3), 0)), INDEX(GRID!$B$13:$BI$19,MATCH($O$7,GRID!$A$13:$A$19,0),MATCH(1,($U$2=GRID!$B$1:$BI$1)*(КАЛЕНДАРЬ!$AT14=GRID!$B$3:$BI$3), 0))*(1-GRID!$B$29))} -> 122700
A42: ЧТ | B42: 12 | C42: {=IF($I$2="Открытый тариф", INDEX(GRID!$B$4:$BI$10,MATCH($C$7,GRID!$A$4:$A$10,0),MATCH(1,($U$2=GRID!$B$1:$BI$1)*(КАЛЕНДАРЬ!AT15=GRID!$B$3:$BI$3), 0)), INDEX(GRID!$B$4:$BI$10,MATCH($C$7,GRID!$A$4:$A$10,0),MATCH(1,($U$2=GRID!$B$1:$BI$1)*(КАЛЕНДАРЬ!AT15=GRID!$B$3:$BI$3), 0))*(1-GRID!$B$29))} -> 11700 | D42: {=IF($I$2="Открытый тариф", INDEX(GRID!$B$13:$BI$19,MATCH($C$7,GRID!$A$13:$A$19,0),MATCH(1,($U$2=GRID!$B$1:$BI$1)*(КАЛЕНДАРЬ!$AT15=GRID!$B$3:$BI$3), 0)), INDEX(GRID!$B$13:$BI$19,MATCH($C$7,GRID!$A$13:$A$19,0),MATCH(1,($U$2=GRID!$B$1:$BI$1)*(КАЛЕНДАРЬ!$AT15=GRID!$B$3:$BI$3), 0))*(1-GRID!$B$29))} -> 15000 | E42: {=IF($I$2="Открытый тариф", INDEX(GRID!$B$4:$BI$10,MATCH($E$7,GRID!$A$4:$A$10,0),MATCH(1,($U$2=GRID!$B$1:$BI$1)*(КАЛЕНДАРЬ!AT15=GRID!$B$3:$BI$3), 0)), INDEX(GRID!$B$4:$BI$10,MATCH($E$7,GRID!$A$4:$A$10,0),MATCH(1,($U$2=GRID!$B$1:$BI$1)*(КАЛЕНДАРЬ!AT15=GRID!$B$3:$BI$3), 0))*(1-GRID!$B$29))} -> 14400 | F42: {=IF($I$2="Открытый тариф", INDEX(GRID!$B$13:$BI$19,MATCH($E$7,GRID!$A$13:$A$19,0),MATCH(1,($U$2=GRID!$B$1:$BI$1)*(КАЛЕНДАРЬ!$AT15=GRID!$B$3:$BI$3), 0)), INDEX(GRID!$B$13:$BI$19,MATCH($E$7,GRID!$A$13:$A$19,0),MATCH(1,($U$2=GRID!$B$1:$BI$1)*(КАЛЕНДАРЬ!$AT15=GRID!$B$3:$BI$3), 0))*(1-GRID!$B$29))} -> 17700 | G42: {=IF($I$2="Открытый тариф", INDEX(GRID!$B$4:$BI$10,MATCH($G$7,GRID!$A$4:$A$10,0),MATCH(1,($U$2=GRID!$B$1:$BI$1)*(КАЛЕНДАРЬ!AT15=GRID!$B$3:$BI$3), 0)), INDEX(GRID!$B$4:$BI$10,MATCH($G$7,GRID!$A$4:$A$10,0),MATCH(1,($U$2=GRID!$B$1:$BI$1)*(КАЛЕНДАРЬ!AT15=GRID!$B$3:$BI$3), 0))*(1-GRID!$B$29))} -> 17600 | H42: {=IF($I$2="Открытый тариф", INDEX(GRID!$B$13:$BI$19,MATCH($G$7,GRID!$A$13:$A$19,0),MATCH(1,($U$2=GRID!$B$1:$BI$1)*(КАЛЕНДАРЬ!$AT15=GRID!$B$3:$BI$3), 0)), INDEX(GRID!$B$13:$BI$19,MATCH($G$7,GRID!$A$13:$A$19,0),MATCH(1,($U$2=GRID!$B$1:$BI$1)*(КАЛЕНДАРЬ!$AT15=GRID!$B$3:$BI$3), 0))*(1-GRID!$B$29))} -> 20900 | I42: {=IF($I$2="Открытый тариф", INDEX(GRID!$B$4:$BI$10,MATCH($I$7,GRID!$A$4:$A$10,0),MATCH(1,($U$2=GRID!$B$1:$BI$1)*(КАЛЕНДАРЬ!AT15=GRID!$B$3:$BI$3), 0)), INDEX(GRID!$B$4:$BI$10,MATCH($I$7,GRID!$A$4:$A$10,0),MATCH(1,($U$2=GRID!$B$1:$BI$1)*(КАЛЕНДАРЬ!AT15=GRID!$B$3:$BI$3), 0))*(1-GRID!$B$29))} -> 25000 | J42: {=IF($I$2="Открытый тариф", INDEX(GRID!$B$13:$BI$19,MATCH($I$7,GRID!$A$13:$A$19,0),MATCH(1,($U$2=GRID!$B$1:$BI$1)*(КАЛЕНДАРЬ!$AT15=GRID!$B$3:$BI$3), 0)), INDEX(GRID!$B$13:$BI$19,MATCH($I$7,GRID!$A$13:$A$19,0),MATCH(1,($U$2=GRID!$B$1:$BI$1)*(КАЛЕНДАРЬ!$AT15=GRID!$B$3:$BI$3), 0))*(1-GRID!$B$29))} -> 28300 | K42: {=IF($I$2="Открытый тариф", INDEX(GRID!$B$4:$BI$10,MATCH($K$7,GRID!$A$4:$A$10,0),MATCH(1,($U$2=GRID!$B$1:$BI$1)*(КАЛЕНДАРЬ!AT15=GRID!$B$3:$BI$3), 0)), INDEX(GRID!$B$4:$BI$10,MATCH($K$7,GRID!$A$4:$A$10,0),MATCH(1,($U$2=GRID!$B$1:$BI$1)*(КАЛЕНДАРЬ!AT15=GRID!$B$3:$BI$3), 0))*(1-GRID!$B$29))} -> 35500 | L42: {=IF($I$2="Открытый тариф", INDEX(GRID!$B$13:$BI$19,MATCH($K$7,GRID!$A$13:$A$19,0),MATCH(1,($U$2=GRID!$B$1:$BI$1)*(КАЛЕНДАРЬ!$AT15=GRID!$B$3:$BI$3), 0)), INDEX(GRID!$B$13:$BI$19,MATCH($K$7,GRID!$A$13:$A$19,0),MATCH(1,($U$2=GRID!$B$1:$BI$1)*(КАЛЕНДАРЬ!$AT15=GRID!$B$3:$BI$3), 0))*(1-GRID!$B$29))} -> 38800 | M42: {=IF($I$2="Открытый тариф", INDEX(GRID!$B$4:$BI$10,MATCH($M$7,GRID!$A$4:$A$10,0),MATCH(1,($U$2=GRID!$B$1:$BI$1)*(КАЛЕНДАРЬ!AT15=GRID!$B$3:$BI$3), 0)), INDEX(GRID!$B$4:$BI$10,MATCH($M$7,GRID!$A$4:$A$10,0),MATCH(1,($U$2=GRID!$B$1:$BI$1)*(КАЛЕНДАРЬ!AT15=GRID!$B$3:$BI$3), 0))*(1-GRID!$B$29))} -> 51300 | N42: {=IF($I$2="Открытый тариф", INDEX(GRID!$B$13:$BI$19,MATCH($M$7,GRID!$A$13:$A$19,0),MATCH(1,($U$2=GRID!$B$1:$BI$1)*(КАЛЕНДАРЬ!$AT15=GRID!$B$3:$BI$3), 0)), INDEX(GRID!$B$13:$BI$19,MATCH($M$7,GRID!$A$13:$A$19,0),MATCH(1,($U$2=GRID!$B$1:$BI$1)*(КАЛЕНДАРЬ!$AT15=GRID!$B$3:$BI$3), 0))*(1-GRID!$B$29))} -> 54600 | O42: {=IF($I$2="Открытый тариф", INDEX(GRID!$B$4:$BI$10,MATCH($O$7,GRID!$A$4:$A$10,0),MATCH(1,($U$2=GRID!$B$1:$BI$1)*(КАЛЕНДАРЬ!AT15=GRID!$B$3:$BI$3), 0)), INDEX(GRID!$B$4:$BI$10,MATCH($O$7,GRID!$A$4:$A$10,0),MATCH(1,($U$2=GRID!$B$1:$BI$1)*(КАЛЕНДАРЬ!AT15=GRID!$B$3:$BI$3), 0))*(1-GRID!$B$29))} -> 119400 | P42: {=IF($I$2="Открытый тариф", INDEX(GRID!$B$13:$BI$19,MATCH($O$7,GRID!$A$13:$A$19,0),MATCH(1,($U$2=GRID!$B$1:$BI$1)*(КАЛЕНДАРЬ!$AT15=GRID!$B$3:$BI$3), 0)), INDEX(GRID!$B$13:$BI$19,MATCH($O$7,GRID!$A$13:$A$19,0),MATCH(1,($U$2=GRID!$B$1:$BI$1)*(КАЛЕНДАРЬ!$AT15=GRID!$B$3:$BI$3), 0))*(1-GRID!$B$29))} -> 122700
... A61: ВТ | B61: 31 | C61: {=IF($I$2="Открытый тариф", INDEX(GRID!$B$4:$BI$10,MATCH($C$7,GRID!$A$4:$A$10,0),MATCH(1,($U$2=GRID!$B$1:$BI$1)*(КАЛЕНДАРЬ!AT34=GRID!$B$3:$BI$3), 0)), INDEX(GRID!$B$4:$BI$10,MATCH($C$7,GRID!$A$4:$A$10,0),MATCH(1,($U$2=GRID!$B$1:$BI$1)*(КАЛЕНДАРЬ!AT34=GRID!$B$3:$BI$3), 0))*(1-GRID!$B$29))} -> 19200 | D61: {=IF($I$2="Открытый тариф", INDEX(GRID!$B$13:$BI$19,MATCH($C$7,GRID!$A$13:$A$19,0),MATCH(1,($U$2=GRID!$B$1:$BI$1)*(КАЛЕНДАРЬ!$AT34=GRID!$B$3:$BI$3), 0)), INDEX(GRID!$B$13:$BI$19,MATCH($C$7,GRID!$A$13:$A$19,0),MATCH(1,($U$2=GRID!$B$1:$BI$1)*(КАЛЕНДАРЬ!$AT34=GRID!$B$3:$BI$3), 0))*(1-GRID!$B$29))} -> 22500 | E61: {=IF($I$2="Открытый тариф", INDEX(GRID!$B$4:$BI$10,MATCH($E$7,GRID!$A$4:$A$10,0),MATCH(1,($U$2=GRID!$B$1:$BI$1)*(КАЛЕНДАРЬ!AT34=GRID!$B$3:$BI$3), 0)), INDEX(GRID!$B$4:$BI$10,MATCH($E$7,GRID!$A$4:$A$10,0),MATCH(1,($U$2=GRID!$B$1:$BI$1)*(КАЛЕНДАРЬ!AT34=GRID!$B$3:$BI$3), 0))*(1-GRID!$B$29))} -> 23000 | F61: {=IF($I$2="Открытый тариф", INDEX(GRID!$B$13:$BI$19,MATCH($E$7,GRID!$A$13:$A$19,0),MATCH(1,($U$2=GRID!$B$1:$BI$1)*(КАЛЕНДАРЬ!$AT34=GRID!$B$3:$BI$3), 0)), INDEX(GRID!$B$13:$BI$19,MATCH($E$7,GRID!$A$13:$A$19,0),MATCH(1,($U$2=GRID!$B$1:$BI$1)*(КАЛЕНДАРЬ!$AT34=GRID!$B$3:$BI$3), 0))*(1-GRID!$B$29))} -> 26300 | G61: {=IF($I$2="Открытый тариф", INDEX(GRID!$B$4:$BI$10,MATCH($G$7,GRID!$A$4:$A$10,0),MATCH(1,($U$2=GRID!$B$1:$BI$1)*(КАЛЕНДАРЬ!AT34=GRID!$B$3:$BI$3), 0)), INDEX(GRID!$B$4:$BI$10,MATCH($G$7,GRID!$A$4:$A$10,0),MATCH(1,($U$2=GRID!$B$1:$BI$1)*(КАЛЕНДАРЬ!AT34=GRID!$B$3:$BI$3), 0))*(1-GRID!$B$29))} -> 27500 | H61: {=IF($I$2="Открытый тариф", INDEX(GRID!$B$13:$BI$19,MATCH($G$7,GRID!$A$13:$A$19,0),MATCH(1,($U$2=GRID!$B$1:$BI$1)*(КАЛЕНДАРЬ!$AT34=GRID!$B$3:$BI$3), 0)), INDEX(GRID!$B$13:$BI$19,MATCH($G$7,GRID!$A$13:$A$19,0),MATCH(1,($U$2=GRID!$B$1:$BI$1)*(КАЛЕНДАРЬ!$AT34=GRID!$B$3:$BI$3), 0))*(1-GRID!$B$29))} -> 30800 | I61: {=IF($I$2="Открытый тариф", INDEX(GRID!$B$4:$BI$10,MATCH($I$7,GRID!$A$4:$A$10,0),MATCH(1,($U$2=GRID!$B$1:$BI$1)*(КАЛЕНДАРЬ!AT34=GRID!$B$3:$BI$3), 0)), INDEX(GRID!$B$4:$BI$10,MATCH($I$7,GRID!$A$4:$A$10,0),MATCH(1,($U$2=GRID!$B$1:$BI$1)*(КАЛЕНДАРЬ!AT34=GRID!$B$3:$BI$3), 0))*(1-GRID!$B$29))} -> 38000 | J61: {=IF($I$2="Открытый тариф", INDEX(GRID!$B$13:$BI$19,MATCH($I$7,GRID!$A$13:$A$19,0),MATCH(1,($U$2=GRID!$B$1:$BI$1)*(КАЛЕНДАРЬ!$AT34=GRID!$B$3:$BI$3), 0)), INDEX(GRID!$B$13:$BI$19,MATCH($I$7,GRID!$A$13:$A$19,0),MATCH(1,($U$2=GRID!$B$1:$BI$1)*(КАЛЕНДАРЬ!$AT34=GRID!$B$3:$BI$3), 0))*(1-GRID!$B$29))} -> 41300 | K61: {=IF($I$2="Открытый тариф", INDEX(GRID!$B$4:$BI$10,MATCH($K$7,GRID!$A$4:$A$10,0),MATCH(1,($U$2=GRID!$B$1:$BI$1)*(КАЛЕНДАРЬ!AT34=GRID!$B$3:$BI$3), 0)), INDEX(GRID!$B$4:$BI$10,MATCH($K$7,GRID!$A$4:$A$10,0),MATCH(1,($U$2=GRID!$B$1:$BI$1)*(КАЛЕНДАРЬ!AT34=GRID!$B$3:$BI$3), 0))*(1-GRID!$B$29))} -> 53000 | L61: {=IF($I$2="Открытый тариф", INDEX(GRID!$B$13:$BI$19,MATCH($K$7,GRID!$A$13:$A$19,0),MATCH(1,($U$2=GRID!$B$1:$BI$1)*(КАЛЕНДАРЬ!$AT34=GRID!$B$3:$BI$3), 0)), INDEX(GRID!$B$13:$BI$19,MATCH($K$7,GRID!$A$13:$A$19,0),MATCH(1,($U$2=GRID!$B$1:$BI$1)*(КАЛЕНДАРЬ!$AT34=GRID!$B$3:$BI$3), 0))*(1-GRID!$B$29))} -> 56300 | M61: {=IF($I$2="Открытый тариф", INDEX(GRID!$B$4:$BI$10,MATCH($M$7,GRID!$A$4:$A$10,0),MATCH(1,($U$2=GRID!$B$1:$BI$1)*(КАЛЕНДАРЬ!AT34=GRID!$B$3:$BI$3), 0)), INDEX(GRID!$B$4:$BI$10,MATCH($M$7,GRID!$A$4:$A$10,0),MATCH(1,($U$2=GRID!$B$1:$BI$1)*(КАЛЕНДАРЬ!AT34=GRID!$B$3:$BI$3), 0))*(1-GRID!$B$29))} -> 75500 | N61: {=IF($I$2="Открытый тариф", INDEX(GRID!$B$13:$BI$19,MATCH($M$7,GRID!$A$13:$A$19,0),MATCH(1,($U$2=GRID!$B$1:$BI$1)*(КАЛЕНДАРЬ!$AT34=GRID!$B$3:$BI$3), 0)), INDEX(GRID!$B$13:$BI$19,MATCH($M$7,GRID!$A$13:$A$19,0),MATCH(1,($U$2=GRID!$B$1:$BI$1)*(КАЛЕНДАРЬ!$AT34=GRID!$B$3:$BI$3), 0))*(1-GRID!$B$29))} -> 78800 | O61: {=IF($I$2="Открытый тариф", INDEX(GRID!$B$4:$BI$10,MATCH($O$7,GRID!$A$4:$A$10,0),MATCH(1,($U$2=GRID!$B$1:$BI$1)*(КАЛЕНДАРЬ!AT34=GRID!$B$3:$BI$3), 0)), INDEX(GRID!$B$4:$BI$10,MATCH($O$7,GRID!$A$4:$A$10,0),MATCH(1,($U$2=GRID!$B$1:$BI$1)*(КАЛЕНДАРЬ!AT34=GRID!$B$3:$BI$3), 0))*(1-GRID!$B$29))} -> 179800 | P61: {=IF($I$2="Открытый тариф", INDEX(GRID!$B$13:$BI$19,MATCH($O$7,GRID!$A$13:$A$19,0),MATCH(1,($U$2=GRID!$B$1:$BI$1)*(КАЛЕНДАРЬ!$AT34=GRID!$B$3:$BI$3), 0)), INDEX(GRID!$B$13:$BI$19,MATCH($O$7,GRID!$A$13:$A$19,0),MATCH(1,($U$2=GRID!$B$1:$BI$1)*(КАЛЕНДАРЬ!$AT34=GRID!$B$3:$BI$3), 0))*(1-GRID!$B$29))} -> 183100
A63: ТАРИФЫ
A64: АПРЕЛЬ 2026
A65: День | C65: Стандарт | E65: Стандарт улучшенный с двухъярусной кроватью | G65: Полулюкс | I65: Люкс | K65: Люкс Королевы | M65: Люкс Короля | O65: Президентский люкс
C66: 1-мест. | D66: 2-мест. | E66: 1-мест. | F66: 2-мест. | G66: 1-мест. | H66: 2-мест. | I66: 1-мест. | J66: 2-мест. | K66: 1-мест. | L66: 2-мест. | M66: 1-мест. | N66: 2-мест. | O66: 1-мест. | P66: 2-мест.
A67: СР | B67: 1 | C67: {=IF($I$2="Открытый тариф", INDEX(GRID!$B$4:$BI$10,MATCH($C$7,GRID!$A$4:$A$10,0),MATCH(1,($U$2=GRID!$B$1:$BI$1)*(КАЛЕНДАРЬ!AW4=GRID!$B$3:$BI$3), 0)), INDEX(GRID!$B$4:$BI$10,MATCH($C$7,GRID!$A$4:$A$10,0),MATCH(1,($U$2=GRID!$B$1:$BI$1)*(КАЛЕНДАРЬ!AW4=GRID!$B$3:$BI$3), 0))*(1-GRID!$B$29))} -> 19200 | D67: {=IF($I$2="Открытый тариф", INDEX(GRID!$B$13:$BI$19,MATCH($C$7,GRID!$A$13:$A$19,0),MATCH(1,($U$2=GRID!$B$1:$BI$1)*(КАЛЕНДАРЬ!$AW4=GRID!$B$3:$BI$3), 0)), INDEX(GRID!$B$13:$BI$19,MATCH($C$7,GRID!$A$13:$A$19,0),MATCH(1,($U$2=GRID!$B$1:$BI$1)*(КАЛЕНДАРЬ!$AW4=GRID!$B$3:$BI$3), 0))*(1-GRID!$B$29))} -> 22500 | E67: {=IF($I$2="Открытый тариф", INDEX(GRID!$B$4:$BI$10,MATCH($E$7,GRID!$A$4:$A$10,0),MATCH(1,($U$2=GRID!$B$1:$BI$1)*(КАЛЕНДАРЬ!AW4=GRID!$B$3:$BI$3), 0)), INDEX(GRID!$B$4:$BI$10,MATCH($E$7,GRID!$A$4:$A$10,0),MATCH(1,($U$2=GRID!$B$1:$BI$1)*(КАЛЕНДАРЬ!AW4=GRID!$B$3:$BI$3), 0))*(1-GRID!$B$29))} -> 23000 | F67: {=IF($I$2="Открытый тариф", INDEX(GRID!$B$13:$BI$19,MATCH($E$7,GRID!$A$13:$A$19,0),MATCH(1,($U$2=GRID!$B$1:$BI$1)*(КАЛЕНДАРЬ!$AW4=GRID!$B$3:$BI$3), 0)), INDEX(GRID!$B$13:$BI$19,MATCH($E$7,GRID!$A$13:$A$19,0),MATCH(1,($U$2=GRID!$B$1:$BI$1)*(КАЛЕНДАРЬ!$AW4=GRID!$B$3:$BI$3), 0))*(1-GRID!$B$29))} -> 26300 | G67: {=IF($I$2="Открытый тариф", INDEX(GRID!$B$4:$BI$10,MATCH($G$7,GRID!$A$4:$A$10,0),MATCH(1,($U$2=GRID!$B$1:$BI$1)*(КАЛЕНДАРЬ!AW4=GRID!$B$3:$BI$3), 0)), INDEX(GRID!$B$4:$BI$10,MATCH($G$7,GRID!$A$4:$A$10,0),MATCH(1,($U$2=GRID!$B$1:$BI$1)*(КАЛЕНДАРЬ!AW4=GRID!$B$3:$BI$3), 0))*(1-GRID!$B$29))} -> 27500 | H67: {=IF($I$2="Открытый тариф", INDEX(GRID!$B$13:$BI$19,MATCH($G$7,GRID!$A$13:$A$19,0),MATCH(1,($U$2=GRID!$B$1:$BI$1)*(КАЛЕНДАРЬ!$AW4=GRID!$B$3:$BI$3), 0)), INDEX(GRID!$B$13:$BI$19,MATCH($G$7,GRID!$A$13:$A$19,0),MATCH(1,($U$2=GRID!$B$1:$BI$1)*(КАЛЕНДАРЬ!$AW4=GRID!$B$3:$BI$3), 0))*(1-GRID!$B$29))} -> 30800 | I67: {=IF($I$2="Открытый тариф", INDEX(GRID!$B$4:$BI$10,MATCH($I$7,GRID!$A$4:$A$10,0),MATCH(1,($U$2=GRID!$B$1:$BI$1)*(КАЛЕНДАРЬ!AW4=GRID!$B$3:$BI$3), 0)), INDEX(GRID!$B$4:$BI$10,MATCH($I$7,GRID!$A$4:$A$10,0),MATCH(1,($U$2=GRID!$B$1:$BI$1)*(КАЛЕНДАРЬ!AW4=GRID!$B$3:$BI$3), 0))*(1-GRID!$B$29))} -> 38000 | J67: {=IF($I$2="Открытый тариф", INDEX(GRID!$B$13:$BI$19,MATCH($I$7,GRID!$A$13:$A$19,0),MATCH(1,($U$2=GRID!$B$1:$BI$1)*(КАЛЕНДАРЬ!$AW4=GRID!$B$3:$BI$3), 0)), INDEX(GRID!$B$13:$BI$19,MATCH($I$7,GRID!$A$13:$A$19,0),MATCH(1,($U$2=GRID!$B$1:$BI$1)*(КАЛЕНДАРЬ!$AW4=GRID!$B$3:$BI$3), 0))*(1-GRID!$B$29))} -> 41300 | K67: {=IF($I$2="Открытый тариф", INDEX(GRID!$B$4:$BI$10,MATCH($K$7,GRID!$A$4:$A$10,0),MATCH(1,($U$2=GRID!$B$1:$BI$1)*(КАЛЕНДАРЬ!AW4=GRID!$B$3:$BI$3), 0)), INDEX(GRID!$B$4:$BI$10,MATCH($K$7,GRID!$A$4:$A$10,0),MATCH(1,($U$2=GRID!$B$1:$BI$1)*(КАЛЕНДАРЬ!AW4=GRID!$B$3:$BI$3), 0))*(1-GRID!$B$29))} -> 53000 | L67: {=IF($I$2="Открытый тариф", INDEX(GRID!$B$13:$BI$19,MATCH($K$7,GRID!$A$13:$A$19,0),MATCH(1,($U$2=GRID!$B$1:$BI$1)*(КАЛЕНДАРЬ!$AW4=GRID!$B$3:$BI$3), 0)), INDEX(GRID!$B$13:$BI$19,MATCH($K$7,GRID!$A$13:$A$19,0),MATCH(1,($U$2=GRID!$B$1:$BI$1)*(КАЛЕНДАРЬ!$AW4=GRID!$B$3:$BI$3), 0))*(1-GRID!$B$29))} -> 56300 | M67: {=IF($I$2="Открытый тариф", INDEX(GRID!$B$4:$BI$10,MATCH($M$7,GRID!$A$4:$A$10,0),MATCH(1,($U$2=GRID!$B$1:$BI$1)*(КАЛЕНДАРЬ!AW4=GRID!$B$3:$BI$3), 0)), INDEX(GRID!$B$4:$BI$10,MATCH($M$7,GRID!$A$4:$A$10,0),MATCH(1,($U$2=GRID!$B$1:$BI$1)*(КАЛЕНДАРЬ!AW4=GRID!$B$3:$BI$3), 0))*(1-GRID!$B$29))} -> 75500 | N67: {=IF($I$2="Открытый тариф", INDEX(GRID!$B$13:$BI$19,MATCH($M$7,GRID!$A$13:$A$19,0),MATCH(1,($U$2=GRID!$B$1:$BI$1)*(КАЛЕНДАРЬ!$AW4=GRID!$B$3:$BI$3), 0)), INDEX(GRID!$B$13:$BI$19,MATCH($M$7,GRID!$A$13:$A$19,0),MATCH(1,($U$2=GRID!$B$1:$BI$1)*(КАЛЕНДАРЬ!$AW4=GRID!$B$3:$BI$3), 0))*(1-GRID!$B$29))} -> 78800 | O67: {=IF($I$2="Открытый тариф", INDEX(GRID!$B$4:$BI$10,MATCH($O$7,GRID!$A$4:$A$10,0),MATCH(1,($U$2=GRID!$B$1:$BI$1)*(КАЛЕНДАРЬ!AW4=GRID!$B$3:$BI$3), 0)), INDEX(GRID!$B$4:$BI$10,MATCH($O$7,GRID!$A$4:$A$10,0),MATCH(1,($U$2=GRID!$B$1:$BI$1)*(КАЛЕНДАРЬ!AW4=GRID!$B$3:$BI$3), 0))*(1-GRID!$B$29))} -> 179800 | P67: {=IF($I$2="Открытый тариф", INDEX(GRID!$B$13:$BI$19,MATCH($O$7,GRID!$A$13:$A$19,0),MATCH(1,($U$2=GRID!$B$1:$BI$1)*(КАЛЕНДАРЬ!$AW4=GRID!$B$3:$BI$3), 0)), INDEX(GRID!$B$13:$BI$19,MATCH($O$7,GRID!$A$13:$A$19,0),MATCH(1,($U$2=GRID!$B$1:$BI$1)*(КАЛЕНДАРЬ!$AW4=GRID!$B$3:$BI$3), 0))*(1-GRID!$B$29))} -> 183100
A68: ЧТ | B68: 2 | C68: {=IF($I$2="Открытый тариф", INDEX(GRID!$B$4:$BI$10,MATCH($C$7,GRID!$A$4:$A$10,0),MATCH(1,($U$2=GRID!$B$1:$BI$1)*(КАЛЕНДАРЬ!AW5=GRID!$B$3:$BI$3), 0)), INDEX(GRID!$B$4:$BI$10,MATCH($C$7,GRID!$A$4:$A$10,0),MATCH(1,($U$2=GRID!$B$1:$BI$1)*(КАЛЕНДАРЬ!AW5=GRID!$B$3:$BI$3), 0))*(1-GRID!$B$29))} -> 19200 | D68: {=IF($I$2="Открытый тариф", INDEX(GRID!$B$13:$BI$19,MATCH($C$7,GRID!$A$13:$A$19,0),MATCH(1,($U$2=GRID!$B$1:$BI$1)*(КАЛЕНДАРЬ!$AW5=GRID!$B$3:$BI$3), 0)), INDEX(GRID!$B$13:$BI$19,MATCH($C$7,GRID!$A$13:$A$19,0),MATCH(1,($U$2=GRID!$B$1:$BI$1)*(КАЛЕНДАРЬ!$AW5=GRID!$B$3:$BI$3), 0))*(1-GRID!$B$29))} -> 22500 | E68: {=IF($I$2="Открытый тариф", INDEX(GRID!$B$4:$BI$10,MATCH($E$7,GRID!$A$4:$A$10,0),MATCH(1,($U$2=GRID!$B$1:$BI$1)*(КАЛЕНДАРЬ!AW5=GRID!$B$3:$BI$3), 0)), INDEX(GRID!$B$4:$BI$10,MATCH($E$7,GRID!$A$4:$A$10,0),MATCH(1,($U$2=GRID!$B$1:$BI$1)*(КАЛЕНДАРЬ!AW5=GRID!$B$3:$BI$3), 0))*(1-GRID!$B$29))} -> 23000 | F68: {=IF($I$2="Открытый тариф", INDEX(GRID!$B$13:$BI$19,MATCH($E$7,GRID!$A$13:$A$19,0),MATCH(1,($U$2=GRID!$B$1:$BI$1)*(КАЛЕНДАРЬ!$AW5=GRID!$B$3:$BI$3), 0)), INDEX(GRID!$B$13:$BI$19,MATCH($E$7,GRID!$A$13:$A$19,0),MATCH(1,($U$2=GRID!$B$1:$BI$1)*(КАЛЕНДАРЬ!$AW5=GRID!$B$3:$BI$3), 0))*(1-GRID!$B$29))} -> 26300 | G68: {=IF($I$2="Открытый тариф", INDEX(GRID!$B$4:$BI$10,MATCH($G$7,GRID!$A$4:$A$10,0),MATCH(1,($U$2=GRID!$B$1:$BI$1)*(КАЛЕНДАРЬ!AW5=GRID!$B$3:$BI$3), 0)), INDEX(GRID!$B$4:$BI$10,MATCH($G$7,GRID!$A$4:$A$10,0),MATCH(1,($U$2=GRID!$B$1:$BI$1)*(КАЛЕНДАРЬ!AW5=GRID!$B$3:$BI$3), 0))*(1-GRID!$B$29))} -> 27500 | H68: {=IF($I$2="Открытый тариф", INDEX(GRID!$B$13:$BI$19,MATCH($G$7,GRID!$A$13:$A$19,0),MATCH(1,($U$2=GRID!$B$1:$BI$1)*(КАЛЕНДАРЬ!$AW5=GRID!$B$3:$BI$3), 0)), INDEX(GRID!$B$13:$BI$19,MATCH($G$7,GRID!$A$13:$A$19,0),MATCH(1,($U$2=GRID!$B$1:$BI$1)*(КАЛЕНДАРЬ!$AW5=GRID!$B$3:$BI$3), 0))*(1-GRID!$B$29))} -> 30800 | I68: {=IF($I$2="Открытый тариф", INDEX(GRID!$B$4:$BI$10,MATCH($I$7,GRID!$A$4:$A$10,0),MATCH(1,($U$2=GRID!$B$1:$BI$1)*(КАЛЕНДАРЬ!AW5=GRID!$B$3:$BI$3), 0)), INDEX(GRID!$B$4:$BI$10,MATCH($I$7,GRID!$A$4:$A$10,0),MATCH(1,($U$2=GRID!$B$1:$BI$1)*(КАЛЕНДАРЬ!AW5=GRID!$B$3:$BI$3), 0))*(1-GRID!$B$29))} -> 38000 | J68: {=IF($I$2="Открытый тариф", INDEX(GRID!$B$13:$BI$19,MATCH($I$7,GRID!$A$13:$A$19,0),MATCH(1,($U$2=GRID!$B$1:$BI$1)*(КАЛЕНДАРЬ!$AW5=GRID!$B$3:$BI$3), 0)), INDEX(GRID!$B$13:$BI$19,MATCH($I$7,GRID!$A$13:$A$19,0),MATCH(1,($U$2=GRID!$B$1:$BI$1)*(КАЛЕНДАРЬ!$AW5=GRID!$B$3:$BI$3), 0))*(1-GRID!$B$29))} -> 41300 | K68: {=IF($I$2="Открытый тариф", INDEX(GRID!$B$4:$BI$10,MATCH($K$7,GRID!$A$4:$A$10,0),MATCH(1,($U$2=GRID!$B$1:$BI$1)*(КАЛЕНДАРЬ!AW5=GRID!$B$3:$BI$3), 0)), INDEX(GRID!$B$4:$BI$10,MATCH($K$7,GRID!$A$4:$A$10,0),MATCH(1,($U$2=GRID!$B$1:$BI$1)*(КАЛЕНДАРЬ!AW5=GRID!$B$3:$BI$3), 0))*(1-GRID!$B$29))} -> 53000 | L68: {=IF($I$2="Открытый тариф", INDEX(GRID!$B$13:$BI$19,MATCH($K$7,GRID!$A$13:$A$19,0),MATCH(1,($U$2=GRID!$B$1:$BI$1)*(КАЛЕНДАРЬ!$AW5=GRID!$B$3:$BI$3), 0)), INDEX(GRID!$B$13:$BI$19,MATCH($K$7,GRID!$A$13:$A$19,0),MATCH(1,($U$2=GRID!$B$1:$BI$1)*(КАЛЕНДАРЬ!$AW5=GRID!$B$3:$BI$3), 0))*(1-GRID!$B$29))} -> 56300 | M68: {=IF($I$2="Открытый тариф", INDEX(GRID!$B$4:$BI$10,MATCH($M$7,GRID!$A$4:$A$10,0),MATCH(1,($U$2=GRID!$B$1:$BI$1)*(КАЛЕНДАРЬ!AW5=GRID!$B$3:$BI$3), 0)), INDEX(GRID!$B$4:$BI$10,MATCH($M$7,GRID!$A$4:$A$10,0),MATCH(1,($U$2=GRID!$B$1:$BI$1)*(КАЛЕНДАРЬ!AW5=GRID!$B$3:$BI$3), 0))*(1-GRID!$B$29))} -> 75500 | N68: {=IF($I$2="Открытый тариф", INDEX(GRID!$B$13:$BI$19,MATCH($M$7,GRID!$A$13:$A$19,0),MATCH(1,($U$2=GRID!$B$1:$BI$1)*(КАЛЕНДАРЬ!$AW5=GRID!$B$3:$BI$3), 0)), INDEX(GRID!$B$13:$BI$19,MATCH($M$7,GRID!$A$13:$A$19,0),MATCH(1,($U$2=GRID!$B$1:$BI$1)*(КАЛЕНДАРЬ!$AW5=GRID!$B$3:$BI$3), 0))*(1-GRID!$B$29))} -> 78800 | O68: {=IF($I$2="Открытый тариф", INDEX(GRID!$B$4:$BI$10,MATCH($O$7,GRID!$A$4:$A$10,0),MATCH(1,($U$2=GRID!$B$1:$BI$1)*(КАЛЕНДАРЬ!AW5=GRID!$B$3:$BI$3), 0)), INDEX(GRID!$B$4:$BI$10,MATCH($O$7,GRID!$A$4:$A$10,0),MATCH(1,($U$2=GRID!$B$1:$BI$1)*(КАЛЕНДАРЬ!AW5=GRID!$B$3:$BI$3), 0))*(1-GRID!$B$29))} -> 179800 | P68: {=IF($I$2="Открытый тариф", INDEX(GRID!$B$13:$BI$19,MATCH($O$7,GRID!$A$13:$A$19,0),MATCH(1,($U$2=GRID!$B$1:$BI$1)*(КАЛЕНДАРЬ!$AW5=GRID!$B$3:$BI$3), 0)), INDEX(GRID!$B$13:$BI$19,MATCH($O$7,GRID!$A$13:$A$19,0),MATCH(1,($U$2=GRID!$B$1:$BI$1)*(КАЛЕНДАРЬ!$AW5=GRID!$B$3:$BI$3), 0))*(1-GRID!$B$29))} -> 183100
A69: ПТ | B69: 3 | C69: {=IF($I$2="Открытый тариф", INDEX(GRID!$B$4:$BI$10,MATCH($C$7,GRID!$A$4:$A$10,0),MATCH(1,($U$2=GRID!$B$1:$BI$1)*(КАЛЕНДАРЬ!AW6=GRID!$B$3:$BI$3), 0)), INDEX(GRID!$B$4:$BI$10,MATCH($C$7,GRID!$A$4:$A$10,0),MATCH(1,($U$2=GRID!$B$1:$BI$1)*(КАЛЕНДАРЬ!AW6=GRID!$B$3:$BI$3), 0))*(1-GRID!$B$29))} -> 19200 | D69: {=IF($I$2="Открытый тариф", INDEX(GRID!$B$13:$BI$19,MATCH($C$7,GRID!$A$13:$A$19,0),MATCH(1,($U$2=GRID!$B$1:$BI$1)*(КАЛЕНДАРЬ!$AW6=GRID!$B$3:$BI$3), 0)), INDEX(GRID!$B$13:$BI$19,MATCH($C$7,GRID!$A$13:$A$19,0),MATCH(1,($U$2=GRID!$B$1:$BI$1)*(КАЛЕНДАРЬ!$AW6=GRID!$B$3:$BI$3), 0))*(1-GRID!$B$29))} -> 22500 | E69: {=IF($I$2="Открытый тариф", INDEX(GRID!$B$4:$BI$10,MATCH($E$7,GRID!$A$4:$A$10,0),MATCH(1,($U$2=GRID!$B$1:$BI$1)*(КАЛЕНДАРЬ!AW6=GRID!$B$3:$BI$3), 0)), INDEX(GRID!$B$4:$BI$10,MATCH($E$7,GRID!$A$4:$A$10,0),MATCH(1,($U$2=GRID!$B$1:$BI$1)*(КАЛЕНДАРЬ!AW6=GRID!$B$3:$BI$3), 0))*(1-GRID!$B$29))} -> 23000 | F69: {=IF($I$2="Открытый тариф", INDEX(GRID!$B$13:$BI$19,MATCH($E$7,GRID!$A$13:$A$19,0),MATCH(1,($U$2=GRID!$B$1:$BI$1)*(КАЛЕНДАРЬ!$AW6=GRID!$B$3:$BI$3), 0)), INDEX(GRID!$B$13:$BI$19,MATCH($E$7,GRID!$A$13:$A$19,0),MATCH(1,($U$2=GRID!$B$1:$BI$1)*(КАЛЕНДАРЬ!$AW6=GRID!$B$3:$BI$3), 0))*(1-GRID!$B$29))} -> 26300 | G69: {=IF($I$2="Открытый тариф", INDEX(GRID!$B$4:$BI$10,MATCH($G$7,GRID!$A$4:$A$10,0),MATCH(1,($U$2=GRID!$B$1:$BI$1)*(КАЛЕНДАРЬ!AW6=GRID!$B$3:$BI$3), 0)), INDEX(GRID!$B$4:$BI$10,MATCH($G$7,GRID!$A$4:$A$10,0),MATCH(1,($U$2=GRID!$B$1:$BI$1)*(КАЛЕНДАРЬ!AW6=GRID!$B$3:$BI$3), 0))*(1-GRID!$B$29))} -> 27500 | H69: {=IF($I$2="Открытый тариф", INDEX(GRID!$B$13:$BI$19,MATCH($G$7,GRID!$A$13:$A$19,0),MATCH(1,($U$2=GRID!$B$1:$BI$1)*(КАЛЕНДАРЬ!$AW6=GRID!$B$3:$BI$3), 0)), INDEX(GRID!$B$13:$BI$19,MATCH($G$7,GRID!$A$13:$A$19,0),MATCH(1,($U$2=GRID!$B$1:$BI$1)*(КАЛЕНДАРЬ!$AW6=GRID!$B$3:$BI$3), 0))*(1-GRID!$B$29))} -> 30800 | I69: {=IF($I$2="Открытый тариф", INDEX(GRID!$B$4:$BI$10,MATCH($I$7,GRID!$A$4:$A$10,0),MATCH(1,($U$2=GRID!$B$1:$BI$1)*(КАЛЕНДАРЬ!AW6=GRID!$B$3:$BI$3), 0)), INDEX(GRID!$B$4:$BI$10,MATCH($I$7,GRID!$A$4:$A$10,0),MATCH(1,($U$2=GRID!$B$1:$BI$1)*(КАЛЕНДАРЬ!AW6=GRID!$B$3:$BI$3), 0))*(1-GRID!$B$29))} -> 38000 | J69: {=IF($I$2="Открытый тариф", INDEX(GRID!$B$13:$BI$19,MATCH($I$7,GRID!$A$13:$A$19,0),MATCH(1,($U$2=GRID!$B$1:$BI$1)*(КАЛЕНДАРЬ!$AW6=GRID!$B$3:$BI$3), 0)), INDEX(GRID!$B$13:$BI$19,MATCH($I$7,GRID!$A$13:$A$19,0),MATCH(1,($U$2=GRID!$B$1:$BI$1)*(КАЛЕНДАРЬ!$AW6=GRID!$B$3:$BI$3), 0))*(1-GRID!$B$29))} -> 41300 | K69: {=IF($I$2="Открытый тариф", INDEX(GRID!$B$4:$BI$10,MATCH($K$7,GRID!$A$4:$A$10,0),MATCH(1,($U$2=GRID!$B$1:$BI$1)*(КАЛЕНДАРЬ!AW6=GRID!$B$3:$BI$3), 0)), INDEX(GRID!$B$4:$BI$10,MATCH($K$7,GRID!$A$4:$A$10,0),MATCH(1,($U$2=GRID!$B$1:$BI$1)*(КАЛЕНДАРЬ!AW6=GRID!$B$3:$BI$3), 0))*(1-GRID!$B$29))} -> 53000 | L69: {=IF($I$2="Открытый тариф", INDEX(GRID!$B$13:$BI$19,MATCH($K$7,GRID!$A$13:$A$19,0),MATCH(1,($U$2=GRID!$B$1:$BI$1)*(КАЛЕНДАРЬ!$AW6=GRID!$B$3:$BI$3), 0)), INDEX(GRID!$B$13:$BI$19,MATCH($K$7,GRID!$A$13:$A$19,0),MATCH(1,($U$2=GRID!$B$1:$BI$1)*(КАЛЕНДАРЬ!$AW6=GRID!$B$3:$BI$3), 0))*(1-GRID!$B$29))} -> 56300 | M69: {=IF($I$2="Открытый тариф", INDEX(GRID!$B$4:$BI$10,MATCH($M$7,GRID!$A$4:$A$10,0),MATCH(1,($U$2=GRID!$B$1:$BI$1)*(КАЛЕНДАРЬ!AW6=GRID!$B$3:$BI$3), 0)), INDEX(GRID!$B$4:$BI$10,MATCH($M$7,GRID!$A$4:$A$10,0),MATCH(1,($U$2=GRID!$B$1:$BI$1)*(КАЛЕНДАРЬ!AW6=GRID!$B$3:$BI$3), 0))*(1-GRID!$B$29))} -> 75500 | N69: {=IF($I$2="Открытый тариф", INDEX(GRID!$B$13:$BI$19,MATCH($M$7,GRID!$A$13:$A$19,0),MATCH(1,($U$2=GRID!$B$1:$BI$1)*(КАЛЕНДАРЬ!$AW6=GRID!$B$3:$BI$3), 0)), INDEX(GRID!$B$13:$BI$19,MATCH($M$7,GRID!$A$13:$A$19,0),MATCH(1,($U$2=GRID!$B$1:$BI$1)*(КАЛЕНДАРЬ!$AW6=GRID!$B$3:$BI$3), 0))*(1-GRID!$B$29))} -> 78800 | O69: {=IF($I$2="Открытый тариф", INDEX(GRID!$B$4:$BI$10,MATCH($O$7,GRID!$A$4:$A$10,0),MATCH(1,($U$2=GRID!$B$1:$BI$1)*(КАЛЕНДАРЬ!AW6=GRID!$B$3:$BI$3), 0)), INDEX(GRID!$B$4:$BI$10,MATCH($O$7,GRID!$A$4:$A$10,0),MATCH(1,($U$2=GRID!$B$1:$BI$1)*(КАЛЕНДАРЬ!AW6=GRID!$B$3:$BI$3), 0))*(1-GRID!$B$29))} -> 179800 | P69: {=IF($I$2="Открытый тариф", INDEX(GRID!$B$13:$BI$19,MATCH($O$7,GRID!$A$13:$A$19,0),MATCH(1,($U$2=GRID!$B$1:$BI$1)*(КАЛЕНДАРЬ!$AW6=GRID!$B$3:$BI$3), 0)), INDEX(GRID!$B$13:$BI$19,MATCH($O$7,GRID!$A$13:$A$19,0),MATCH(1,($U$2=GRID!$B$1:$BI$1)*(КАЛЕНДАРЬ!$AW6=GRID!$B$3:$BI$3), 0))*(1-GRID!$B$29))} -> 183100
A70: СБ | B70: 4 | C70: {=IF($I$2="Открытый тариф", INDEX(GRID!$B$4:$BI$10,MATCH($C$7,GRID!$A$4:$A$10,0),MATCH(1,($U$2=GRID!$B$1:$BI$1)*(КАЛЕНДАРЬ!AW7=GRID!$B$3:$BI$3), 0)), INDEX(GRID!$B$4:$BI$10,MATCH($C$7,GRID!$A$4:$A$10,0),MATCH(1,($U$2=GRID!$B$1:$BI$1)*(КАЛЕНДАРЬ!AW7=GRID!$B$3:$BI$3), 0))*(1-GRID!$B$29))} -> 19200 | D70: {=IF($I$2="Открытый тариф", INDEX(GRID!$B$13:$BI$19,MATCH($C$7,GRID!$A$13:$A$19,0),MATCH(1,($U$2=GRID!$B$1:$BI$1)*(КАЛЕНДАРЬ!$AW7=GRID!$B$3:$BI$3), 0)), INDEX(GRID!$B$13:$BI$19,MATCH($C$7,GRID!$A$13:$A$19,0),MATCH(1,($U$2=GRID!$B$1:$BI$1)*(КАЛЕНДАРЬ!$AW7=GRID!$B$3:$BI$3), 0))*(1-GRID!$B$29))} -> 22500 | E70: {=IF($I$2="Открытый тариф", INDEX(GRID!$B$4:$BI$10,MATCH($E$7,GRID!$A$4:$A$10,0),MATCH(1,($U$2=GRID!$B$1:$BI$1)*(КАЛЕНДАРЬ!AW7=GRID!$B$3:$BI$3), 0)), INDEX(GRID!$B$4:$BI$10,MATCH($E$7,GRID!$A$4:$A$10,0),MATCH(1,($U$2=GRID!$B$1:$BI$1)*(КАЛЕНДАРЬ!AW7=GRID!$B$3:$BI$3), 0))*(1-GRID!$B$29))} -> 23000 | F70: {=IF($I$2="Открытый тариф", INDEX(GRID!$B$13:$BI$19,MATCH($E$7,GRID!$A$13:$A$19,0),MATCH(1,($U$2=GRID!$B$1:$BI$1)*(КАЛЕНДАРЬ!$AW7=GRID!$B$3:$BI$3), 0)), INDEX(GRID!$B$13:$BI$19,MATCH($E$7,GRID!$A$13:$A$19,0),MATCH(1,($U$2=GRID!$B$1:$BI$1)*(КАЛЕНДАРЬ!$AW7=GRID!$B$3:$BI$3), 0))*(1-GRID!$B$29))} -> 26300 | G70: {=IF($I$2="Открытый тариф", INDEX(GRID!$B$4:$BI$10,MATCH($G$7,GRID!$A$4:$A$10,0),MATCH(1,($U$2=GRID!$B$1:$BI$1)*(КАЛЕНДАРЬ!AW7=GRID!$B$3:$BI$3), 0)), INDEX(GRID!$B$4:$BI$10,MATCH($G$7,GRID!$A$4:$A$10,0),MATCH(1,($U$2=GRID!$B$1:$BI$1)*(КАЛЕНДАРЬ!AW7=GRID!$B$3:$BI$3), 0))*(1-GRID!$B$29))} -> 27500 | H70: {=IF($I$2="Открытый тариф", INDEX(GRID!$B$13:$BI$19,MATCH($G$7,GRID!$A$13:$A$19,0),MATCH(1,($U$2=GRID!$B$1:$BI$1)*(КАЛЕНДАРЬ!$AW7=GRID!$B$3:$BI$3), 0)), INDEX(GRID!$B$13:$BI$19,MATCH($G$7,GRID!$A$13:$A$19,0),MATCH(1,($U$2=GRID!$B$1:$BI$1)*(КАЛЕНДАРЬ!$AW7=GRID!$B$3:$BI$3), 0))*(1-GRID!$B$29))} -> 30800 | I70: {=IF($I$2="Открытый тариф", INDEX(GRID!$B$4:$BI$10,MATCH($I$7,GRID!$A$4:$A$10,0),MATCH(1,($U$2=GRID!$B$1:$BI$1)*(КАЛЕНДАРЬ!AW7=GRID!$B$3:$BI$3), 0)), INDEX(GRID!$B$4:$BI$10,MATCH($I$7,GRID!$A$4:$A$10,0),MATCH(1,($U$2=GRID!$B$1:$BI$1)*(КАЛЕНДАРЬ!AW7=GRID!$B$3:$BI$3), 0))*(1-GRID!$B$29))} -> 38000 | J70: {=IF($I$2="Открытый тариф", INDEX(GRID!$B$13:$BI$19,MATCH($I$7,GRID!$A$13:$A$19,0),MATCH(1,($U$2=GRID!$B$1:$BI$1)*(КАЛЕНДАРЬ!$AW7=GRID!$B$3:$BI$3), 0)), INDEX(GRID!$B$13:$BI$19,MATCH($I$7,GRID!$A$13:$A$19,0),MATCH(1,($U$2=GRID!$B$1:$BI$1)*(КАЛЕНДАРЬ!$AW7=GRID!$B$3:$BI$3), 0))*(1-GRID!$B$29))} -> 41300 | K70: {=IF($I$2="Открытый тариф", INDEX(GRID!$B$4:$BI$10,MATCH($K$7,GRID!$A$4:$A$10,0),MATCH(1,($U$2=GRID!$B$1:$BI$1)*(КАЛЕНДАРЬ!AW7=GRID!$B$3:$BI$3), 0)), INDEX(GRID!$B$4:$BI$10,MATCH($K$7,GRID!$A$4:$A$10,0),MATCH(1,($U$2=GRID!$B$1:$BI$1)*(КАЛЕНДАРЬ!AW7=GRID!$B$3:$BI$3), 0))*(1-GRID!$B$29))} -> 53000 | L70: {=IF($I$2="Открытый тариф", INDEX(GRID!$B$13:$BI$19,MATCH($K$7,GRID!$A$13:$A$19,0),MATCH(1,($U$2=GRID!$B$1:$BI$1)*(КАЛЕНДАРЬ!$AW7=GRID!$B$3:$BI$3), 0)), INDEX(GRID!$B$13:$BI$19,MATCH($K$7,GRID!$A$13:$A$19,0),MATCH(1,($U$2=GRID!$B$1:$BI$1)*(КАЛЕНДАРЬ!$AW7=GRID!$B$3:$BI$3), 0))*(1-GRID!$B$29))} -> 56300 | M70: {=IF($I$2="Открытый тариф", INDEX(GRID!$B$4:$BI$10,MATCH($M$7,GRID!$A$4:$A$10,0),MATCH(1,($U$2=GRID!$B$1:$BI$1)*(КАЛЕНДАРЬ!AW7=GRID!$B$3:$BI$3), 0)), INDEX(GRID!$B$4:$BI$10,MATCH($M$7,GRID!$A$4:$A$10,0),MATCH(1,($U$2=GRID!$B$1:$BI$1)*(КАЛЕНДАРЬ!AW7=GRID!$B$3:$BI$3), 0))*(1-GRID!$B$29))} -> 75500 | N70: {=IF($I$2="Открытый тариф", INDEX(GRID!$B$13:$BI$19,MATCH($M$7,GRID!$A$13:$A$19,0),MATCH(1,($U$2=GRID!$B$1:$BI$1)*(КАЛЕНДАРЬ!$AW7=GRID!$B$3:$BI$3), 0)), INDEX(GRID!$B$13:$BI$19,MATCH($M$7,GRID!$A$13:$A$19,0),MATCH(1,($U$2=GRID!$B$1:$BI$1)*(КАЛЕНДАРЬ!$AW7=GRID!$B$3:$BI$3), 0))*(1-GRID!$B$29))} -> 78800 | O70: {=IF($I$2="Открытый тариф", INDEX(GRID!$B$4:$BI$10,MATCH($O$7,GRID!$A$4:$A$10,0),MATCH(1,($U$2=GRID!$B$1:$BI$1)*(КАЛЕНДАРЬ!AW7=GRID!$B$3:$BI$3), 0)), INDEX(GRID!$B$4:$BI$10,MATCH($O$7,GRID!$A$4:$A$10,0),MATCH(1,($U$2=GRID!$B$1:$BI$1)*(КАЛЕНДАРЬ!AW7=GRID!$B$3:$BI$3), 0))*(1-GRID!$B$29))} -> 179800 | P70: {=IF($I$2="Открытый тариф", INDEX(GRID!$B$13:$BI$19,MATCH($O$7,GRID!$A$13:$A$19,0),MATCH(1,($U$2=GRID!$B$1:$BI$1)*(КАЛЕНДАРЬ!$AW7=GRID!$B$3:$BI$3), 0)), INDEX(GRID!$B$13:$BI$19,MATCH($O$7,GRID!$A$13:$A$19,0),MATCH(1,($U$2=GRID!$B$1:$BI$1)*(КАЛЕНДАРЬ!$AW7=GRID!$B$3:$BI$3), 0))*(1-GRID!$B$29))} -> 183100
A71: ВС | B71: 5 | C71: {=IF($I$2="Открытый тариф", INDEX(GRID!$B$4:$BI$10,MATCH($C$7,GRID!$A$4:$A$10,0),MATCH(1,($U$2=GRID!$B$1:$BI$1)*(КАЛЕНДАРЬ!AW8=GRID!$B$3:$BI$3), 0)), INDEX(GRID!$B$4:$BI$10,MATCH($C$7,GRID!$A$4:$A$10,0),MATCH(1,($U$2=GRID!$B$1:$BI$1)*(КАЛЕНДАРЬ!AW8=GRID!$B$3:$BI$3), 0))*(1-GRID!$B$29))} -> 12800 | D71: {=IF($I$2="Открытый тариф", INDEX(GRID!$B$13:$BI$19,MATCH($C$7,GRID!$A$13:$A$19,0),MATCH(1,($U$2=GRID!$B$1:$BI$1)*(КАЛЕНДАРЬ!$AW8=GRID!$B$3:$BI$3), 0)), INDEX(GRID!$B$13:$BI$19,MATCH($C$7,GRID!$A$13:$A$19,0),MATCH(1,($U$2=GRID!$B$1:$BI$1)*(КАЛЕНДАРЬ!$AW8=GRID!$B$3:$BI$3), 0))*(1-GRID!$B$29))} -> 16100 | E71: {=IF($I$2="Открытый тариф", INDEX(GRID!$B$4:$BI$10,MATCH($E$7,GRID!$A$4:$A$10,0),MATCH(1,($U$2=GRID!$B$1:$BI$1)*(КАЛЕНДАРЬ!AW8=GRID!$B$3:$BI$3), 0)), INDEX(GRID!$B$4:$BI$10,MATCH($E$7,GRID!$A$4:$A$10,0),MATCH(1,($U$2=GRID!$B$1:$BI$1)*(КАЛЕНДАРЬ!AW8=GRID!$B$3:$BI$3), 0))*(1-GRID!$B$29))} -> 15700 | F71: {=IF($I$2="Открытый тариф", INDEX(GRID!$B$13:$BI$19,MATCH($E$7,GRID!$A$13:$A$19,0),MATCH(1,($U$2=GRID!$B$1:$BI$1)*(КАЛЕНДАРЬ!$AW8=GRID!$B$3:$BI$3), 0)), INDEX(GRID!$B$13:$BI$19,MATCH($E$7,GRID!$A$13:$A$19,0),MATCH(1,($U$2=GRID!$B$1:$BI$1)*(КАЛЕНДАРЬ!$AW8=GRID!$B$3:$BI$3), 0))*(1-GRID!$B$29))} -> 19000 | G71: {=IF($I$2="Открытый тариф", INDEX(GRID!$B$4:$BI$10,MATCH($G$7,GRID!$A$4:$A$10,0),MATCH(1,($U$2=GRID!$B$1:$BI$1)*(КАЛЕНДАРЬ!AW8=GRID!$B$3:$BI$3), 0)), INDEX(GRID!$B$4:$BI$10,MATCH($G$7,GRID!$A$4:$A$10,0),MATCH(1,($U$2=GRID!$B$1:$BI$1)*(КАЛЕНДАРЬ!AW8=GRID!$B$3:$BI$3), 0))*(1-GRID!$B$29))} -> 19200 | H71: {=IF($I$2="Открытый тариф", INDEX(GRID!$B$13:$BI$19,MATCH($G$7,GRID!$A$13:$A$19,0),MATCH(1,($U$2=GRID!$B$1:$BI$1)*(КАЛЕНДАРЬ!$AW8=GRID!$B$3:$BI$3), 0)), INDEX(GRID!$B$13:$BI$19,MATCH($G$7,GRID!$A$13:$A$19,0),MATCH(1,($U$2=GRID!$B$1:$BI$1)*(КАЛЕНДАРЬ!$AW8=GRID!$B$3:$BI$3), 0))*(1-GRID!$B$29))} -> 22500 | I71: {=IF($I$2="Открытый тариф", INDEX(GRID!$B$4:$BI$10,MATCH($I$7,GRID!$A$4:$A$10,0),MATCH(1,($U$2=GRID!$B$1:$BI$1)*(КАЛЕНДАРЬ!AW8=GRID!$B$3:$BI$3), 0)), INDEX(GRID!$B$4:$BI$10,MATCH($I$7,GRID!$A$4:$A$10,0),MATCH(1,($U$2=GRID!$B$1:$BI$1)*(КАЛЕНДАРЬ!AW8=GRID!$B$3:$BI$3), 0))*(1-GRID!$B$29))} -> 27300 | J71: {=IF($I$2="Открытый тариф", INDEX(GRID!$B$13:$BI$19,MATCH($I$7,GRID!$A$13:$A$19,0),MATCH(1,($U$2=GRID!$B$1:$BI$1)*(КАЛЕНДАРЬ!$AW8=GRID!$B$3:$BI$3), 0)), INDEX(GRID!$B$13:$BI$19,MATCH($I$7,GRID!$A$13:$A$19,0),MATCH(1,($U$2=GRID!$B$1:$BI$1)*(КАЛЕНДАРЬ!$AW8=GRID!$B$3:$BI$3), 0))*(1-GRID!$B$29))} -> 30600 | K71: {=IF($I$2="Открытый тариф", INDEX(GRID!$B$4:$BI$10,MATCH($K$7,GRID!$A$4:$A$10,0),MATCH(1,($U$2=GRID!$B$1:$BI$1)*(КАЛЕНДАРЬ!AW8=GRID!$B$3:$BI$3), 0)), INDEX(GRID!$B$4:$BI$10,MATCH($K$7,GRID!$A$4:$A$10,0),MATCH(1,($U$2=GRID!$B$1:$BI$1)*(КАЛЕНДАРЬ!AW8=GRID!$B$3:$BI$3), 0))*(1-GRID!$B$29))} -> 38800 | L71: {=IF($I$2="Открытый тариф", INDEX(GRID!$B$13:$BI$19,MATCH($K$7,GRID!$A$13:$A$19,0),MATCH(1,($U$2=GRID!$B$1:$BI$1)*(КАЛЕНДАРЬ!$AW8=GRID!$B$3:$BI$3), 0)), INDEX(GRID!$B$13:$BI$19,MATCH($K$7,GRID!$A$13:$A$19,0),MATCH(1,($U$2=GRID!$B$1:$BI$1)*(КАЛЕНДАРЬ!$AW8=GRID!$B$3:$BI$3), 0))*(1-GRID!$B$29))} -> 42100 | M71: {=IF($I$2="Открытый тариф", INDEX(GRID!$B$4:$BI$10,MATCH($M$7,GRID!$A$4:$A$10,0),MATCH(1,($U$2=GRID!$B$1:$BI$1)*(КАЛЕНДАРЬ!AW8=GRID!$B$3:$BI$3), 0)), INDEX(GRID!$B$4:$BI$10,MATCH($M$7,GRID!$A$4:$A$10,0),MATCH(1,($U$2=GRID!$B$1:$BI$1)*(КАЛЕНДАРЬ!AW8=GRID!$B$3:$BI$3), 0))*(1-GRID!$B$29))} -> 56100 | N71: {=IF($I$2="Открытый тариф", INDEX(GRID!$B$13:$BI$19,MATCH($M$7,GRID!$A$13:$A$19,0),MATCH(1,($U$2=GRID!$B$1:$BI$1)*(КАЛЕНДАРЬ!$AW8=GRID!$B$3:$BI$3), 0)), INDEX(GRID!$B$13:$BI$19,MATCH($M$7,GRID!$A$13:$A$19,0),MATCH(1,($U$2=GRID!$B$1:$BI$1)*(КАЛЕНДАРЬ!$AW8=GRID!$B$3:$BI$3), 0))*(1-GRID!$B$29))} -> 59400 | O71: {=IF($I$2="Открытый тариф", INDEX(GRID!$B$4:$BI$10,MATCH($O$7,GRID!$A$4:$A$10,0),MATCH(1,($U$2=GRID!$B$1:$BI$1)*(КАЛЕНДАРЬ!AW8=GRID!$B$3:$BI$3), 0)), INDEX(GRID!$B$4:$BI$10,MATCH($O$7,GRID!$A$4:$A$10,0),MATCH(1,($U$2=GRID!$B$1:$BI$1)*(КАЛЕНДАРЬ!AW8=GRID!$B$3:$BI$3), 0))*(1-GRID!$B$29))} -> 132000 | P71: {=IF($I$2="Открытый тариф", INDEX(GRID!$B$13:$BI$19,MATCH($O$7,GRID!$A$13:$A$19,0),MATCH(1,($U$2=GRID!$B$1:$BI$1)*(КАЛЕНДАРЬ!$AW8=GRID!$B$3:$BI$3), 0)), INDEX(GRID!$B$13:$BI$19,MATCH($O$7,GRID!$A$13:$A$19,0),MATCH(1,($U$2=GRID!$B$1:$BI$1)*(КАЛЕНДАРЬ!$AW8=GRID!$B$3:$BI$3), 0))*(1-GRID!$B$29))} -> 135300
A72: ПН | B72: 6 | C72: {=IF($I$2="Открытый тариф", INDEX(GRID!$B$4:$BI$10,MATCH($C$7,GRID!$A$4:$A$10,0),MATCH(1,($U$2=GRID!$B$1:$BI$1)*(КАЛЕНДАРЬ!AW9=GRID!$B$3:$BI$3), 0)), INDEX(GRID!$B$4:$BI$10,MATCH($C$7,GRID!$A$4:$A$10,0),MATCH(1,($U$2=GRID!$B$1:$BI$1)*(КАЛЕНДАРЬ!AW9=GRID!$B$3:$BI$3), 0))*(1-GRID!$B$29))} -> 14300 | D72: {=IF($I$2="Открытый тариф", INDEX(GRID!$B$13:$BI$19,MATCH($C$7,GRID!$A$13:$A$19,0),MATCH(1,($U$2=GRID!$B$1:$BI$1)*(КАЛЕНДАРЬ!$AW9=GRID!$B$3:$BI$3), 0)), INDEX(GRID!$B$13:$BI$19,MATCH($C$7,GRID!$A$13:$A$19,0),MATCH(1,($U$2=GRID!$B$1:$BI$1)*(КАЛЕНДАРЬ!$AW9=GRID!$B$3:$BI$3), 0))*(1-GRID!$B$29))} -> 17600 | E72: {=IF($I$2="Открытый тариф", INDEX(GRID!$B$4:$BI$10,MATCH($E$7,GRID!$A$4:$A$10,0),MATCH(1,($U$2=GRID!$B$1:$BI$1)*(КАЛЕНДАРЬ!AW9=GRID!$B$3:$BI$3), 0)), INDEX(GRID!$B$4:$BI$10,MATCH($E$7,GRID!$A$4:$A$10,0),MATCH(1,($U$2=GRID!$B$1:$BI$1)*(КАЛЕНДАРЬ!AW9=GRID!$B$3:$BI$3), 0))*(1-GRID!$B$29))} -> 17500 | F72: {=IF($I$2="Открытый тариф", INDEX(GRID!$B$13:$BI$19,MATCH($E$7,GRID!$A$13:$A$19,0),MATCH(1,($U$2=GRID!$B$1:$BI$1)*(КАЛЕНДАРЬ!$AW9=GRID!$B$3:$BI$3), 0)), INDEX(GRID!$B$13:$BI$19,MATCH($E$7,GRID!$A$13:$A$19,0),MATCH(1,($U$2=GRID!$B$1:$BI$1)*(КАЛЕНДАРЬ!$AW9=GRID!$B$3:$BI$3), 0))*(1-GRID!$B$29))} -> 20800 | G72: {=IF($I$2="Открытый тариф", INDEX(GRID!$B$4:$BI$10,MATCH($G$7,GRID!$A$4:$A$10,0),MATCH(1,($U$2=GRID!$B$1:$BI$1)*(КАЛЕНДАРЬ!AW9=GRID!$B$3:$BI$3), 0)), INDEX(GRID!$B$4:$BI$10,MATCH($G$7,GRID!$A$4:$A$10,0),MATCH(1,($U$2=GRID!$B$1:$BI$1)*(КАЛЕНДАРЬ!AW9=GRID!$B$3:$BI$3), 0))*(1-GRID!$B$29))} -> 21300 | H72: {=IF($I$2="Открытый тариф", INDEX(GRID!$B$13:$BI$19,MATCH($G$7,GRID!$A$13:$A$19,0),MATCH(1,($U$2=GRID!$B$1:$BI$1)*(КАЛЕНДАРЬ!$AW9=GRID!$B$3:$BI$3), 0)), INDEX(GRID!$B$13:$BI$19,MATCH($G$7,GRID!$A$13:$A$19,0),MATCH(1,($U$2=GRID!$B$1:$BI$1)*(КАЛЕНДАРЬ!$AW9=GRID!$B$3:$BI$3), 0))*(1-GRID!$B$29))} -> 24600 | I72: {=IF($I$2="Открытый тариф", INDEX(GRID!$B$4:$BI$10,MATCH($I$7,GRID!$A$4:$A$10,0),MATCH(1,($U$2=GRID!$B$1:$BI$1)*(КАЛЕНДАРЬ!AW9=GRID!$B$3:$BI$3), 0)), INDEX(GRID!$B$4:$BI$10,MATCH($I$7,GRID!$A$4:$A$10,0),MATCH(1,($U$2=GRID!$B$1:$BI$1)*(КАЛЕНДАРЬ!AW9=GRID!$B$3:$BI$3), 0))*(1-GRID!$B$29))} -> 30100 | J72: {=IF($I$2="Открытый тариф", INDEX(GRID!$B$13:$BI$19,MATCH($I$7,GRID!$A$13:$A$19,0),MATCH(1,($U$2=GRID!$B$1:$BI$1)*(КАЛЕНДАРЬ!$AW9=GRID!$B$3:$BI$3), 0)), INDEX(GRID!$B$13:$BI$19,MATCH($I$7,GRID!$A$13:$A$19,0),MATCH(1,($U$2=GRID!$B$1:$BI$1)*(КАЛЕНДАРЬ!$AW9=GRID!$B$3:$BI$3), 0))*(1-GRID!$B$29))} -> 33400 | K72: {=IF($I$2="Открытый тариф", INDEX(GRID!$B$4:$BI$10,MATCH($K$7,GRID!$A$4:$A$10,0),MATCH(1,($U$2=GRID!$B$1:$BI$1)*(КАЛЕНДАРЬ!AW9=GRID!$B$3:$BI$3), 0)), INDEX(GRID!$B$4:$BI$10,MATCH($K$7,GRID!$A$4:$A$10,0),MATCH(1,($U$2=GRID!$B$1:$BI$1)*(КАЛЕНДАРЬ!AW9=GRID!$B$3:$BI$3), 0))*(1-GRID!$B$29))} -> 42600 | L72: {=IF($I$2="Открытый тариф", INDEX(GRID!$B$13:$BI$19,MATCH($K$7,GRID!$A$13:$A$19,0),MATCH(1,($U$2=GRID!$B$1:$BI$1)*(КАЛЕНДАРЬ!$AW9=GRID!$B$3:$BI$3), 0)), INDEX(GRID!$B$13:$BI$19,MATCH($K$7,GRID!$A$13:$A$19,0),MATCH(1,($U$2=GRID!$B$1:$BI$1)*(КАЛЕНДАРЬ!$AW9=GRID!$B$3:$BI$3), 0))*(1-GRID!$B$29))} -> 45900 | M72: {=IF($I$2="Открытый тариф", INDEX(GRID!$B$4:$BI$10,MATCH($M$7,GRID!$A$4:$A$10,0),MATCH(1,($U$2=GRID!$B$1:$BI$1)*(КАЛЕНДАРЬ!AW9=GRID!$B$3:$BI$3), 0)), INDEX(GRID!$B$4:$BI$10,MATCH($M$7,GRID!$A$4:$A$10,0),MATCH(1,($U$2=GRID!$B$1:$BI$1)*(КАЛЕНДАРЬ!AW9=GRID!$B$3:$BI$3), 0))*(1-GRID!$B$29))} -> 61400 | N72: {=IF($I$2="Открытый тариф", INDEX(GRID!$B$13:$BI$19,MATCH($M$7,GRID!$A$13:$A$19,0),MATCH(1,($U$2=GRID!$B$1:$BI$1)*(КАЛЕНДАРЬ!$AW9=GRID!$B$3:$BI$3), 0)), INDEX(GRID!$B$13:$BI$19,MATCH($M$7,GRID!$A$13:$A$19,0),MATCH(1,($U$2=GRID!$B$1:$BI$1)*(КАЛЕНДАРЬ!$AW9=GRID!$B$3:$BI$3), 0))*(1-GRID!$B$29))} -> 64700 | O72: {=IF($I$2="Открытый тариф", INDEX(GRID!$B$4:$BI$10,MATCH($O$7,GRID!$A$4:$A$10,0),MATCH(1,($U$2=GRID!$B$1:$BI$1)*(КАЛЕНДАРЬ!AW9=GRID!$B$3:$BI$3), 0)), INDEX(GRID!$B$4:$BI$10,MATCH($O$7,GRID!$A$4:$A$10,0),MATCH(1,($U$2=GRID!$B$1:$BI$1)*(КАЛЕНДАРЬ!AW9=GRID!$B$3:$BI$3), 0))*(1-GRID!$B$29))} -> 145300 | P72: {=IF($I$2="Открытый тариф", INDEX(GRID!$B$13:$BI$19,MATCH($O$7,GRID!$A$13:$A$19,0),MATCH(1,($U$2=GRID!$B$1:$BI$1)*(КАЛЕНДАРЬ!$AW9=GRID!$B$3:$BI$3), 0)), INDEX(GRID!$B$13:$BI$19,MATCH($O$7,GRID!$A$13:$A$19,0),MATCH(1,($U$2=GRID!$B$1:$BI$1)*(КАЛЕНДАРЬ!$AW9=GRID!$B$3:$BI$3), 0))*(1-GRID!$B$29))} -> 148600
A73: ВТ | B73: 7 | C73: {=IF($I$2="Открытый тариф", INDEX(GRID!$B$4:$BI$10,MATCH($C$7,GRID!$A$4:$A$10,0),MATCH(1,($U$2=GRID!$B$1:$BI$1)*(КАЛЕНДАРЬ!AW10=GRID!$B$3:$BI$3), 0)), INDEX(GRID!$B$4:$BI$10,MATCH($C$7,GRID!$A$4:$A$10,0),MATCH(1,($U$2=GRID!$B$1:$BI$1)*(КАЛЕНДАРЬ!AW10=GRID!$B$3:$BI$3), 0))*(1-GRID!$B$29))} -> 14300 | D73: {=IF($I$2="Открытый тариф", INDEX(GRID!$B$13:$BI$19,MATCH($C$7,GRID!$A$13:$A$19,0),MATCH(1,($U$2=GRID!$B$1:$BI$1)*(КАЛЕНДАРЬ!$AW10=GRID!$B$3:$BI$3), 0)), INDEX(GRID!$B$13:$BI$19,MATCH($C$7,GRID!$A$13:$A$19,0),MATCH(1,($U$2=GRID!$B$1:$BI$1)*(КАЛЕНДАРЬ!$AW10=GRID!$B$3:$BI$3), 0))*(1-GRID!$B$29))} -> 17600 | E73: {=IF($I$2="Открытый тариф", INDEX(GRID!$B$4:$BI$10,MATCH($E$7,GRID!$A$4:$A$10,0),MATCH(1,($U$2=GRID!$B$1:$BI$1)*(КАЛЕНДАРЬ!AW10=GRID!$B$3:$BI$3), 0)), INDEX(GRID!$B$4:$BI$10,MATCH($E$7,GRID!$A$4:$A$10,0),MATCH(1,($U$2=GRID!$B$1:$BI$1)*(КАЛЕНДАРЬ!AW10=GRID!$B$3:$BI$3), 0))*(1-GRID!$B$29))} -> 17500 | F73: {=IF($I$2="Открытый тариф", INDEX(GRID!$B$13:$BI$19,MATCH($E$7,GRID!$A$13:$A$19,0),MATCH(1,($U$2=GRID!$B$1:$BI$1)*(КАЛЕНДАРЬ!$AW10=GRID!$B$3:$BI$3), 0)), INDEX(GRID!$B$13:$BI$19,MATCH($E$7,GRID!$A$13:$A$19,0),MATCH(1,($U$2=GRID!$B$1:$BI$1)*(КАЛЕНДАРЬ!$AW10=GRID!$B$3:$BI$3), 0))*(1-GRID!$B$29))} -> 20800 | G73: {=IF($I$2="Открытый тариф", INDEX(GRID!$B$4:$BI$10,MATCH($G$7,GRID!$A$4:$A$10,0),MATCH(1,($U$2=GRID!$B$1:$BI$1)*(КАЛЕНДАРЬ!AW10=GRID!$B$3:$BI$3), 0)), INDEX(GRID!$B$4:$BI$10,MATCH($G$7,GRID!$A$4:$A$10,0),MATCH(1,($U$2=GRID!$B$1:$BI$1)*(КАЛЕНДАРЬ!AW10=GRID!$B$3:$BI$3), 0))*(1-GRID!$B$29))} -> 21300 | H73: {=IF($I$2="Открытый тариф", INDEX(GRID!$B$13:$BI$19,MATCH($G$7,GRID!$A$13:$A$19,0),MATCH(1,($U$2=GRID!$B$1:$BI$1)*(КАЛЕНДАРЬ!$AW10=GRID!$B$3:$BI$3), 0)), INDEX(GRID!$B$13:$BI$19,MATCH($G$7,GRID!$A$13:$A$19,0),MATCH(1,($U$2=GRID!$B$1:$BI$1)*(КАЛЕНДАРЬ!$AW10=GRID!$B$3:$BI$3), 0))*(1-GRID!$B$29))} -> 24600 | I73: {=IF($I$2="Открытый тариф", INDEX(GRID!$B$4:$BI$10,MATCH($I$7,GRID!$A$4:$A$10,0),MATCH(1,($U$2=GRID!$B$1:$BI$1)*(КАЛЕНДАРЬ!AW10=GRID!$B$3:$BI$3), 0)), INDEX(GRID!$B$4:$BI$10,MATCH($I$7,GRID!$A$4:$A$10,0),MATCH(1,($U$2=GRID!$B$1:$BI$1)*(КАЛЕНДАРЬ!AW10=GRID!$B$3:$BI$3), 0))*(1-GRID!$B$29))} -> 30100 | J73: {=IF($I$2="Открытый тариф", INDEX(GRID!$B$13:$BI$19,MATCH($I$7,GRID!$A$13:$A$19,0),MATCH(1,($U$2=GRID!$B$1:$BI$1)*(КАЛЕНДАРЬ!$AW10=GRID!$B$3:$BI$3), 0)), INDEX(GRID!$B$13:$BI$19,MATCH($I$7,GRID!$A$13:$A$19,0),MATCH(1,($U$2=GRID!$B$1:$BI$1)*(КАЛЕНДАРЬ!$AW10=GRID!$B$3:$BI$3), 0))*(1-GRID!$B$29))} -> 33400 | K73: {=IF($I$2="Открытый тариф", INDEX(GRID!$B$4:$BI$10,MATCH($K$7,GRID!$A$4:$A$10,0),MATCH(1,($U$2=GRID!$B$1:$BI$1)*(КАЛЕНДАРЬ!AW10=GRID!$B$3:$BI$3), 0)), INDEX(GRID!$B$4:$BI$10,MATCH($K$7,GRID!$A$4:$A$10,0),MATCH(1,($U$2=GRID!$B$1:$BI$1)*(КАЛЕНДАРЬ!AW10=GRID!$B$3:$BI$3), 0))*(1-GRID!$B$29))} -> 42600 | L73: {=IF($I$2="Открытый тариф", INDEX(GRID!$B$13:$BI$19,MATCH($K$7,GRID!$A$13:$A$19,0),MATCH(1,($U$2=GRID!$B$1:$BI$1)*(КАЛЕНДАРЬ!$AW10=GRID!$B$3:$BI$3), 0)), INDEX(GRID!$B$13:$BI$19,MATCH($K$7,GRID!$A$13:$A$19,0),MATCH(1,($U$2=GRID!$B$1:$BI$1)*(КАЛЕНДАРЬ!$AW10=GRID!$B$3:$BI$3), 0))*(1-GRID!$B$29))} -> 45900 | M73: {=IF($I$2="Открытый тариф", INDEX(GRID!$B$4:$BI$10,MATCH($M$7,GRID!$A$4:$A$10,0),MATCH(1,($U$2=GRID!$B$1:$BI$1)*(КАЛЕНДАРЬ!AW10=GRID!$B$3:$BI$3), 0)), INDEX(GRID!$B$4:$BI$10,MATCH($M$7,GRID!$A$4:$A$10,0),MATCH(1,($U$2=GRID!$B$1:$BI$1)*(КАЛЕНДАРЬ!AW10=GRID!$B$3:$BI$3), 0))*(1-GRID!$B$29))} -> 61400 | N73: {=IF($I$2="Открытый тариф", INDEX(GRID!$B$13:$BI$19,MATCH($M$7,GRID!$A$13:$A$19,0),MATCH(1,($U$2=GRID!$B$1:$BI$1)*(КАЛЕНДАРЬ!$AW10=GRID!$B$3:$BI$3), 0)), INDEX(GRID!$B$13:$BI$19,MATCH($M$7,GRID!$A$13:$A$19,0),MATCH(1,($U$2=GRID!$B$1:$BI$1)*(КАЛЕНДАРЬ!$AW10=GRID!$B$3:$BI$3), 0))*(1-GRID!$B$29))} -> 64700 | O73: {=IF($I$2="Открытый тариф", INDEX(GRID!$B$4:$BI$10,MATCH($O$7,GRID!$A$4:$A$10,0),MATCH(1,($U$2=GRID!$B$1:$BI$1)*(КАЛЕНДАРЬ!AW10=GRID!$B$3:$BI$3), 0)), INDEX(GRID!$B$4:$BI$10,MATCH($O$7,GRID!$A$4:$A$10,0),MATCH(1,($U$2=GRID!$B$1:$BI$1)*(КАЛЕНДАРЬ!AW10=GRID!$B$3:$BI$3), 0))*(1-GRID!$B$29))} -> 145300 | P73: {=IF($I$2="Открытый тариф", INDEX(GRID!$B$13:$BI$19,MATCH($O$7,GRID!$A$13:$A$19,0),MATCH(1,($U$2=GRID!$B$1:$BI$1)*(КАЛЕНДАРЬ!$AW10=GRID!$B$3:$BI$3), 0)), INDEX(GRID!$B$13:$BI$19,MATCH($O$7,GRID!$A$13:$A$19,0),MATCH(1,($U$2=GRID!$B$1:$BI$1)*(КАЛЕНДАРЬ!$AW10=GRID!$B$3:$BI$3), 0))*(1-GRID!$B$29))} -> 148600
A74: СР | B74: 8 | C74: {=IF($I$2="Открытый тариф", INDEX(GRID!$B$4:$BI$10,MATCH($C$7,GRID!$A$4:$A$10,0),MATCH(1,($U$2=GRID!$B$1:$BI$1)*(КАЛЕНДАРЬ!AW11=GRID!$B$3:$BI$3), 0)), INDEX(GRID!$B$4:$BI$10,MATCH($C$7,GRID!$A$4:$A$10,0),MATCH(1,($U$2=GRID!$B$1:$BI$1)*(КАЛЕНДАРЬ!AW11=GRID!$B$3:$BI$3), 0))*(1-GRID!$B$29))} -> 14300 | D74: {=IF($I$2="Открытый тариф", INDEX(GRID!$B$13:$BI$19,MATCH($C$7,GRID!$A$13:$A$19,0),MATCH(1,($U$2=GRID!$B$1:$BI$1)*(КАЛЕНДАРЬ!$AW11=GRID!$B$3:$BI$3), 0)), INDEX(GRID!$B$13:$BI$19,MATCH($C$7,GRID!$A$13:$A$19,0),MATCH(1,($U$2=GRID!$B$1:$BI$1)*(КАЛЕНДАРЬ!$AW11=GRID!$B$3:$BI$3), 0))*(1-GRID!$B$29))} -> 17600 | E74: {=IF($I$2="Открытый тариф", INDEX(GRID!$B$4:$BI$10,MATCH($E$7,GRID!$A$4:$A$10,0),MATCH(1,($U$2=GRID!$B$1:$BI$1)*(КАЛЕНДАРЬ!AW11=GRID!$B$3:$BI$3), 0)), INDEX(GRID!$B$4:$BI$10,MATCH($E$7,GRID!$A$4:$A$10,0),MATCH(1,($U$2=GRID!$B$1:$BI$1)*(КАЛЕНДАРЬ!AW11=GRID!$B$3:$BI$3), 0))*(1-GRID!$B$29))} -> 17500 | F74: {=IF($I$2="Открытый тариф", INDEX(GRID!$B$13:$BI$19,MATCH($E$7,GRID!$A$13:$A$19,0),MATCH(1,($U$2=GRID!$B$1:$BI$1)*(КАЛЕНДАРЬ!$AW11=GRID!$B$3:$BI$3), 0)), INDEX(GRID!$B$13:$BI$19,MATCH($E$7,GRID!$A$13:$A$19,0),MATCH(1,($U$2=GRID!$B$1:$BI$1)*(КАЛЕНДАРЬ!$AW11=GRID!$B$3:$BI$3), 0))*(1-GRID!$B$29))} -> 20800 | G74: {=IF($I$2="Открытый тариф", INDEX(GRID!$B$4:$BI$10,MATCH($G$7,GRID!$A$4:$A$10,0),MATCH(1,($U$2=GRID!$B$1:$BI$1)*(КАЛЕНДАРЬ!AW11=GRID!$B$3:$BI$3), 0)), INDEX(GRID!$B$4:$BI$10,MATCH($G$7,GRID!$A$4:$A$10,0),MATCH(1,($U$2=GRID!$B$1:$BI$1)*(КАЛЕНДАРЬ!AW11=GRID!$B$3:$BI$3), 0))*(1-GRID!$B$29))} -> 21300 | H74: {=IF($I$2="Открытый тариф", INDEX(GRID!$B$13:$BI$19,MATCH($G$7,GRID!$A$13:$A$19,0),MATCH(1,($U$2=GRID!$B$1:$BI$1)*(КАЛЕНДАРЬ!$AW11=GRID!$B$3:$BI$3), 0)), INDEX(GRID!$B$13:$BI$19,MATCH($G$7,GRID!$A$13:$A$19,0),MATCH(1,($U$2=GRID!$B$1:$BI$1)*(КАЛЕНДАРЬ!$AW11=GRID!$B$3:$BI$3), 0))*(1-GRID!$B$29))} -> 24600 | I74: {=IF($I$2="Открытый тариф", INDEX(GRID!$B$4:$BI$10,MATCH($I$7,GRID!$A$4:$A$10,0),MATCH(1,($U$2=GRID!$B$1:$BI$1)*(КАЛЕНДАРЬ!AW11=GRID!$B$3:$BI$3), 0)), INDEX(GRID!$B$4:$BI$10,MATCH($I$7,GRID!$A$4:$A$10,0),MATCH(1,($U$2=GRID!$B$1:$BI$1)*(КАЛЕНДАРЬ!AW11=GRID!$B$3:$BI$3), 0))*(1-GRID!$B$29))} -> 30100 | J74: {=IF($I$2="Открытый тариф", INDEX(GRID!$B$13:$BI$19,MATCH($I$7,GRID!$A$13:$A$19,0),MATCH(1,($U$2=GRID!$B$1:$BI$1)*(КАЛЕНДАРЬ!$AW11=GRID!$B$3:$BI$3), 0)), INDEX(GRID!$B$13:$BI$19,MATCH($I$7,GRID!$A$13:$A$19,0),MATCH(1,($U$2=GRID!$B$1:$BI$1)*(КАЛЕНДАРЬ!$AW11=GRID!$B$3:$BI$3), 0))*(1-GRID!$B$29))} -> 33400 | K74: {=IF($I$2="Открытый тариф", INDEX(GRID!$B$4:$BI$10,MATCH($K$7,GRID!$A$4:$A$10,0),MATCH(1,($U$2=GRID!$B$1:$BI$1)*(КАЛЕНДАРЬ!AW11=GRID!$B$3:$BI$3), 0)), INDEX(GRID!$B$4:$BI$10,MATCH($K$7,GRID!$A$4:$A$10,0),MATCH(1,($U$2=GRID!$B$1:$BI$1)*(КАЛЕНДАРЬ!AW11=GRID!$B$3:$BI$3), 0))*(1-GRID!$B$29))} -> 42600 | L74: {=IF($I$2="Открытый тариф", INDEX(GRID!$B$13:$BI$19,MATCH($K$7,GRID!$A$13:$A$19,0),MATCH(1,($U$2=GRID!$B$1:$BI$1)*(КАЛЕНДАРЬ!$AW11=GRID!$B$3:$BI$3), 0)), INDEX(GRID!$B$13:$BI$19,MATCH($K$7,GRID!$A$13:$A$19,0),MATCH(1,($U$2=GRID!$B$1:$BI$1)*(КАЛЕНДАРЬ!$AW11=GRID!$B$3:$BI$3), 0))*(1-GRID!$B$29))} -> 45900 | M74: {=IF($I$2="Открытый тариф", INDEX(GRID!$B$4:$BI$10,MATCH($M$7,GRID!$A$4:$A$10,0),MATCH(1,($U$2=GRID!$B$1:$BI$1)*(КАЛЕНДАРЬ!AW11=GRID!$B$3:$BI$3), 0)), INDEX(GRID!$B$4:$BI$10,MATCH($M$7,GRID!$A$4:$A$10,0),MATCH(1,($U$2=GRID!$B$1:$BI$1)*(КАЛЕНДАРЬ!AW11=GRID!$B$3:$BI$3), 0))*(1-GRID!$B$29))} -> 61400 | N74: {=IF($I$2="Открытый тариф", INDEX(GRID!$B$13:$BI$19,MATCH($M$7,GRID!$A$13:$A$19,0),MATCH(1,($U$2=GRID!$B$1:$BI$1)*(КАЛЕНДАРЬ!$AW11=GRID!$B$3:$BI$3), 0)), INDEX(GRID!$B$13:$BI$19,MATCH($M$7,GRID!$A$13:$A$19,0),MATCH(1,($U$2=GRID!$B$1:$BI$1)*(КАЛЕНДАРЬ!$AW11=GRID!$B$3:$BI$3), 0))*(1-GRID!$B$29))} -> 64700 | O74: {=IF($I$2="Открытый тариф", INDEX(GRID!$B$4:$BI$10,MATCH($O$7,GRID!$A$4:$A$10,0),MATCH(1,($U$2=GRID!$B$1:$BI$1)*(КАЛЕНДАРЬ!AW11=GRID!$B$3:$BI$3), 0)), INDEX(GRID!$B$4:$BI$10,MATCH($O$7,GRID!$A$4:$A$10,0),MATCH(1,($U$2=GRID!$B$1:$BI$1)*(КАЛЕНДАРЬ!AW11=GRID!$B$3:$BI$3), 0))*(1-GRID!$B$29))} -> 145300 | P74: {=IF($I$2="Открытый тариф", INDEX(GRID!$B$13:$BI$19,MATCH($O$7,GRID!$A$13:$A$19,0),MATCH(1,($U$2=GRID!$B$1:$BI$1)*(КАЛЕНДАРЬ!$AW11=GRID!$B$3:$BI$3), 0)), INDEX(GRID!$B$13:$BI$19,MATCH($O$7,GRID!$A$13:$A$19,0),MATCH(1,($U$2=GRID!$B$1:$BI$1)*(КАЛЕНДАРЬ!$AW11=GRID!$B$3:$BI$3), 0))*(1-GRID!$B$29))} -> 148600
A75: ЧТ | B75: 9 | C75: {=IF($I$2="Открытый тариф", INDEX(GRID!$B$4:$BI$10,MATCH($C$7,GRID!$A$4:$A$10,0),MATCH(1,($U$2=GRID!$B$1:$BI$1)*(КАЛЕНДАРЬ!AW12=GRID!$B$3:$BI$3), 0)), INDEX(GRID!$B$4:$BI$10,MATCH($C$7,GRID!$A$4:$A$10,0),MATCH(1,($U$2=GRID!$B$1:$BI$1)*(КАЛЕНДАРЬ!AW12=GRID!$B$3:$BI$3), 0))*(1-GRID!$B$29))} -> 12800 | D75: {=IF($I$2="Открытый тариф", INDEX(GRID!$B$13:$BI$19,MATCH($C$7,GRID!$A$13:$A$19,0),MATCH(1,($U$2=GRID!$B$1:$BI$1)*(КАЛЕНДАРЬ!$AW12=GRID!$B$3:$BI$3), 0)), INDEX(GRID!$B$13:$BI$19,MATCH($C$7,GRID!$A$13:$A$19,0),MATCH(1,($U$2=GRID!$B$1:$BI$1)*(КАЛЕНДАРЬ!$AW12=GRID!$B$3:$BI$3), 0))*(1-GRID!$B$29))} -> 16100 | E75: {=IF($I$2="Открытый тариф", INDEX(GRID!$B$4:$BI$10,MATCH($E$7,GRID!$A$4:$A$10,0),MATCH(1,($U$2=GRID!$B$1:$BI$1)*(КАЛЕНДАРЬ!AW12=GRID!$B$3:$BI$3), 0)), INDEX(GRID!$B$4:$BI$10,MATCH($E$7,GRID!$A$4:$A$10,0),MATCH(1,($U$2=GRID!$B$1:$BI$1)*(КАЛЕНДАРЬ!AW12=GRID!$B$3:$BI$3), 0))*(1-GRID!$B$29))} -> 15700 | F75: {=IF($I$2="Открытый тариф", INDEX(GRID!$B$13:$BI$19,MATCH($E$7,GRID!$A$13:$A$19,0),MATCH(1,($U$2=GRID!$B$1:$BI$1)*(КАЛЕНДАРЬ!$AW12=GRID!$B$3:$BI$3), 0)), INDEX(GRID!$B$13:$BI$19,MATCH($E$7,GRID!$A$13:$A$19,0),MATCH(1,($U$2=GRID!$B$1:$BI$1)*(КАЛЕНДАРЬ!$AW12=GRID!$B$3:$BI$3), 0))*(1-GRID!$B$29))} -> 19000 | G75: {=IF($I$2="Открытый тариф", INDEX(GRID!$B$4:$BI$10,MATCH($G$7,GRID!$A$4:$A$10,0),MATCH(1,($U$2=GRID!$B$1:$BI$1)*(КАЛЕНДАРЬ!AW12=GRID!$B$3:$BI$3), 0)), INDEX(GRID!$B$4:$BI$10,MATCH($G$7,GRID!$A$4:$A$10,0),MATCH(1,($U$2=GRID!$B$1:$BI$1)*(КАЛЕНДАРЬ!AW12=GRID!$B$3:$BI$3), 0))*(1-GRID!$B$29))} -> 19200 | H75: {=IF($I$2="Открытый тариф", INDEX(GRID!$B$13:$BI$19,MATCH($G$7,GRID!$A$13:$A$19,0),MATCH(1,($U$2=GRID!$B$1:$BI$1)*(КАЛЕНДАРЬ!$AW12=GRID!$B$3:$BI$3), 0)), INDEX(GRID!$B$13:$BI$19,MATCH($G$7,GRID!$A$13:$A$19,0),MATCH(1,($U$2=GRID!$B$1:$BI$1)*(КАЛЕНДАРЬ!$AW12=GRID!$B$3:$BI$3), 0))*(1-GRID!$B$29))} -> 22500 | I75: {=IF($I$2="Открытый тариф", INDEX(GRID!$B$4:$BI$10,MATCH($I$7,GRID!$A$4:$A$10,0),MATCH(1,($U$2=GRID!$B$1:$BI$1)*(КАЛЕНДАРЬ!AW12=GRID!$B$3:$BI$3), 0)), INDEX(GRID!$B$4:$BI$10,MATCH($I$7,GRID!$A$4:$A$10,0),MATCH(1,($U$2=GRID!$B$1:$BI$1)*(КАЛЕНДАРЬ!AW12=GRID!$B$3:$BI$3), 0))*(1-GRID!$B$29))} -> 27300 | J75: {=IF($I$2="Открытый тариф", INDEX(GRID!$B$13:$BI$19,MATCH($I$7,GRID!$A$13:$A$19,0),MATCH(1,($U$2=GRID!$B$1:$BI$1)*(КАЛЕНДАРЬ!$AW12=GRID!$B$3:$BI$3), 0)), INDEX(GRID!$B$13:$BI$19,MATCH($I$7,GRID!$A$13:$A$19,0),MATCH(1,($U$2=GRID!$B$1:$BI$1)*(КАЛЕНДАРЬ!$AW12=GRID!$B$3:$BI$3), 0))*(1-GRID!$B$29))} -> 30600 | K75: {=IF($I$2="Открытый тариф", INDEX(GRID!$B$4:$BI$10,MATCH($K$7,GRID!$A$4:$A$10,0),MATCH(1,($U$2=GRID!$B$1:$BI$1)*(КАЛЕНДАРЬ!AW12=GRID!$B$3:$BI$3), 0)), INDEX(GRID!$B$4:$BI$10,MATCH($K$7,GRID!$A$4:$A$10,0),MATCH(1,($U$2=GRID!$B$1:$BI$1)*(КАЛЕНДАРЬ!AW12=GRID!$B$3:$BI$3), 0))*(1-GRID!$B$29))} -> 38800 | L75: {=IF($I$2="Открытый тариф", INDEX(GRID!$B$13:$BI$19,MATCH($K$7,GRID!$A$13:$A$19,0),MATCH(1,($U$2=GRID!$B$1:$BI$1)*(КАЛЕНДАРЬ!$AW12=GRID!$B$3:$BI$3), 0)), INDEX(GRID!$B$13:$BI$19,MATCH($K$7,GRID!$A$13:$A$19,0),MATCH(1,($U$2=GRID!$B$1:$BI$1)*(КАЛЕНДАРЬ!$AW12=GRID!$B$3:$BI$3), 0))*(1-GRID!$B$29))} -> 42100 | M75: {=IF($I$2="Открытый тариф", INDEX(GRID!$B$4:$BI$10,MATCH($M$7,GRID!$A$4:$A$10,0),MATCH(1,($U$2=GRID!$B$1:$BI$1)*(КАЛЕНДАРЬ!AW12=GRID!$B$3:$BI$3), 0)), INDEX(GRID!$B$4:$BI$10,MATCH($M$7,GRID!$A$4:$A$10,0),MATCH(1,($U$2=GRID!$B$1:$BI$1)*(КАЛЕНДАРЬ!AW12=GRID!$B$3:$BI$3), 0))*(1-GRID!$B$29))} -> 56100 | N75: {=IF($I$2="Открытый тариф", INDEX(GRID!$B$13:$BI$19,MATCH($M$7,GRID!$A$13:$A$19,0),MATCH(1,($U$2=GRID!$B$1:$BI$1)*(КАЛЕНДАРЬ!$AW12=GRID!$B$3:$BI$3), 0)), INDEX(GRID!$B$13:$BI$19,MATCH($M$7,GRID!$A$13:$A$19,0),MATCH(1,($U$2=GRID!$B$1:$BI$1)*(КАЛЕНДАРЬ!$AW12=GRID!$B$3:$BI$3), 0))*(1-GRID!$B$29))} -> 59400 | O75: {=IF($I$2="Открытый тариф", INDEX(GRID!$B$4:$BI$10,MATCH($O$7,GRID!$A$4:$A$10,0),MATCH(1,($U$2=GRID!$B$1:$BI$1)*(КАЛЕНДАРЬ!AW12=GRID!$B$3:$BI$3), 0)), INDEX(GRID!$B$4:$BI$10,MATCH($O$7,GRID!$A$4:$A$10,0),MATCH(1,($U$2=GRID!$B$1:$BI$1)*(КАЛЕНДАРЬ!AW12=GRID!$B$3:$BI$3), 0))*(1-GRID!$B$29))} -> 132000 | P75: {=IF($I$2="Открытый тариф", INDEX(GRID!$B$13:$BI$19,MATCH($O$7,GRID!$A$13:$A$19,0),MATCH(1,($U$2=GRID!$B$1:$BI$1)*(КАЛЕНДАРЬ!$AW12=GRID!$B$3:$BI$3), 0)), INDEX(GRID!$B$13:$BI$19,MATCH($O$7,GRID!$A$13:$A$19,0),MATCH(1,($U$2=GRID!$B$1:$BI$1)*(КАЛЕНДАРЬ!$AW12=GRID!$B$3:$BI$3), 0))*(1-GRID!$B$29))} -> 135300
A76: ПТ | B76: 10 | C76: {=IF($I$2="Открытый тариф", INDEX(GRID!$B$4:$BI$10,MATCH($C$7,GRID!$A$4:$A$10,0),MATCH(1,($U$2=GRID!$B$1:$BI$1)*(КАЛЕНДАРЬ!AW13=GRID!$B$3:$BI$3), 0)), INDEX(GRID!$B$4:$BI$10,MATCH($C$7,GRID!$A$4:$A$10,0),MATCH(1,($U$2=GRID!$B$1:$BI$1)*(КАЛЕНДАРЬ!AW13=GRID!$B$3:$BI$3), 0))*(1-GRID!$B$29))} -> 14300 | D76: {=IF($I$2="Открытый тариф", INDEX(GRID!$B$13:$BI$19,MATCH($C$7,GRID!$A$13:$A$19,0),MATCH(1,($U$2=GRID!$B$1:$BI$1)*(КАЛЕНДАРЬ!$AW13=GRID!$B$3:$BI$3), 0)), INDEX(GRID!$B$13:$BI$19,MATCH($C$7,GRID!$A$13:$A$19,0),MATCH(1,($U$2=GRID!$B$1:$BI$1)*(КАЛЕНДАРЬ!$AW13=GRID!$B$3:$BI$3), 0))*(1-GRID!$B$29))} -> 17600 | E76: {=IF($I$2="Открытый тариф", INDEX(GRID!$B$4:$BI$10,MATCH($E$7,GRID!$A$4:$A$10,0),MATCH(1,($U$2=GRID!$B$1:$BI$1)*(КАЛЕНДАРЬ!AW13=GRID!$B$3:$BI$3), 0)), INDEX(GRID!$B$4:$BI$10,MATCH($E$7,GRID!$A$4:$A$10,0),MATCH(1,($U$2=GRID!$B$1:$BI$1)*(КАЛЕНДАРЬ!AW13=GRID!$B$3:$BI$3), 0))*(1-GRID!$B$29))} -> 17500 | F76: {=IF($I$2="Открытый тариф", INDEX(GRID!$B$13:$BI$19,MATCH($E$7,GRID!$A$13:$A$19,0),MATCH(1,($U$2=GRID!$B$1:$BI$1)*(КАЛЕНДАРЬ!$AW13=GRID!$B$3:$BI$3), 0)), INDEX(GRID!$B$13:$BI$19,MATCH($E$7,GRID!$A$13:$A$19,0),MATCH(1,($U$2=GRID!$B$1:$BI$1)*(КАЛЕНДАРЬ!$AW13=GRID!$B$3:$BI$3), 0))*(1-GRID!$B$29))} -> 20800 | G76: {=IF($I$2="Открытый тариф", INDEX(GRID!$B$4:$BI$10,MATCH($G$7,GRID!$A$4:$A$10,0),MATCH(1,($U$2=GRID!$B$1:$BI$1)*(КАЛЕНДАРЬ!AW13=GRID!$B$3:$BI$3), 0)), INDEX(GRID!$B$4:$BI$10,MATCH($G$7,GRID!$A$4:$A$10,0),MATCH(1,($U$2=GRID!$B$1:$BI$1)*(КАЛЕНДАРЬ!AW13=GRID!$B$3:$BI$3), 0))*(1-GRID!$B$29))} -> 21300 | H76: {=IF($I$2="Открытый тариф", INDEX(GRID!$B$13:$BI$19,MATCH($G$7,GRID!$A$13:$A$19,0),MATCH(1,($U$2=GRID!$B$1:$BI$1)*(КАЛЕНДАРЬ!$AW13=GRID!$B$3:$BI$3), 0)), INDEX(GRID!$B$13:$BI$19,MATCH($G$7,GRID!$A$13:$A$19,0),MATCH(1,($U$2=GRID!$B$1:$BI$1)*(КАЛЕНДАРЬ!$AW13=GRID!$B$3:$BI$3), 0))*(1-GRID!$B$29))} -> 24600 | I76: {=IF($I$2="Открытый тариф", INDEX(GRID!$B$4:$BI$10,MATCH($I$7,GRID!$A$4:$A$10,0),MATCH(1,($U$2=GRID!$B$1:$BI$1)*(КАЛЕНДАРЬ!AW13=GRID!$B$3:$BI$3), 0)), INDEX(GRID!$B$4:$BI$10,MATCH($I$7,GRID!$A$4:$A$10,0),MATCH(1,($U$2=GRID!$B$1:$BI$1)*(КАЛЕНДАРЬ!AW13=GRID!$B$3:$BI$3), 0))*(1-GRID!$B$29))} -> 30100 | J76: {=IF($I$2="Открытый тариф", INDEX(GRID!$B$13:$BI$19,MATCH($I$7,GRID!$A$13:$A$19,0),MATCH(1,($U$2=GRID!$B$1:$BI$1)*(КАЛЕНДАРЬ!$AW13=GRID!$B$3:$BI$3), 0)), INDEX(GRID!$B$13:$BI$19,MATCH($I$7,GRID!$A$13:$A$19,0),MATCH(1,($U$2=GRID!$B$1:$BI$1)*(КАЛЕНДАРЬ!$AW13=GRID!$B$3:$BI$3), 0))*(1-GRID!$B$29))} -> 33400 | K76: {=IF($I$2="Открытый тариф", INDEX(GRID!$B$4:$BI$10,MATCH($K$7,GRID!$A$4:$A$10,0),MATCH(1,($U$2=GRID!$B$1:$BI$1)*(КАЛЕНДАРЬ!AW13=GRID!$B$3:$BI$3), 0)), INDEX(GRID!$B$4:$BI$10,MATCH($K$7,GRID!$A$4:$A$10,0),MATCH(1,($U$2=GRID!$B$1:$BI$1)*(КАЛЕНДАРЬ!AW13=GRID!$B$3:$BI$3), 0))*(1-GRID!$B$29))} -> 42600 | L76: {=IF($I$2="Открытый тариф", INDEX(GRID!$B$13:$BI$19,MATCH($K$7,GRID!$A$13:$A$19,0),MATCH(1,($U$2=GRID!$B$1:$BI$1)*(КАЛЕНДАРЬ!$AW13=GRID!$B$3:$BI$3), 0)), INDEX(GRID!$B$13:$BI$19,MATCH($K$7,GRID!$A$13:$A$19,0),MATCH(1,($U$2=GRID!$B$1:$BI$1)*(КАЛЕНДАРЬ!$AW13=GRID!$B$3:$BI$3), 0))*(1-GRID!$B$29))} -> 45900 | M76: {=IF($I$2="Открытый тариф", INDEX(GRID!$B$4:$BI$10,MATCH($M$7,GRID!$A$4:$A$10,0),MATCH(1,($U$2=GRID!$B$1:$BI$1)*(КАЛЕНДАРЬ!AW13=GRID!$B$3:$BI$3), 0)), INDEX(GRID!$B$4:$BI$10,MATCH($M$7,GRID!$A$4:$A$10,0),MATCH(1,($U$2=GRID!$B$1:$BI$1)*(КАЛЕНДАРЬ!AW13=GRID!$B$3:$BI$3), 0))*(1-GRID!$B$29))} -> 61400 | N76: {=IF($I$2="Открытый тариф", INDEX(GRID!$B$13:$BI$19,MATCH($M$7,GRID!$A$13:$A$19,0),MATCH(1,($U$2=GRID!$B$1:$BI$1)*(КАЛЕНДАРЬ!$AW13=GRID!$B$3:$BI$3), 0)), INDEX(GRID!$B$13:$BI$19,MATCH($M$7,GRID!$A$13:$A$19,0),MATCH(1,($U$2=GRID!$B$1:$BI$1)*(КАЛЕНДАРЬ!$AW13=GRID!$B$3:$BI$3), 0))*(1-GRID!$B$29))} -> 64700 | O76: {=IF($I$2="Открытый тариф", INDEX(GRID!$B$4:$BI$10,MATCH($O$7,GRID!$A$4:$A$10,0),MATCH(1,($U$2=GRID!$B$1:$BI$1)*(КАЛЕНДАРЬ!AW13=GRID!$B$3:$BI$3), 0)), INDEX(GRID!$B$4:$BI$10,MATCH($O$7,GRID!$A$4:$A$10,0),MATCH(1,($U$2=GRID!$B$1:$BI$1)*(КАЛЕНДАРЬ!AW13=GRID!$B$3:$BI$3), 0))*(1-GRID!$B$29))} -> 145300 | P76: {=IF($I$2="Открытый тариф", INDEX(GRID!$B$13:$BI$19,MATCH($O$7,GRID!$A$13:$A$19,0),MATCH(1,($U$2=GRID!$B$1:$BI$1)*(КАЛЕНДАРЬ!$AW13=GRID!$B$3:$BI$3), 0)), INDEX(GRID!$B$13:$BI$19,MATCH($O$7,GRID!$A$13:$A$19,0),MATCH(1,($U$2=GRID!$B$1:$BI$1)*(КАЛЕНДАРЬ!$AW13=GRID!$B$3:$BI$3), 0))*(1-GRID!$B$29))} -> 148600
A77: СБ | B77: 11 | C77: {=IF($I$2="Открытый тариф", INDEX(GRID!$B$4:$BI$10,MATCH($C$7,GRID!$A$4:$A$10,0),MATCH(1,($U$2=GRID!$B$1:$BI$1)*(КАЛЕНДАРЬ!AW14=GRID!$B$3:$BI$3), 0)), INDEX(GRID!$B$4:$BI$10,MATCH($C$7,GRID!$A$4:$A$10,0),MATCH(1,($U$2=GRID!$B$1:$BI$1)*(КАЛЕНДАРЬ!AW14=GRID!$B$3:$BI$3), 0))*(1-GRID!$B$29))} -> 14300 | D77: {=IF($I$2="Открытый тариф", INDEX(GRID!$B$13:$BI$19,MATCH($C$7,GRID!$A$13:$A$19,0),MATCH(1,($U$2=GRID!$B$1:$BI$1)*(КАЛЕНДАРЬ!$AW14=GRID!$B$3:$BI$3), 0)), INDEX(GRID!$B$13:$BI$19,MATCH($C$7,GRID!$A$13:$A$19,0),MATCH(1,($U$2=GRID!$B$1:$BI$1)*(КАЛЕНДАРЬ!$AW14=GRID!$B$3:$BI$3), 0))*(1-GRID!$B$29))} -> 17600 | E77: {=IF($I$2="Открытый тариф", INDEX(GRID!$B$4:$BI$10,MATCH($E$7,GRID!$A$4:$A$10,0),MATCH(1,($U$2=GRID!$B$1:$BI$1)*(КАЛЕНДАРЬ!AW14=GRID!$B$3:$BI$3), 0)), INDEX(GRID!$B$4:$BI$10,MATCH($E$7,GRID!$A$4:$A$10,0),MATCH(1,($U$2=GRID!$B$1:$BI$1)*(КАЛЕНДАРЬ!AW14=GRID!$B$3:$BI$3), 0))*(1-GRID!$B$29))} -> 17500 | F77: {=IF($I$2="Открытый тариф", INDEX(GRID!$B$13:$BI$19,MATCH($E$7,GRID!$A$13:$A$19,0),MATCH(1,($U$2=GRID!$B$1:$BI$1)*(КАЛЕНДАРЬ!$AW14=GRID!$B$3:$BI$3), 0)), INDEX(GRID!$B$13:$BI$19,MATCH($E$7,GRID!$A$13:$A$19,0),MATCH(1,($U$2=GRID!$B$1:$BI$1)*(КАЛЕНДАРЬ!$AW14=GRID!$B$3:$BI$3), 0))*(1-GRID!$B$29))} -> 20800 | G77: {=IF($I$2="Открытый тариф", INDEX(GRID!$B$4:$BI$10,MATCH($G$7,GRID!$A$4:$A$10,0),MATCH(1,($U$2=GRID!$B$1:$BI$1)*(КАЛЕНДАРЬ!AW14=GRID!$B$3:$BI$3), 0)), INDEX(GRID!$B$4:$BI$10,MATCH($G$7,GRID!$A$4:$A$10,0),MATCH(1,($U$2=GRID!$B$1:$BI$1)*(КАЛЕНДАРЬ!AW14=GRID!$B$3:$BI$3), 0))*(1-GRID!$B$29))} -> 21300 | H77: {=IF($I$2="Открытый тариф", INDEX(GRID!$B$13:$BI$19,MATCH($G$7,GRID!$A$13:$A$19,0),MATCH(1,($U$2=GRID!$B$1:$BI$1)*(КАЛЕНДАРЬ!$AW14=GRID!$B$3:$BI$3), 0)), INDEX(GRID!$B$13:$BI$19,MATCH($G$7,GRID!$A$13:$A$19,0),MATCH(1,($U$2=GRID!$B$1:$BI$1)*(КАЛЕНДАРЬ!$AW14=GRID!$B$3:$BI$3), 0))*(1-GRID!$B$29))} -> 24600 | I77: {=IF($I$2="Открытый тариф", INDEX(GRID!$B$4:$BI$10,MATCH($I$7,GRID!$A$4:$A$10,0),MATCH(1,($U$2=GRID!$B$1:$BI$1)*(КАЛЕНДАРЬ!AW14=GRID!$B$3:$BI$3), 0)), INDEX(GRID!$B$4:$BI$10,MATCH($I$7,GRID!$A$4:$A$10,0),MATCH(1,($U$2=GRID!$B$1:$BI$1)*(КАЛЕНДАРЬ!AW14=GRID!$B$3:$BI$3), 0))*(1-GRID!$B$29))} -> 30100 | J77: {=IF($I$2="Открытый тариф", INDEX(GRID!$B$13:$BI$19,MATCH($I$7,GRID!$A$13:$A$19,0),MATCH(1,($U$2=GRID!$B$1:$BI$1)*(КАЛЕНДАРЬ!$AW14=GRID!$B$3:$BI$3), 0)), INDEX(GRID!$B$13:$BI$19,MATCH($I$7,GRID!$A$13:$A$19,0),MATCH(1,($U$2=GRID!$B$1:$BI$1)*(КАЛЕНДАРЬ!$AW14=GRID!$B$3:$BI$3), 0))*(1-GRID!$B$29))} -> 33400 | K77: {=IF($I$2="Открытый тариф", INDEX(GRID!$B$4:$BI$10,MATCH($K$7,GRID!$A$4:$A$10,0),MATCH(1,($U$2=GRID!$B$1:$BI$1)*(КАЛЕНДАРЬ!AW14=GRID!$B$3:$BI$3), 0)), INDEX(GRID!$B$4:$BI$10,MATCH($K$7,GRID!$A$4:$A$10,0),MATCH(1,($U$2=GRID!$B$1:$BI$1)*(КАЛЕНДАРЬ!AW14=GRID!$B$3:$BI$3), 0))*(1-GRID!$B$29))} -> 42600 | L77: {=IF($I$2="Открытый тариф", INDEX(GRID!$B$13:$BI$19,MATCH($K$7,GRID!$A$13:$A$19,0),MATCH(1,($U$2=GRID!$B$1:$BI$1)*(КАЛЕНДАРЬ!$AW14=GRID!$B$3:$BI$3), 0)), INDEX(GRID!$B$13:$BI$19,MATCH($K$7,GRID!$A$13:$A$19,0),MATCH(1,($U$2=GRID!$B$1:$BI$1)*(КАЛЕНДАРЬ!$AW14=GRID!$B$3:$BI$3), 0))*(1-GRID!$B$29))} -> 45900 | M77: {=IF($I$2="Открытый тариф", INDEX(GRID!$B$4:$BI$10,MATCH($M$7,GRID!$A$4:$A$10,0),MATCH(1,($U$2=GRID!$B$1:$BI$1)*(КАЛЕНДАРЬ!AW14=GRID!$B$3:$BI$3), 0)), INDEX(GRID!$B$4:$BI$10,MATCH($M$7,GRID!$A$4:$A$10,0),MATCH(1,($U$2=GRID!$B$1:$BI$1)*(КАЛЕНДАРЬ!AW14=GRID!$B$3:$BI$3), 0))*(1-GRID!$B$29))} -> 61400 | N77: {=IF($I$2="Открытый тариф", INDEX(GRID!$B$13:$BI$19,MATCH($M$7,GRID!$A$13:$A$19,0),MATCH(1,($U$2=GRID!$B$1:$BI$1)*(КАЛЕНДАРЬ!$AW14=GRID!$B$3:$BI$3), 0)), INDEX(GRID!$B$13:$BI$19,MATCH($M$7,GRID!$A$13:$A$19,0),MATCH(1,($U$2=GRID!$B$1:$BI$1)*(КАЛЕНДАРЬ!$AW14=GRID!$B$3:$BI$3), 0))*(1-GRID!$B$29))} -> 64700 | O77: {=IF($I$2="Открытый тариф", INDEX(GRID!$B$4:$BI$10,MATCH($O$7,GRID!$A$4:$A$10,0),MATCH(1,($U$2=GRID!$B$1:$BI$1)*(КАЛЕНДАРЬ!AW14=GRID!$B$3:$BI$3), 0)), INDEX(GRID!$B$4:$BI$10,MATCH($O$7,GRID!$A$4:$A$10,0),MATCH(1,($U$2=GRID!$B$1:$BI$1)*(КАЛЕНДАРЬ!AW14=GRID!$B$3:$BI$3), 0))*(1-GRID!$B$29))} -> 145300 | P77: {=IF($I$2="Открытый тариф", INDEX(GRID!$B$13:$BI$19,MATCH($O$7,GRID!$A$13:$A$19,0),MATCH(1,($U$2=GRID!$B$1:$BI$1)*(КАЛЕНДАРЬ!$AW14=GRID!$B$3:$BI$3), 0)), INDEX(GRID!$B$13:$BI$19,MATCH($O$7,GRID!$A$13:$A$19,0),MATCH(1,($U$2=GRID!$B$1:$BI$1)*(КАЛЕНДАРЬ!$AW14=GRID!$B$3:$BI$3), 0))*(1-GRID!$B$29))} -> 148600
A78: ВС | B78: 12 | C78: {=IF($I$2="Открытый тариф", INDEX(GRID!$B$4:$BI$10,MATCH($C$7,GRID!$A$4:$A$10,0),MATCH(1,($U$2=GRID!$B$1:$BI$1)*(КАЛЕНДАРЬ!AW15=GRID!$B$3:$BI$3), 0)), INDEX(GRID!$B$4:$BI$10,MATCH($C$7,GRID!$A$4:$A$10,0),MATCH(1,($U$2=GRID!$B$1:$BI$1)*(КАЛЕНДАРЬ!AW15=GRID!$B$3:$BI$3), 0))*(1-GRID!$B$29))} -> 12800 | D78: {=IF($I$2="Открытый тариф", INDEX(GRID!$B$13:$BI$19,MATCH($C$7,GRID!$A$13:$A$19,0),MATCH(1,($U$2=GRID!$B$1:$BI$1)*(КАЛЕНДАРЬ!$AW15=GRID!$B$3:$BI$3), 0)), INDEX(GRID!$B$13:$BI$19,MATCH($C$7,GRID!$A$13:$A$19,0),MATCH(1,($U$2=GRID!$B$1:$BI$1)*(КАЛЕНДАРЬ!$AW15=GRID!$B$3:$BI$3), 0))*(1-GRID!$B$29))} -> 16100 | E78: {=IF($I$2="Открытый тариф", INDEX(GRID!$B$4:$BI$10,MATCH($E$7,GRID!$A$4:$A$10,0),MATCH(1,($U$2=GRID!$B$1:$BI$1)*(КАЛЕНДАРЬ!AW15=GRID!$B$3:$BI$3), 0)), INDEX(GRID!$B$4:$BI$10,MATCH($E$7,GRID!$A$4:$A$10,0),MATCH(1,($U$2=GRID!$B$1:$BI$1)*(КАЛЕНДАРЬ!AW15=GRID!$B$3:$BI$3), 0))*(1-GRID!$B$29))} -> 15700 | F78: {=IF($I$2="Открытый тариф", INDEX(GRID!$B$13:$BI$19,MATCH($E$7,GRID!$A$13:$A$19,0),MATCH(1,($U$2=GRID!$B$1:$BI$1)*(КАЛЕНДАРЬ!$AW15=GRID!$B$3:$BI$3), 0)), INDEX(GRID!$B$13:$BI$19,MATCH($E$7,GRID!$A$13:$A$19,0),MATCH(1,($U$2=GRID!$B$1:$BI$1)*(КАЛЕНДАРЬ!$AW15=GRID!$B$3:$BI$3), 0))*(1-GRID!$B$29))} -> 19000 | G78: {=IF($I$2="Открытый тариф", INDEX(GRID!$B$4:$BI$10,MATCH($G$7,GRID!$A$4:$A$10,0),MATCH(1,($U$2=GRID!$B$1:$BI$1)*(КАЛЕНДАРЬ!AW15=GRID!$B$3:$BI$3), 0)), INDEX(GRID!$B$4:$BI$10,MATCH($G$7,GRID!$A$4:$A$10,0),MATCH(1,($U$2=GRID!$B$1:$BI$1)*(КАЛЕНДАРЬ!AW15=GRID!$B$3:$BI$3), 0))*(1-GRID!$B$29))} -> 19200 | H78: {=IF($I$2="Открытый тариф", INDEX(GRID!$B$13:$BI$19,MATCH($G$7,GRID!$A$13:$A$19,0),MATCH(1,($U$2=GRID!$B$1:$BI$1)*(КАЛЕНДАРЬ!$AW15=GRID!$B$3:$BI$3), 0)), INDEX(GRID!$B$13:$BI$19,MATCH($G$7,GRID!$A$13:$A$19,0),MATCH(1,($U$2=GRID!$B$1:$BI$1)*(КАЛЕНДАРЬ!$AW15=GRID!$B$3:$BI$3), 0))*(1-GRID!$B$29))} -> 22500 | I78: {=IF($I$2="Открытый тариф", INDEX(GRID!$B$4:$BI$10,MATCH($I$7,GRID!$A$4:$A$10,0),MATCH(1,($U$2=GRID!$B$1:$BI$1)*(КАЛЕНДАРЬ!AW15=GRID!$B$3:$BI$3), 0)), INDEX(GRID!$B$4:$BI$10,MATCH($I$7,GRID!$A$4:$A$10,0),MATCH(1,($U$2=GRID!$B$1:$BI$1)*(КАЛЕНДАРЬ!AW15=GRID!$B$3:$BI$3), 0))*(1-GRID!$B$29))} -> 27300 | J78: {=IF($I$2="Открытый тариф", INDEX(GRID!$B$13:$BI$19,MATCH($I$7,GRID!$A$13:$A$19,0),MATCH(1,($U$2=GRID!$B$1:$BI$1)*(КАЛЕНДАРЬ!$AW15=GRID!$B$3:$BI$3), 0)), INDEX(GRID!$B$13:$BI$19,MATCH($I$7,GRID!$A$13:$A$19,0),MATCH(1,($U$2=GRID!$B$1:$BI$1)*(КАЛЕНДАРЬ!$AW15=GRID!$B$3:$BI$3), 0))*(1-GRID!$B$29))} -> 30600 | K78: {=IF($I$2="Открытый тариф", INDEX(GRID!$B$4:$BI$10,MATCH($K$7,GRID!$A$4:$A$10,0),MATCH(1,($U$2=GRID!$B$1:$BI$1)*(КАЛЕНДАРЬ!AW15=GRID!$B$3:$BI$3), 0)), INDEX(GRID!$B$4:$BI$10,MATCH($K$7,GRID!$A$4:$A$10,0),MATCH(1,($U$2=GRID!$B$1:$BI$1)*(КАЛЕНДАРЬ!AW15=GRID!$B$3:$BI$3), 0))*(1-GRID!$B$29))} -> 38800 | L78: {=IF($I$2="Открытый тариф", INDEX(GRID!$B$13:$BI$19,MATCH($K$7,GRID!$A$13:$A$19,0),MATCH(1,($U$2=GRID!$B$1:$BI$1)*(КАЛЕНДАРЬ!$AW15=GRID!$B$3:$BI$3), 0)), INDEX(GRID!$B$13:$BI$19,MATCH($K$7,GRID!$A$13:$A$19,0),MATCH(1,($U$2=GRID!$B$1:$BI$1)*(КАЛЕНДАРЬ!$AW15=GRID!$B$3:$BI$3), 0))*(1-GRID!$B$29))} -> 42100 | M78: {=IF($I$2="Открытый тариф", INDEX(GRID!$B$4:$BI$10,MATCH($M$7,GRID!$A$4:$A$10,0),MATCH(1,($U$2=GRID!$B$1:$BI$1)*(КАЛЕНДАРЬ!AW15=GRID!$B$3:$BI$3), 0)), INDEX(GRID!$B$4:$BI$10,MATCH($M$7,GRID!$A$4:$A$10,0),MATCH(1,($U$2=GRID!$B$1:$BI$1)*(КАЛЕНДАРЬ!AW15=GRID!$B$3:$BI$3), 0))*(1-GRID!$B$29))} -> 56100 | N78: {=IF($I$2="Открытый тариф", INDEX(GRID!$B$13:$BI$19,MATCH($M$7,GRID!$A$13:$A$19,0),MATCH(1,($U$2=GRID!$B$1:$BI$1)*(КАЛЕНДАРЬ!$AW15=GRID!$B$3:$BI$3), 0)), INDEX(GRID!$B$13:$BI$19,MATCH($M$7,GRID!$A$13:$A$19,0),MATCH(1,($U$2=GRID!$B$1:$BI$1)*(КАЛЕНДАРЬ!$AW15=GRID!$B$3:$BI$3), 0))*(1-GRID!$B$29))} -> 59400 | O78: {=IF($I$2="Открытый тариф", INDEX(GRID!$B$4:$BI$10,MATCH($O$7,GRID!$A$4:$A$10,0),MATCH(1,($U$2=GRID!$B$1:$BI$1)*(КАЛЕНДАРЬ!AW15=GRID!$B$3:$BI$3), 0)), INDEX(GRID!$B$4:$BI$10,MATCH($O$7,GRID!$A$4:$A$10,0),MATCH(1,($U$2=GRID!$B$1:$BI$1)*(КАЛЕНДАРЬ!AW15=GRID!$B$3:$BI$3), 0))*(1-GRID!$B$29))} -> 132000 | P78: {=IF($I$2="Открытый тариф", INDEX(GRID!$B$13:$BI$19,MATCH($O$7,GRID!$A$13:$A$19,0),MATCH(1,($U$2=GRID!$B$1:$BI$1)*(КАЛЕНДАРЬ!$AW15=GRID!$B$3:$BI$3), 0)), INDEX(GRID!$B$13:$BI$19,MATCH($O$7,GRID!$A$13:$A$19,0),MATCH(1,($U$2=GRID!$B$1:$BI$1)*(КАЛЕНДАРЬ!$AW15=GRID!$B$3:$BI$3), 0))*(1-GRID!$B$29))} -> 135300
... A96: ЧТ | B96: 30 | C96: {=IF($I$2="Открытый тариф", INDEX(GRID!$B$4:$BI$10,MATCH($C$7,GRID!$A$4:$A$10,0),MATCH(1,($U$2=GRID!$B$1:$BI$1)*(КАЛЕНДАРЬ!AW33=GRID!$B$3:$BI$3), 0)), INDEX(GRID!$B$4:$BI$10,MATCH($C$7,GRID!$A$4:$A$10,0),MATCH(1,($U$2=GRID!$B$1:$BI$1)*(КАЛЕНДАРЬ!AW33=GRID!$B$3:$BI$3), 0))*(1-GRID!$B$29))} -> 13500 | D96: {=IF($I$2="Открытый тариф", INDEX(GRID!$B$13:$BI$19,MATCH($C$7,GRID!$A$13:$A$19,0),MATCH(1,($U$2=GRID!$B$1:$BI$1)*(КАЛЕНДАРЬ!$AW33=GRID!$B$3:$BI$3), 0)), INDEX(GRID!$B$13:$BI$19,MATCH($C$7,GRID!$A$13:$A$19,0),MATCH(1,($U$2=GRID!$B$1:$BI$1)*(КАЛЕНДАРЬ!$AW33=GRID!$B$3:$BI$3), 0))*(1-GRID!$B$29))} -> 16800 | E96: {=IF($I$2="Открытый тариф", INDEX(GRID!$B$4:$BI$10,MATCH($E$7,GRID!$A$4:$A$10,0),MATCH(1,($U$2=GRID!$B$1:$BI$1)*(КАЛЕНДАРЬ!AW33=GRID!$B$3:$BI$3), 0)), INDEX(GRID!$B$4:$BI$10,MATCH($E$7,GRID!$A$4:$A$10,0),MATCH(1,($U$2=GRID!$B$1:$BI$1)*(КАЛЕНДАРЬ!AW33=GRID!$B$3:$BI$3), 0))*(1-GRID!$B$29))} -> 16500 | F96: {=IF($I$2="Открытый тариф", INDEX(GRID!$B$13:$BI$19,MATCH($E$7,GRID!$A$13:$A$19,0),MATCH(1,($U$2=GRID!$B$1:$BI$1)*(КАЛЕНДАРЬ!$AW33=GRID!$B$3:$BI$3), 0)), INDEX(GRID!$B$13:$BI$19,MATCH($E$7,GRID!$A$13:$A$19,0),MATCH(1,($U$2=GRID!$B$1:$BI$1)*(КАЛЕНДАРЬ!$AW33=GRID!$B$3:$BI$3), 0))*(1-GRID!$B$29))} -> 19800 | G96: {=IF($I$2="Открытый тариф", INDEX(GRID!$B$4:$BI$10,MATCH($G$7,GRID!$A$4:$A$10,0),MATCH(1,($U$2=GRID!$B$1:$BI$1)*(КАЛЕНДАРЬ!AW33=GRID!$B$3:$BI$3), 0)), INDEX(GRID!$B$4:$BI$10,MATCH($G$7,GRID!$A$4:$A$10,0),MATCH(1,($U$2=GRID!$B$1:$BI$1)*(КАЛЕНДАРЬ!AW33=GRID!$B$3:$BI$3), 0))*(1-GRID!$B$29))} -> 20100 | H96: {=IF($I$2="Открытый тариф", INDEX(GRID!$B$13:$BI$19,MATCH($G$7,GRID!$A$13:$A$19,0),MATCH(1,($U$2=GRID!$B$1:$BI$1)*(КАЛЕНДАРЬ!$AW33=GRID!$B$3:$BI$3), 0)), INDEX(GRID!$B$13:$BI$19,MATCH($G$7,GRID!$A$13:$A$19,0),MATCH(1,($U$2=GRID!$B$1:$BI$1)*(КАЛЕНДАРЬ!$AW33=GRID!$B$3:$BI$3), 0))*(1-GRID!$B$29))} -> 23400 | I96: {=IF($I$2="Открытый тариф", INDEX(GRID!$B$4:$BI$10,MATCH($I$7,GRID!$A$4:$A$10,0),MATCH(1,($U$2=GRID!$B$1:$BI$1)*(КАЛЕНДАРЬ!AW33=GRID!$B$3:$BI$3), 0)), INDEX(GRID!$B$4:$BI$10,MATCH($I$7,GRID!$A$4:$A$10,0),MATCH(1,($U$2=GRID!$B$1:$BI$1)*(КАЛЕНДАРЬ!AW33=GRID!$B$3:$BI$3), 0))*(1-GRID!$B$29))} -> 28500 | J96: {=IF($I$2="Открытый тариф", INDEX(GRID!$B$13:$BI$19,MATCH($I$7,GRID!$A$13:$A$19,0),MATCH(1,($U$2=GRID!$B$1:$BI$1)*(КАЛЕНДАРЬ!$AW33=GRID!$B$3:$BI$3), 0)), INDEX(GRID!$B$13:$BI$19,MATCH($I$7,GRID!$A$13:$A$19,0),MATCH(1,($U$2=GRID!$B$1:$BI$1)*(КАЛЕНДАРЬ!$AW33=GRID!$B$3:$BI$3), 0))*(1-GRID!$B$29))} -> 31800 | K96: {=IF($I$2="Открытый тариф", INDEX(GRID!$B$4:$BI$10,MATCH($K$7,GRID!$A$4:$A$10,0),MATCH(1,($U$2=GRID!$B$1:$BI$1)*(КАЛЕНДАРЬ!AW33=GRID!$B$3:$BI$3), 0)), INDEX(GRID!$B$4:$BI$10,MATCH($K$7,GRID!$A$4:$A$10,0),MATCH(1,($U$2=GRID!$B$1:$BI$1)*(КАЛЕНДАРЬ!AW33=GRID!$B$3:$BI$3), 0))*(1-GRID!$B$29))} -> 40500 | L96: {=IF($I$2="Открытый тариф", INDEX(GRID!$B$13:$BI$19,MATCH($K$7,GRID!$A$13:$A$19,0),MATCH(1,($U$2=GRID!$B$1:$BI$1)*(КАЛЕНДАРЬ!$AW33=GRID!$B$3:$BI$3), 0)), INDEX(GRID!$B$13:$BI$19,MATCH($K$7,GRID!$A$13:$A$19,0),MATCH(1,($U$2=GRID!$B$1:$BI$1)*(КАЛЕНДАРЬ!$AW33=GRID!$B$3:$BI$3), 0))*(1-GRID!$B$29))} -> 43800 | M96: {=IF($I$2="Открытый тариф", INDEX(GRID!$B$4:$BI$10,MATCH($M$7,GRID!$A$4:$A$10,0),MATCH(1,($U$2=GRID!$B$1:$BI$1)*(КАЛЕНДАРЬ!AW33=GRID!$B$3:$BI$3), 0)), INDEX(GRID!$B$4:$BI$10,MATCH($M$7,GRID!$A$4:$A$10,0),MATCH(1,($U$2=GRID!$B$1:$BI$1)*(КАЛЕНДАРЬ!AW33=GRID!$B$3:$BI$3), 0))*(1-GRID!$B$29))} -> 58500 | N96: {=IF($I$2="Открытый тариф", INDEX(GRID!$B$13:$BI$19,MATCH($M$7,GRID!$A$13:$A$19,0),MATCH(1,($U$2=GRID!$B$1:$BI$1)*(КАЛЕНДАРЬ!$AW33=GRID!$B$3:$BI$3), 0)), INDEX(GRID!$B$13:$BI$19,MATCH($M$7,GRID!$A$13:$A$19,0),MATCH(1,($U$2=GRID!$B$1:$BI$1)*(КАЛЕНДАРЬ!$AW33=GRID!$B$3:$BI$3), 0))*(1-GRID!$B$29))} -> 61800 | O96: {=IF($I$2="Открытый тариф", INDEX(GRID!$B$4:$BI$10,MATCH($O$7,GRID!$A$4:$A$10,0),MATCH(1,($U$2=GRID!$B$1:$BI$1)*(КАЛЕНДАРЬ!AW33=GRID!$B$3:$BI$3), 0)), INDEX(GRID!$B$4:$BI$10,MATCH($O$7,GRID!$A$4:$A$10,0),MATCH(1,($U$2=GRID!$B$1:$BI$1)*(КАЛЕНДАРЬ!AW33=GRID!$B$3:$BI$3), 0))*(1-GRID!$B$29))} -> 138500 | P96: {=IF($I$2="Открытый тариф", INDEX(GRID!$B$13:$BI$19,MATCH($O$7,GRID!$A$13:$A$19,0),MATCH(1,($U$2=GRID!$B$1:$BI$1)*(КАЛЕНДАРЬ!$AW33=GRID!$B$3:$BI$3), 0)), INDEX(GRID!$B$13:$BI$19,MATCH($O$7,GRID!$A$13:$A$19,0),MATCH(1,($U$2=GRID!$B$1:$BI$1)*(КАЛЕНДАРЬ!$AW33=GRID!$B$3:$BI$3), 0))*(1-GRID!$B$29))} -> 141800
A98: ТАРИФЫ
A99: МАЙ 2026
A100: День | C100: Стандарт | E100: Стандарт улучшенный с двухъярусной кроватью | G100: Полулюкс | I100: Люкс | K100: Люкс Королевы | M100: Люкс Короля | O100: Президентский люкс
C101: 1-мест. | D101: 2-мест. | E101: 1-мест. | F101: 2-мест. | G101: 1-мест. | H101: 2-мест. | I101: 1-мест. | J101: 2-мест. | K101: 1-мест. | L101: 2-мест. | M101: 1-мест. | N101: 2-мест. | O101: 1-мест. | P101: 2-мест.
A102: ПТ | B102: 1 | C102: {=IF($I$2="Открытый тариф", INDEX(GRID!$B$4:$BI$10,MATCH($C$7,GRID!$A$4:$A$10,0),MATCH(1,($U$2=GRID!$B$1:$BI$1)*(КАЛЕНДАРЬ!AZ4=GRID!$B$3:$BI$3), 0)), INDEX(GRID!$B$4:$BI$10,MATCH($C$7,GRID!$A$4:$A$10,0),MATCH(1,($U$2=GRID!$B$1:$BI$1)*(КАЛЕНДАРЬ!AZ4=GRID!$B$3:$BI$3), 0))*(1-GRID!$B$29))} -> 18000 | D102: {=IF($I$2="Открытый тариф", INDEX(GRID!$B$13:$BI$19,MATCH($C$7,GRID!$A$13:$A$19,0),MATCH(1,($U$2=GRID!$B$1:$BI$1)*(КАЛЕНДАРЬ!$AZ4=GRID!$B$3:$BI$3), 0)), INDEX(GRID!$B$13:$BI$19,MATCH($C$7,GRID!$A$13:$A$19,0),MATCH(1,($U$2=GRID!$B$1:$BI$1)*(КАЛЕНДАРЬ!$AZ4=GRID!$B$3:$BI$3), 0))*(1-GRID!$B$29))} -> 21300 | E102: {=IF($I$2="Открытый тариф", INDEX(GRID!$B$4:$BI$10,MATCH($E$7,GRID!$A$4:$A$10,0),MATCH(1,($U$2=GRID!$B$1:$BI$1)*(КАЛЕНДАРЬ!AZ4=GRID!$B$3:$BI$3), 0)), INDEX(GRID!$B$4:$BI$10,MATCH($E$7,GRID!$A$4:$A$10,0),MATCH(1,($U$2=GRID!$B$1:$BI$1)*(КАЛЕНДАРЬ!AZ4=GRID!$B$3:$BI$3), 0))*(1-GRID!$B$29))} -> 21700 | F102: {=IF($I$2="Открытый тариф", INDEX(GRID!$B$13:$BI$19,MATCH($E$7,GRID!$A$13:$A$19,0),MATCH(1,($U$2=GRID!$B$1:$BI$1)*(КАЛЕНДАРЬ!$AZ4=GRID!$B$3:$BI$3), 0)), INDEX(GRID!$B$13:$BI$19,MATCH($E$7,GRID!$A$13:$A$19,0),MATCH(1,($U$2=GRID!$B$1:$BI$1)*(КАЛЕНДАРЬ!$AZ4=GRID!$B$3:$BI$3), 0))*(1-GRID!$B$29))} -> 25000 | G102: {=IF($I$2="Открытый тариф", INDEX(GRID!$B$4:$BI$10,MATCH($G$7,GRID!$A$4:$A$10,0),MATCH(1,($U$2=GRID!$B$1:$BI$1)*(КАЛЕНДАРЬ!AZ4=GRID!$B$3:$BI$3), 0)), INDEX(GRID!$B$4:$BI$10,MATCH($G$7,GRID!$A$4:$A$10,0),MATCH(1,($U$2=GRID!$B$1:$BI$1)*(КАЛЕНДАРЬ!AZ4=GRID!$B$3:$BI$3), 0))*(1-GRID!$B$29))} -> 26100 | H102: {=IF($I$2="Открытый тариф", INDEX(GRID!$B$13:$BI$19,MATCH($G$7,GRID!$A$13:$A$19,0),MATCH(1,($U$2=GRID!$B$1:$BI$1)*(КАЛЕНДАРЬ!$AZ4=GRID!$B$3:$BI$3), 0)), INDEX(GRID!$B$13:$BI$19,MATCH($G$7,GRID!$A$13:$A$19,0),MATCH(1,($U$2=GRID!$B$1:$BI$1)*(КАЛЕНДАРЬ!$AZ4=GRID!$B$3:$BI$3), 0))*(1-GRID!$B$29))} -> 29400 | I102: {=IF($I$2="Открытый тариф", INDEX(GRID!$B$4:$BI$10,MATCH($I$7,GRID!$A$4:$A$10,0),MATCH(1,($U$2=GRID!$B$1:$BI$1)*(КАЛЕНДАРЬ!AZ4=GRID!$B$3:$BI$3), 0)), INDEX(GRID!$B$4:$BI$10,MATCH($I$7,GRID!$A$4:$A$10,0),MATCH(1,($U$2=GRID!$B$1:$BI$1)*(КАЛЕНДАРЬ!AZ4=GRID!$B$3:$BI$3), 0))*(1-GRID!$B$29))} -> 36300 | J102: {=IF($I$2="Открытый тариф", INDEX(GRID!$B$13:$BI$19,MATCH($I$7,GRID!$A$13:$A$19,0),MATCH(1,($U$2=GRID!$B$1:$BI$1)*(КАЛЕНДАРЬ!$AZ4=GRID!$B$3:$BI$3), 0)), INDEX(GRID!$B$13:$BI$19,MATCH($I$7,GRID!$A$13:$A$19,0),MATCH(1,($U$2=GRID!$B$1:$BI$1)*(КАЛЕНДАРЬ!$AZ4=GRID!$B$3:$BI$3), 0))*(1-GRID!$B$29))} -> 39600 | K102: {=IF($I$2="Открытый тариф", INDEX(GRID!$B$4:$BI$10,MATCH($K$7,GRID!$A$4:$A$10,0),MATCH(1,($U$2=GRID!$B$1:$BI$1)*(КАЛЕНДАРЬ!AZ4=GRID!$B$3:$BI$3), 0)), INDEX(GRID!$B$4:$BI$10,MATCH($K$7,GRID!$A$4:$A$10,0),MATCH(1,($U$2=GRID!$B$1:$BI$1)*(КАЛЕНДАРЬ!AZ4=GRID!$B$3:$BI$3), 0))*(1-GRID!$B$29))} -> 50800 | L102: {=IF($I$2="Открытый тариф", INDEX(GRID!$B$13:$BI$19,MATCH($K$7,GRID!$A$13:$A$19,0),MATCH(1,($U$2=GRID!$B$1:$BI$1)*(КАЛЕНДАРЬ!$AZ4=GRID!$B$3:$BI$3), 0)), INDEX(GRID!$B$13:$BI$19,MATCH($K$7,GRID!$A$13:$A$19,0),MATCH(1,($U$2=GRID!$B$1:$BI$1)*(КАЛЕНДАРЬ!$AZ4=GRID!$B$3:$BI$3), 0))*(1-GRID!$B$29))} -> 54100 | M102: {=IF($I$2="Открытый тариф", INDEX(GRID!$B$4:$BI$10,MATCH($M$7,GRID!$A$4:$A$10,0),MATCH(1,($U$2=GRID!$B$1:$BI$1)*(КАЛЕНДАРЬ!AZ4=GRID!$B$3:$BI$3), 0)), INDEX(GRID!$B$4:$BI$10,MATCH($M$7,GRID!$A$4:$A$10,0),MATCH(1,($U$2=GRID!$B$1:$BI$1)*(КАЛЕНДАРЬ!AZ4=GRID!$B$3:$BI$3), 0))*(1-GRID!$B$29))} -> 72600 | N102: {=IF($I$2="Открытый тариф", INDEX(GRID!$B$13:$BI$19,MATCH($M$7,GRID!$A$13:$A$19,0),MATCH(1,($U$2=GRID!$B$1:$BI$1)*(КАЛЕНДАРЬ!$AZ4=GRID!$B$3:$BI$3), 0)), INDEX(GRID!$B$13:$BI$19,MATCH($M$7,GRID!$A$13:$A$19,0),MATCH(1,($U$2=GRID!$B$1:$BI$1)*(КАЛЕНДАРЬ!$AZ4=GRID!$B$3:$BI$3), 0))*(1-GRID!$B$29))} -> 75900 | O102: {=IF($I$2="Открытый тариф", INDEX(GRID!$B$4:$BI$10,MATCH($O$7,GRID!$A$4:$A$10,0),MATCH(1,($U$2=GRID!$B$1:$BI$1)*(КАЛЕНДАРЬ!AZ4=GRID!$B$3:$BI$3), 0)), INDEX(GRID!$B$4:$BI$10,MATCH($O$7,GRID!$A$4:$A$10,0),MATCH(1,($U$2=GRID!$B$1:$BI$1)*(КАЛЕНДАРЬ!AZ4=GRID!$B$3:$BI$3), 0))*(1-GRID!$B$29))} -> 172700 | P102: {=IF($I$2="Открытый тариф", INDEX(GRID!$B$13:$BI$19,MATCH($O$7,GRID!$A$13:$A$19,0),MATCH(1,($U$2=GRID!$B$1:$BI$1)*(КАЛЕНДАРЬ!$AZ4=GRID!$B$3:$BI$3), 0)), INDEX(GRID!$B$13:$BI$19,MATCH($O$7,GRID!$A$13:$A$19,0),MATCH(1,($U$2=GRID!$B$1:$BI$1)*(КАЛЕНДАРЬ!$AZ4=GRID!$B$3:$BI$3), 0))*(1-GRID!$B$29))} -> 176000
A103: СБ | B103: 2 | C103: {=IF($I$2="Открытый тариф", INDEX(GRID!$B$4:$BI$10,MATCH($C$7,GRID!$A$4:$A$10,0),MATCH(1,($U$2=GRID!$B$1:$BI$1)*(КАЛЕНДАРЬ!AZ5=GRID!$B$3:$BI$3), 0)), INDEX(GRID!$B$4:$BI$10,MATCH($C$7,GRID!$A$4:$A$10,0),MATCH(1,($U$2=GRID!$B$1:$BI$1)*(КАЛЕНДАРЬ!AZ5=GRID!$B$3:$BI$3), 0))*(1-GRID!$B$29))} -> 18000 | D103: {=IF($I$2="Открытый тариф", INDEX(GRID!$B$13:$BI$19,MATCH($C$7,GRID!$A$13:$A$19,0),MATCH(1,($U$2=GRID!$B$1:$BI$1)*(КАЛЕНДАРЬ!$AZ5=GRID!$B$3:$BI$3), 0)), INDEX(GRID!$B$13:$BI$19,MATCH($C$7,GRID!$A$13:$A$19,0),MATCH(1,($U$2=GRID!$B$1:$BI$1)*(КАЛЕНДАРЬ!$AZ5=GRID!$B$3:$BI$3), 0))*(1-GRID!$B$29))} -> 21300 | E103: {=IF($I$2="Открытый тариф", INDEX(GRID!$B$4:$BI$10,MATCH($E$7,GRID!$A$4:$A$10,0),MATCH(1,($U$2=GRID!$B$1:$BI$1)*(КАЛЕНДАРЬ!AZ5=GRID!$B$3:$BI$3), 0)), INDEX(GRID!$B$4:$BI$10,MATCH($E$7,GRID!$A$4:$A$10,0),MATCH(1,($U$2=GRID!$B$1:$BI$1)*(КАЛЕНДАРЬ!AZ5=GRID!$B$3:$BI$3), 0))*(1-GRID!$B$29))} -> 21700 | F103: {=IF($I$2="Открытый тариф", INDEX(GRID!$B$13:$BI$19,MATCH($E$7,GRID!$A$13:$A$19,0),MATCH(1,($U$2=GRID!$B$1:$BI$1)*(КАЛЕНДАРЬ!$AZ5=GRID!$B$3:$BI$3), 0)), INDEX(GRID!$B$13:$BI$19,MATCH($E$7,GRID!$A$13:$A$19,0),MATCH(1,($U$2=GRID!$B$1:$BI$1)*(КАЛЕНДАРЬ!$AZ5=GRID!$B$3:$BI$3), 0))*(1-GRID!$B$29))} -> 25000 | G103: {=IF($I$2="Открытый тариф", INDEX(GRID!$B$4:$BI$10,MATCH($G$7,GRID!$A$4:$A$10,0),MATCH(1,($U$2=GRID!$B$1:$BI$1)*(КАЛЕНДАРЬ!AZ5=GRID!$B$3:$BI$3), 0)), INDEX(GRID!$B$4:$BI$10,MATCH($G$7,GRID!$A$4:$A$10,0),MATCH(1,($U$2=GRID!$B$1:$BI$1)*(КАЛЕНДАРЬ!AZ5=GRID!$B$3:$BI$3), 0))*(1-GRID!$B$29))} -> 26100 | H103: {=IF($I$2="Открытый тариф", INDEX(GRID!$B$13:$BI$19,MATCH($G$7,GRID!$A$13:$A$19,0),MATCH(1,($U$2=GRID!$B$1:$BI$1)*(КАЛЕНДАРЬ!$AZ5=GRID!$B$3:$BI$3), 0)), INDEX(GRID!$B$13:$BI$19,MATCH($G$7,GRID!$A$13:$A$19,0),MATCH(1,($U$2=GRID!$B$1:$BI$1)*(КАЛЕНДАРЬ!$AZ5=GRID!$B$3:$BI$3), 0))*(1-GRID!$B$29))} -> 29400 | I103: {=IF($I$2="Открытый тариф", INDEX(GRID!$B$4:$BI$10,MATCH($I$7,GRID!$A$4:$A$10,0),MATCH(1,($U$2=GRID!$B$1:$BI$1)*(КАЛЕНДАРЬ!AZ5=GRID!$B$3:$BI$3), 0)), INDEX(GRID!$B$4:$BI$10,MATCH($I$7,GRID!$A$4:$A$10,0),MATCH(1,($U$2=GRID!$B$1:$BI$1)*(КАЛЕНДАРЬ!AZ5=GRID!$B$3:$BI$3), 0))*(1-GRID!$B$29))} -> 36300 | J103: {=IF($I$2="Открытый тариф", INDEX(GRID!$B$13:$BI$19,MATCH($I$7,GRID!$A$13:$A$19,0),MATCH(1,($U$2=GRID!$B$1:$BI$1)*(КАЛЕНДАРЬ!$AZ5=GRID!$B$3:$BI$3), 0)), INDEX(GRID!$B$13:$BI$19,MATCH($I$7,GRID!$A$13:$A$19,0),MATCH(1,($U$2=GRID!$B$1:$BI$1)*(КАЛЕНДАРЬ!$AZ5=GRID!$B$3:$BI$3), 0))*(1-GRID!$B$29))} -> 39600 | K103: {=IF($I$2="Открытый тариф", INDEX(GRID!$B$4:$BI$10,MATCH($K$7,GRID!$A$4:$A$10,0),MATCH(1,($U$2=GRID!$B$1:$BI$1)*(КАЛЕНДАРЬ!AZ5=GRID!$B$3:$BI$3), 0)), INDEX(GRID!$B$4:$BI$10,MATCH($K$7,GRID!$A$4:$A$10,0),MATCH(1,($U$2=GRID!$B$1:$BI$1)*(КАЛЕНДАРЬ!AZ5=GRID!$B$3:$BI$3), 0))*(1-GRID!$B$29))} -> 50800 | L103: {=IF($I$2="Открытый тариф", INDEX(GRID!$B$13:$BI$19,MATCH($K$7,GRID!$A$13:$A$19,0),MATCH(1,($U$2=GRID!$B$1:$BI$1)*(КАЛЕНДАРЬ!$AZ5=GRID!$B$3:$BI$3), 0)), INDEX(GRID!$B$13:$BI$19,MATCH($K$7,GRID!$A$13:$A$19,0),MATCH(1,($U$2=GRID!$B$1:$BI$1)*(КАЛЕНДАРЬ!$AZ5=GRID!$B$3:$BI$3), 0))*(1-GRID!$B$29))} -> 54100 | M103: {=IF($I$2="Открытый тариф", INDEX(GRID!$B$4:$BI$10,MATCH($M$7,GRID!$A$4:$A$10,0),MATCH(1,($U$2=GRID!$B$1:$BI$1)*(КАЛЕНДАРЬ!AZ5=GRID!$B$3:$BI$3), 0)), INDEX(GRID!$B$4:$BI$10,MATCH($M$7,GRID!$A$4:$A$10,0),MATCH(1,($U$2=GRID!$B$1:$BI$1)*(КАЛЕНДАРЬ!AZ5=GRID!$B$3:$BI$3), 0))*(1-GRID!$B$29))} -> 72600 | N103: {=IF($I$2="Открытый тариф", INDEX(GRID!$B$13:$BI$19,MATCH($M$7,GRID!$A$13:$A$19,0),MATCH(1,($U$2=GRID!$B$1:$BI$1)*(КАЛЕНДАРЬ!$AZ5=GRID!$B$3:$BI$3), 0)), INDEX(GRID!$B$13:$BI$19,MATCH($M$7,GRID!$A$13:$A$19,0),MATCH(1,($U$2=GRID!$B$1:$BI$1)*(КАЛЕНДАРЬ!$AZ5=GRID!$B$3:$BI$3), 0))*(1-GRID!$B$29))} -> 75900 | O103: {=IF($I$2="Открытый тариф", INDEX(GRID!$B$4:$BI$10,MATCH($O$7,GRID!$A$4:$A$10,0),MATCH(1,($U$2=GRID!$B$1:$BI$1)*(КАЛЕНДАРЬ!AZ5=GRID!$B$3:$BI$3), 0)), INDEX(GRID!$B$4:$BI$10,MATCH($O$7,GRID!$A$4:$A$10,0),MATCH(1,($U$2=GRID!$B$1:$BI$1)*(КАЛЕНДАРЬ!AZ5=GRID!$B$3:$BI$3), 0))*(1-GRID!$B$29))} -> 172700 | P103: {=IF($I$2="Открытый тариф", INDEX(GRID!$B$13:$BI$19,MATCH($O$7,GRID!$A$13:$A$19,0),MATCH(1,($U$2=GRID!$B$1:$BI$1)*(КАЛЕНДАРЬ!$AZ5=GRID!$B$3:$BI$3), 0)), INDEX(GRID!$B$13:$BI$19,MATCH($O$7,GRID!$A$13:$A$19,0),MATCH(1,($U$2=GRID!$B$1:$BI$1)*(КАЛЕНДАРЬ!$AZ5=GRID!$B$3:$BI$3), 0))*(1-GRID!$B$29))} -> 176000
A104: ВС | B104: 3 | C104: {=IF($I$2="Открытый тариф", INDEX(GRID!$B$4:$BI$10,MATCH($C$7,GRID!$A$4:$A$10,0),MATCH(1,($U$2=GRID!$B$1:$BI$1)*(КАЛЕНДАРЬ!AZ6=GRID!$B$3:$BI$3), 0)), INDEX(GRID!$B$4:$BI$10,MATCH($C$7,GRID!$A$4:$A$10,0),MATCH(1,($U$2=GRID!$B$1:$BI$1)*(КАЛЕНДАРЬ!AZ6=GRID!$B$3:$BI$3), 0))*(1-GRID!$B$29))} -> 15000 | D104: {=IF($I$2="Открытый тариф", INDEX(GRID!$B$13:$BI$19,MATCH($C$7,GRID!$A$13:$A$19,0),MATCH(1,($U$2=GRID!$B$1:$BI$1)*(КАЛЕНДАРЬ!$AZ6=GRID!$B$3:$BI$3), 0)), INDEX(GRID!$B$13:$BI$19,MATCH($C$7,GRID!$A$13:$A$19,0),MATCH(1,($U$2=GRID!$B$1:$BI$1)*(КАЛЕНДАРЬ!$AZ6=GRID!$B$3:$BI$3), 0))*(1-GRID!$B$29))} -> 18300 | E104: {=IF($I$2="Открытый тариф", INDEX(GRID!$B$4:$BI$10,MATCH($E$7,GRID!$A$4:$A$10,0),MATCH(1,($U$2=GRID!$B$1:$BI$1)*(КАЛЕНДАРЬ!AZ6=GRID!$B$3:$BI$3), 0)), INDEX(GRID!$B$4:$BI$10,MATCH($E$7,GRID!$A$4:$A$10,0),MATCH(1,($U$2=GRID!$B$1:$BI$1)*(КАЛЕНДАРЬ!AZ6=GRID!$B$3:$BI$3), 0))*(1-GRID!$B$29))} -> 18300 | F104: {=IF($I$2="Открытый тариф", INDEX(GRID!$B$13:$BI$19,MATCH($E$7,GRID!$A$13:$A$19,0),MATCH(1,($U$2=GRID!$B$1:$BI$1)*(КАЛЕНДАРЬ!$AZ6=GRID!$B$3:$BI$3), 0)), INDEX(GRID!$B$13:$BI$19,MATCH($E$7,GRID!$A$13:$A$19,0),MATCH(1,($U$2=GRID!$B$1:$BI$1)*(КАЛЕНДАРЬ!$AZ6=GRID!$B$3:$BI$3), 0))*(1-GRID!$B$29))} -> 21600 | G104: {=IF($I$2="Открытый тариф", INDEX(GRID!$B$4:$BI$10,MATCH($G$7,GRID!$A$4:$A$10,0),MATCH(1,($U$2=GRID!$B$1:$BI$1)*(КАЛЕНДАРЬ!AZ6=GRID!$B$3:$BI$3), 0)), INDEX(GRID!$B$4:$BI$10,MATCH($G$7,GRID!$A$4:$A$10,0),MATCH(1,($U$2=GRID!$B$1:$BI$1)*(КАЛЕНДАРЬ!AZ6=GRID!$B$3:$BI$3), 0))*(1-GRID!$B$29))} -> 22200 | H104: {=IF($I$2="Открытый тариф", INDEX(GRID!$B$13:$BI$19,MATCH($G$7,GRID!$A$13:$A$19,0),MATCH(1,($U$2=GRID!$B$1:$BI$1)*(КАЛЕНДАРЬ!$AZ6=GRID!$B$3:$BI$3), 0)), INDEX(GRID!$B$13:$BI$19,MATCH($G$7,GRID!$A$13:$A$19,0),MATCH(1,($U$2=GRID!$B$1:$BI$1)*(КАЛЕНДАРЬ!$AZ6=GRID!$B$3:$BI$3), 0))*(1-GRID!$B$29))} -> 25500 | I104: {=IF($I$2="Открытый тариф", INDEX(GRID!$B$4:$BI$10,MATCH($I$7,GRID!$A$4:$A$10,0),MATCH(1,($U$2=GRID!$B$1:$BI$1)*(КАЛЕНДАРЬ!AZ6=GRID!$B$3:$BI$3), 0)), INDEX(GRID!$B$4:$BI$10,MATCH($I$7,GRID!$A$4:$A$10,0),MATCH(1,($U$2=GRID!$B$1:$BI$1)*(КАЛЕНДАРЬ!AZ6=GRID!$B$3:$BI$3), 0))*(1-GRID!$B$29))} -> 31300 | J104: {=IF($I$2="Открытый тариф", INDEX(GRID!$B$13:$BI$19,MATCH($I$7,GRID!$A$13:$A$19,0),MATCH(1,($U$2=GRID!$B$1:$BI$1)*(КАЛЕНДАРЬ!$AZ6=GRID!$B$3:$BI$3), 0)), INDEX(GRID!$B$13:$BI$19,MATCH($I$7,GRID!$A$13:$A$19,0),MATCH(1,($U$2=GRID!$B$1:$BI$1)*(КАЛЕНДАРЬ!$AZ6=GRID!$B$3:$BI$3), 0))*(1-GRID!$B$29))} -> 34600 | K104: {=IF($I$2="Открытый тариф", INDEX(GRID!$B$4:$BI$10,MATCH($K$7,GRID!$A$4:$A$10,0),MATCH(1,($U$2=GRID!$B$1:$BI$1)*(КАЛЕНДАРЬ!AZ6=GRID!$B$3:$BI$3), 0)), INDEX(GRID!$B$4:$BI$10,MATCH($K$7,GRID!$A$4:$A$10,0),MATCH(1,($U$2=GRID!$B$1:$BI$1)*(КАЛЕНДАРЬ!AZ6=GRID!$B$3:$BI$3), 0))*(1-GRID!$B$29))} -> 44300 | L104: {=IF($I$2="Открытый тариф", INDEX(GRID!$B$13:$BI$19,MATCH($K$7,GRID!$A$13:$A$19,0),MATCH(1,($U$2=GRID!$B$1:$BI$1)*(КАЛЕНДАРЬ!$AZ6=GRID!$B$3:$BI$3), 0)), INDEX(GRID!$B$13:$BI$19,MATCH($K$7,GRID!$A$13:$A$19,0),MATCH(1,($U$2=GRID!$B$1:$BI$1)*(КАЛЕНДАРЬ!$AZ6=GRID!$B$3:$BI$3), 0))*(1-GRID!$B$29))} -> 47600 | M104: {=IF($I$2="Открытый тариф", INDEX(GRID!$B$4:$BI$10,MATCH($M$7,GRID!$A$4:$A$10,0),MATCH(1,($U$2=GRID!$B$1:$BI$1)*(КАЛЕНДАРЬ!AZ6=GRID!$B$3:$BI$3), 0)), INDEX(GRID!$B$4:$BI$10,MATCH($M$7,GRID!$A$4:$A$10,0),MATCH(1,($U$2=GRID!$B$1:$BI$1)*(КАЛЕНДАРЬ!AZ6=GRID!$B$3:$BI$3), 0))*(1-GRID!$B$29))} -> 63800 | N104: {=IF($I$2="Открытый тариф", INDEX(GRID!$B$13:$BI$19,MATCH($M$7,GRID!$A$13:$A$19,0),MATCH(1,($U$2=GRID!$B$1:$BI$1)*(КАЛЕНДАРЬ!$AZ6=GRID!$B$3:$BI$3), 0)), INDEX(GRID!$B$13:$BI$19,MATCH($M$7,GRID!$A$13:$A$19,0),MATCH(1,($U$2=GRID!$B$1:$BI$1)*(КАЛЕНДАРЬ!$AZ6=GRID!$B$3:$BI$3), 0))*(1-GRID!$B$29))} -> 67100 | O104: {=IF($I$2="Открытый тариф", INDEX(GRID!$B$4:$BI$10,MATCH($O$7,GRID!$A$4:$A$10,0),MATCH(1,($U$2=GRID!$B$1:$BI$1)*(КАЛЕНДАРЬ!AZ6=GRID!$B$3:$BI$3), 0)), INDEX(GRID!$B$4:$BI$10,MATCH($O$7,GRID!$A$4:$A$10,0),MATCH(1,($U$2=GRID!$B$1:$BI$1)*(КАЛЕНДАРЬ!AZ6=GRID!$B$3:$BI$3), 0))*(1-GRID!$B$29))} -> 151700 | P104: {=IF($I$2="Открытый тариф", INDEX(GRID!$B$13:$BI$19,MATCH($O$7,GRID!$A$13:$A$19,0),MATCH(1,($U$2=GRID!$B$1:$BI$1)*(КАЛЕНДАРЬ!$AZ6=GRID!$B$3:$BI$3), 0)), INDEX(GRID!$B$13:$BI$19,MATCH($O$7,GRID!$A$13:$A$19,0),MATCH(1,($U$2=GRID!$B$1:$BI$1)*(КАЛЕНДАРЬ!$AZ6=GRID!$B$3:$BI$3), 0))*(1-GRID!$B$29))} -> 155000
A105: ПН | B105: 4 | C105: {=IF($I$2="Открытый тариф", INDEX(GRID!$B$4:$BI$10,MATCH($C$7,GRID!$A$4:$A$10,0),MATCH(1,($U$2=GRID!$B$1:$BI$1)*(КАЛЕНДАРЬ!AZ7=GRID!$B$3:$BI$3), 0)), INDEX(GRID!$B$4:$BI$10,MATCH($C$7,GRID!$A$4:$A$10,0),MATCH(1,($U$2=GRID!$B$1:$BI$1)*(КАЛЕНДАРЬ!AZ7=GRID!$B$3:$BI$3), 0))*(1-GRID!$B$29))} -> 15000 | D105: {=IF($I$2="Открытый тариф", INDEX(GRID!$B$13:$BI$19,MATCH($C$7,GRID!$A$13:$A$19,0),MATCH(1,($U$2=GRID!$B$1:$BI$1)*(КАЛЕНДАРЬ!$AZ7=GRID!$B$3:$BI$3), 0)), INDEX(GRID!$B$13:$BI$19,MATCH($C$7,GRID!$A$13:$A$19,0),MATCH(1,($U$2=GRID!$B$1:$BI$1)*(КАЛЕНДАРЬ!$AZ7=GRID!$B$3:$BI$3), 0))*(1-GRID!$B$29))} -> 18300 | E105: {=IF($I$2="Открытый тариф", INDEX(GRID!$B$4:$BI$10,MATCH($E$7,GRID!$A$4:$A$10,0),MATCH(1,($U$2=GRID!$B$1:$BI$1)*(КАЛЕНДАРЬ!AZ7=GRID!$B$3:$BI$3), 0)), INDEX(GRID!$B$4:$BI$10,MATCH($E$7,GRID!$A$4:$A$10,0),MATCH(1,($U$2=GRID!$B$1:$BI$1)*(КАЛЕНДАРЬ!AZ7=GRID!$B$3:$BI$3), 0))*(1-GRID!$B$29))} -> 18300 | F105: {=IF($I$2="Открытый тариф", INDEX(GRID!$B$13:$BI$19,MATCH($E$7,GRID!$A$13:$A$19,0),MATCH(1,($U$2=GRID!$B$1:$BI$1)*(КАЛЕНДАРЬ!$AZ7=GRID!$B$3:$BI$3), 0)), INDEX(GRID!$B$13:$BI$19,MATCH($E$7,GRID!$A$13:$A$19,0),MATCH(1,($U$2=GRID!$B$1:$BI$1)*(КАЛЕНДАРЬ!$AZ7=GRID!$B$3:$BI$3), 0))*(1-GRID!$B$29))} -> 21600 | G105: {=IF($I$2="Открытый тариф", INDEX(GRID!$B$4:$BI$10,MATCH($G$7,GRID!$A$4:$A$10,0),MATCH(1,($U$2=GRID!$B$1:$BI$1)*(КАЛЕНДАРЬ!AZ7=GRID!$B$3:$BI$3), 0)), INDEX(GRID!$B$4:$BI$10,MATCH($G$7,GRID!$A$4:$A$10,0),MATCH(1,($U$2=GRID!$B$1:$BI$1)*(КАЛЕНДАРЬ!AZ7=GRID!$B$3:$BI$3), 0))*(1-GRID!$B$29))} -> 22200 | H105: {=IF($I$2="Открытый тариф", INDEX(GRID!$B$13:$BI$19,MATCH($G$7,GRID!$A$13:$A$19,0),MATCH(1,($U$2=GRID!$B$1:$BI$1)*(КАЛЕНДАРЬ!$AZ7=GRID!$B$3:$BI$3), 0)), INDEX(GRID!$B$13:$BI$19,MATCH($G$7,GRID!$A$13:$A$19,0),MATCH(1,($U$2=GRID!$B$1:$BI$1)*(КАЛЕНДАРЬ!$AZ7=GRID!$B$3:$BI$3), 0))*(1-GRID!$B$29))} -> 25500 | I105: {=IF($I$2="Открытый тариф", INDEX(GRID!$B$4:$BI$10,MATCH($I$7,GRID!$A$4:$A$10,0),MATCH(1,($U$2=GRID!$B$1:$BI$1)*(КАЛЕНДАРЬ!AZ7=GRID!$B$3:$BI$3), 0)), INDEX(GRID!$B$4:$BI$10,MATCH($I$7,GRID!$A$4:$A$10,0),MATCH(1,($U$2=GRID!$B$1:$BI$1)*(КАЛЕНДАРЬ!AZ7=GRID!$B$3:$BI$3), 0))*(1-GRID!$B$29))} -> 31300 | J105: {=IF($I$2="Открытый тариф", INDEX(GRID!$B$13:$BI$19,MATCH($I$7,GRID!$A$13:$A$19,0),MATCH(1,($U$2=GRID!$B$1:$BI$1)*(КАЛЕНДАРЬ!$AZ7=GRID!$B$3:$BI$3), 0)), INDEX(GRID!$B$13:$BI$19,MATCH($I$7,GRID!$A$13:$A$19,0),MATCH(1,($U$2=GRID!$B$1:$BI$1)*(КАЛЕНДАРЬ!$AZ7=GRID!$B$3:$BI$3), 0))*(1-GRID!$B$29))} -> 34600 | K105: {=IF($I$2="Открытый тариф", INDEX(GRID!$B$4:$BI$10,MATCH($K$7,GRID!$A$4:$A$10,0),MATCH(1,($U$2=GRID!$B$1:$BI$1)*(КАЛЕНДАРЬ!AZ7=GRID!$B$3:$BI$3), 0)), INDEX(GRID!$B$4:$BI$10,MATCH($K$7,GRID!$A$4:$A$10,0),MATCH(1,($U$2=GRID!$B$1:$BI$1)*(КАЛЕНДАРЬ!AZ7=GRID!$B$3:$BI$3), 0))*(1-GRID!$B$29))} -> 44300 | L105: {=IF($I$2="Открытый тариф", INDEX(GRID!$B$13:$BI$19,MATCH($K$7,GRID!$A$13:$A$19,0),MATCH(1,($U$2=GRID!$B$1:$BI$1)*(КАЛЕНДАРЬ!$AZ7=GRID!$B$3:$BI$3), 0)), INDEX(GRID!$B$13:$BI$19,MATCH($K$7,GRID!$A$13:$A$19,0),MATCH(1,($U$2=GRID!$B$1:$BI$1)*(КАЛЕНДАРЬ!$AZ7=GRID!$B$3:$BI$3), 0))*(1-GRID!$B$29))} -> 47600 | M105: {=IF($I$2="Открытый тариф", INDEX(GRID!$B$4:$BI$10,MATCH($M$7,GRID!$A$4:$A$10,0),MATCH(1,($U$2=GRID!$B$1:$BI$1)*(КАЛЕНДАРЬ!AZ7=GRID!$B$3:$BI$3), 0)), INDEX(GRID!$B$4:$BI$10,MATCH($M$7,GRID!$A$4:$A$10,0),MATCH(1,($U$2=GRID!$B$1:$BI$1)*(КАЛЕНДАРЬ!AZ7=GRID!$B$3:$BI$3), 0))*(1-GRID!$B$29))} -> 63800 | N105: {=IF($I$2="Открытый тариф", INDEX(GRID!$B$13:$BI$19,MATCH($M$7,GRID!$A$13:$A$19,0),MATCH(1,($U$2=GRID!$B$1:$BI$1)*(КАЛЕНДАРЬ!$AZ7=GRID!$B$3:$BI$3), 0)), INDEX(GRID!$B$13:$BI$19,MATCH($M$7,GRID!$A$13:$A$19,0),MATCH(1,($U$2=GRID!$B$1:$BI$1)*(КАЛЕНДАРЬ!$AZ7=GRID!$B$3:$BI$3), 0))*(1-GRID!$B$29))} -> 67100 | O105: {=IF($I$2="Открытый тариф", INDEX(GRID!$B$4:$BI$10,MATCH($O$7,GRID!$A$4:$A$10,0),MATCH(1,($U$2=GRID!$B$1:$BI$1)*(КАЛЕНДАРЬ!AZ7=GRID!$B$3:$BI$3), 0)), INDEX(GRID!$B$4:$BI$10,MATCH($O$7,GRID!$A$4:$A$10,0),MATCH(1,($U$2=GRID!$B$1:$BI$1)*(КАЛЕНДАРЬ!AZ7=GRID!$B$3:$BI$3), 0))*(1-GRID!$B$29))} -> 151700 | P105: {=IF($I$2="Открытый тариф", INDEX(GRID!$B$13:$BI$19,MATCH($O$7,GRID!$A$13:$A$19,0),MATCH(1,($U$2=GRID!$B$1:$BI$1)*(КАЛЕНДАРЬ!$AZ7=GRID!$B$3:$BI$3), 0)), INDEX(GRID!$B$13:$BI$19,MATCH($O$7,GRID!$A$13:$A$19,0),MATCH(1,($U$2=GRID!$B$1:$BI$1)*(КАЛЕНДАРЬ!$AZ7=GRID!$B$3:$BI$3), 0))*(1-GRID!$B$29))} -> 155000
A106: ВТ | B106: 5 | C106: {=IF($I$2="Открытый тариф", INDEX(GRID!$B$4:$BI$10,MATCH($C$7,GRID!$A$4:$A$10,0),MATCH(1,($U$2=GRID!$B$1:$BI$1)*(КАЛЕНДАРЬ!AZ8=GRID!$B$3:$BI$3), 0)), INDEX(GRID!$B$4:$BI$10,MATCH($C$7,GRID!$A$4:$A$10,0),MATCH(1,($U$2=GRID!$B$1:$BI$1)*(КАЛЕНДАРЬ!AZ8=GRID!$B$3:$BI$3), 0))*(1-GRID!$B$29))} -> 15000 | D106: {=IF($I$2="Открытый тариф", INDEX(GRID!$B$13:$BI$19,MATCH($C$7,GRID!$A$13:$A$19,0),MATCH(1,($U$2=GRID!$B$1:$BI$1)*(КАЛЕНДАРЬ!$AZ8=GRID!$B$3:$BI$3), 0)), INDEX(GRID!$B$13:$BI$19,MATCH($C$7,GRID!$A$13:$A$19,0),MATCH(1,($U$2=GRID!$B$1:$BI$1)*(КАЛЕНДАРЬ!$AZ8=GRID!$B$3:$BI$3), 0))*(1-GRID!$B$29))} -> 18300 | E106: {=IF($I$2="Открытый тариф", INDEX(GRID!$B$4:$BI$10,MATCH($E$7,GRID!$A$4:$A$10,0),MATCH(1,($U$2=GRID!$B$1:$BI$1)*(КАЛЕНДАРЬ!AZ8=GRID!$B$3:$BI$3), 0)), INDEX(GRID!$B$4:$BI$10,MATCH($E$7,GRID!$A$4:$A$10,0),MATCH(1,($U$2=GRID!$B$1:$BI$1)*(КАЛЕНДАРЬ!AZ8=GRID!$B$3:$BI$3), 0))*(1-GRID!$B$29))} -> 18300 | F106: {=IF($I$2="Открытый тариф", INDEX(GRID!$B$13:$BI$19,MATCH($E$7,GRID!$A$13:$A$19,0),MATCH(1,($U$2=GRID!$B$1:$BI$1)*(КАЛЕНДАРЬ!$AZ8=GRID!$B$3:$BI$3), 0)), INDEX(GRID!$B$13:$BI$19,MATCH($E$7,GRID!$A$13:$A$19,0),MATCH(1,($U$2=GRID!$B$1:$BI$1)*(КАЛЕНДАРЬ!$AZ8=GRID!$B$3:$BI$3), 0))*(1-GRID!$B$29))} -> 21600 | G106: {=IF($I$2="Открытый тариф", INDEX(GRID!$B$4:$BI$10,MATCH($G$7,GRID!$A$4:$A$10,0),MATCH(1,($U$2=GRID!$B$1:$BI$1)*(КАЛЕНДАРЬ!AZ8=GRID!$B$3:$BI$3), 0)), INDEX(GRID!$B$4:$BI$10,MATCH($G$7,GRID!$A$4:$A$10,0),MATCH(1,($U$2=GRID!$B$1:$BI$1)*(КАЛЕНДАРЬ!AZ8=GRID!$B$3:$BI$3), 0))*(1-GRID!$B$29))} -> 22200 | H106: {=IF($I$2="Открытый тариф", INDEX(GRID!$B$13:$BI$19,MATCH($G$7,GRID!$A$13:$A$19,0),MATCH(1,($U$2=GRID!$B$1:$BI$1)*(КАЛЕНДАРЬ!$AZ8=GRID!$B$3:$BI$3), 0)), INDEX(GRID!$B$13:$BI$19,MATCH($G$7,GRID!$A$13:$A$19,0),MATCH(1,($U$2=GRID!$B$1:$BI$1)*(КАЛЕНДАРЬ!$AZ8=GRID!$B$3:$BI$3), 0))*(1-GRID!$B$29))} -> 25500 | I106: {=IF($I$2="Открытый тариф", INDEX(GRID!$B$4:$BI$10,MATCH($I$7,GRID!$A$4:$A$10,0),MATCH(1,($U$2=GRID!$B$1:$BI$1)*(КАЛЕНДАРЬ!AZ8=GRID!$B$3:$BI$3), 0)), INDEX(GRID!$B$4:$BI$10,MATCH($I$7,GRID!$A$4:$A$10,0),MATCH(1,($U$2=GRID!$B$1:$BI$1)*(КАЛЕНДАРЬ!AZ8=GRID!$B$3:$BI$3), 0))*(1-GRID!$B$29))} -> 31300 | J106: {=IF($I$2="Открытый тариф", INDEX(GRID!$B$13:$BI$19,MATCH($I$7,GRID!$A$13:$A$19,0),MATCH(1,($U$2=GRID!$B$1:$BI$1)*(КАЛЕНДАРЬ!$AZ8=GRID!$B$3:$BI$3), 0)), INDEX(GRID!$B$13:$BI$19,MATCH($I$7,GRID!$A$13:$A$19,0),MATCH(1,($U$2=GRID!$B$1:$BI$1)*(КАЛЕНДАРЬ!$AZ8=GRID!$B$3:$BI$3), 0))*(1-GRID!$B$29))} -> 34600 | K106: {=IF($I$2="Открытый тариф", INDEX(GRID!$B$4:$BI$10,MATCH($K$7,GRID!$A$4:$A$10,0),MATCH(1,($U$2=GRID!$B$1:$BI$1)*(КАЛЕНДАРЬ!AZ8=GRID!$B$3:$BI$3), 0)), INDEX(GRID!$B$4:$BI$10,MATCH($K$7,GRID!$A$4:$A$10,0),MATCH(1,($U$2=GRID!$B$1:$BI$1)*(КАЛЕНДАРЬ!AZ8=GRID!$B$3:$BI$3), 0))*(1-GRID!$B$29))} -> 44300 | L106: {=IF($I$2="Открытый тариф", INDEX(GRID!$B$13:$BI$19,MATCH($K$7,GRID!$A$13:$A$19,0),MATCH(1,($U$2=GRID!$B$1:$BI$1)*(КАЛЕНДАРЬ!$AZ8=GRID!$B$3:$BI$3), 0)), INDEX(GRID!$B$13:$BI$19,MATCH($K$7,GRID!$A$13:$A$19,0),MATCH(1,($U$2=GRID!$B$1:$BI$1)*(КАЛЕНДАРЬ!$AZ8=GRID!$B$3:$BI$3), 0))*(1-GRID!$B$29))} -> 47600 | M106: {=IF($I$2="Открытый тариф", INDEX(GRID!$B$4:$BI$10,MATCH($M$7,GRID!$A$4:$A$10,0),MATCH(1,($U$2=GRID!$B$1:$BI$1)*(КАЛЕНДАРЬ!AZ8=GRID!$B$3:$BI$3), 0)), INDEX(GRID!$B$4:$BI$10,MATCH($M$7,GRID!$A$4:$A$10,0),MATCH(1,($U$2=GRID!$B$1:$BI$1)*(КАЛЕНДАРЬ!AZ8=GRID!$B$3:$BI$3), 0))*(1-GRID!$B$29))} -> 63800 | N106: {=IF($I$2="Открытый тариф", INDEX(GRID!$B$13:$BI$19,MATCH($M$7,GRID!$A$13:$A$19,0),MATCH(1,($U$2=GRID!$B$1:$BI$1)*(КАЛЕНДАРЬ!$AZ8=GRID!$B$3:$BI$3), 0)), INDEX(GRID!$B$13:$BI$19,MATCH($M$7,GRID!$A$13:$A$19,0),MATCH(1,($U$2=GRID!$B$1:$BI$1)*(КАЛЕНДАРЬ!$AZ8=GRID!$B$3:$BI$3), 0))*(1-GRID!$B$29))} -> 67100 | O106: {=IF($I$2="Открытый тариф", INDEX(GRID!$B$4:$BI$10,MATCH($O$7,GRID!$A$4:$A$10,0),MATCH(1,($U$2=GRID!$B$1:$BI$1)*(КАЛЕНДАРЬ!AZ8=GRID!$B$3:$BI$3), 0)), INDEX(GRID!$B$4:$BI$10,MATCH($O$7,GRID!$A$4:$A$10,0),MATCH(1,($U$2=GRID!$B$1:$BI$1)*(КАЛЕНДАРЬ!AZ8=GRID!$B$3:$BI$3), 0))*(1-GRID!$B$29))} -> 151700 | P106: {=IF($I$2="Открытый тариф", INDEX(GRID!$B$13:$BI$19,MATCH($O$7,GRID!$A$13:$A$19,0),MATCH(1,($U$2=GRID!$B$1:$BI$1)*(КАЛЕНДАРЬ!$AZ8=GRID!$B$3:$BI$3), 0)), INDEX(GRID!$B$13:$BI$19,MATCH($O$7,GRID!$A$13:$A$19,0),MATCH(1,($U$2=GRID!$B$1:$BI$1)*(КАЛЕНДАРЬ!$AZ8=GRID!$B$3:$BI$3), 0))*(1-GRID!$B$29))} -> 155000
A107: СР | B107: 6 | C107: {=IF($I$2="Открытый тариф", INDEX(GRID!$B$4:$BI$10,MATCH($C$7,GRID!$A$4:$A$10,0),MATCH(1,($U$2=GRID!$B$1:$BI$1)*(КАЛЕНДАРЬ!AZ9=GRID!$B$3:$BI$3), 0)), INDEX(GRID!$B$4:$BI$10,MATCH($C$7,GRID!$A$4:$A$10,0),MATCH(1,($U$2=GRID!$B$1:$BI$1)*(КАЛЕНДАРЬ!AZ9=GRID!$B$3:$BI$3), 0))*(1-GRID!$B$29))} -> 15000 | D107: {=IF($I$2="Открытый тариф", INDEX(GRID!$B$13:$BI$19,MATCH($C$7,GRID!$A$13:$A$19,0),MATCH(1,($U$2=GRID!$B$1:$BI$1)*(КАЛЕНДАРЬ!$AZ9=GRID!$B$3:$BI$3), 0)), INDEX(GRID!$B$13:$BI$19,MATCH($C$7,GRID!$A$13:$A$19,0),MATCH(1,($U$2=GRID!$B$1:$BI$1)*(КАЛЕНДАРЬ!$AZ9=GRID!$B$3:$BI$3), 0))*(1-GRID!$B$29))} -> 18300 | E107: {=IF($I$2="Открытый тариф", INDEX(GRID!$B$4:$BI$10,MATCH($E$7,GRID!$A$4:$A$10,0),MATCH(1,($U$2=GRID!$B$1:$BI$1)*(КАЛЕНДАРЬ!AZ9=GRID!$B$3:$BI$3), 0)), INDEX(GRID!$B$4:$BI$10,MATCH($E$7,GRID!$A$4:$A$10,0),MATCH(1,($U$2=GRID!$B$1:$BI$1)*(КАЛЕНДАРЬ!AZ9=GRID!$B$3:$BI$3), 0))*(1-GRID!$B$29))} -> 18300 | F107: {=IF($I$2="Открытый тариф", INDEX(GRID!$B$13:$BI$19,MATCH($E$7,GRID!$A$13:$A$19,0),MATCH(1,($U$2=GRID!$B$1:$BI$1)*(КАЛЕНДАРЬ!$AZ9=GRID!$B$3:$BI$3), 0)), INDEX(GRID!$B$13:$BI$19,MATCH($E$7,GRID!$A$13:$A$19,0),MATCH(1,($U$2=GRID!$B$1:$BI$1)*(КАЛЕНДАРЬ!$AZ9=GRID!$B$3:$BI$3), 0))*(1-GRID!$B$29))} -> 21600 | G107: {=IF($I$2="Открытый тариф", INDEX(GRID!$B$4:$BI$10,MATCH($G$7,GRID!$A$4:$A$10,0),MATCH(1,($U$2=GRID!$B$1:$BI$1)*(КАЛЕНДАРЬ!AZ9=GRID!$B$3:$BI$3), 0)), INDEX(GRID!$B$4:$BI$10,MATCH($G$7,GRID!$A$4:$A$10,0),MATCH(1,($U$2=GRID!$B$1:$BI$1)*(КАЛЕНДАРЬ!AZ9=GRID!$B$3:$BI$3), 0))*(1-GRID!$B$29))} -> 22200 | H107: {=IF($I$2="Открытый тариф", INDEX(GRID!$B$13:$BI$19,MATCH($G$7,GRID!$A$13:$A$19,0),MATCH(1,($U$2=GRID!$B$1:$BI$1)*(КАЛЕНДАРЬ!$AZ9=GRID!$B$3:$BI$3), 0)), INDEX(GRID!$B$13:$BI$19,MATCH($G$7,GRID!$A$13:$A$19,0),MATCH(1,($U$2=GRID!$B$1:$BI$1)*(КАЛЕНДАРЬ!$AZ9=GRID!$B$3:$BI$3), 0))*(1-GRID!$B$29))} -> 25500 | I107: {=IF($I$2="Открытый тариф", INDEX(GRID!$B$4:$BI$10,MATCH($I$7,GRID!$A$4:$A$10,0),MATCH(1,($U$2=GRID!$B$1:$BI$1)*(КАЛЕНДАРЬ!AZ9=GRID!$B$3:$BI$3), 0)), INDEX(GRID!$B$4:$BI$10,MATCH($I$7,GRID!$A$4:$A$10,0),MATCH(1,($U$2=GRID!$B$1:$BI$1)*(КАЛЕНДАРЬ!AZ9=GRID!$B$3:$BI$3), 0))*(1-GRID!$B$29))} -> 31300 | J107: {=IF($I$2="Открытый тариф", INDEX(GRID!$B$13:$BI$19,MATCH($I$7,GRID!$A$13:$A$19,0),MATCH(1,($U$2=GRID!$B$1:$BI$1)*(КАЛЕНДАРЬ!$AZ9=GRID!$B$3:$BI$3), 0)), INDEX(GRID!$B$13:$BI$19,MATCH($I$7,GRID!$A$13:$A$19,0),MATCH(1,($U$2=GRID!$B$1:$BI$1)*(КАЛЕНДАРЬ!$AZ9=GRID!$B$3:$BI$3), 0))*(1-GRID!$B$29))} -> 34600 | K107: {=IF($I$2="Открытый тариф", INDEX(GRID!$B$4:$BI$10,MATCH($K$7,GRID!$A$4:$A$10,0),MATCH(1,($U$2=GRID!$B$1:$BI$1)*(КАЛЕНДАРЬ!AZ9=GRID!$B$3:$BI$3), 0)), INDEX(GRID!$B$4:$BI$10,MATCH($K$7,GRID!$A$4:$A$10,0),MATCH(1,($U$2=GRID!$B$1:$BI$1)*(КАЛЕНДАРЬ!AZ9=GRID!$B$3:$BI$3), 0))*(1-GRID!$B$29))} -> 44300 | L107: {=IF($I$2="Открытый тариф", INDEX(GRID!$B$13:$BI$19,MATCH($K$7,GRID!$A$13:$A$19,0),MATCH(1,($U$2=GRID!$B$1:$BI$1)*(КАЛЕНДАРЬ!$AZ9=GRID!$B$3:$BI$3), 0)), INDEX(GRID!$B$13:$BI$19,MATCH($K$7,GRID!$A$13:$A$19,0),MATCH(1,($U$2=GRID!$B$1:$BI$1)*(КАЛЕНДАРЬ!$AZ9=GRID!$B$3:$BI$3), 0))*(1-GRID!$B$29))} -> 47600 | M107: {=IF($I$2="Открытый тариф", INDEX(GRID!$B$4:$BI$10,MATCH($M$7,GRID!$A$4:$A$10,0),MATCH(1,($U$2=GRID!$B$1:$BI$1)*(КАЛЕНДАРЬ!AZ9=GRID!$B$3:$BI$3), 0)), INDEX(GRID!$B$4:$BI$10,MATCH($M$7,GRID!$A$4:$A$10,0),MATCH(1,($U$2=GRID!$B$1:$BI$1)*(КАЛЕНДАРЬ!AZ9=GRID!$B$3:$BI$3), 0))*(1-GRID!$B$29))} -> 63800 | N107: {=IF($I$2="Открытый тариф", INDEX(GRID!$B$13:$BI$19,MATCH($M$7,GRID!$A$13:$A$19,0),MATCH(1,($U$2=GRID!$B$1:$BI$1)*(КАЛЕНДАРЬ!$AZ9=GRID!$B$3:$BI$3), 0)), INDEX(GRID!$B$13:$BI$19,MATCH($M$7,GRID!$A$13:$A$19,0),MATCH(1,($U$2=GRID!$B$1:$BI$1)*(КАЛЕНДАРЬ!$AZ9=GRID!$B$3:$BI$3), 0))*(1-GRID!$B$29))} -> 67100 | O107: {=IF($I$2="Открытый тариф", INDEX(GRID!$B$4:$BI$10,MATCH($O$7,GRID!$A$4:$A$10,0),MATCH(1,($U$2=GRID!$B$1:$BI$1)*(КАЛЕНДАРЬ!AZ9=GRID!$B$3:$BI$3), 0)), INDEX(GRID!$B$4:$BI$10,MATCH($O$7,GRID!$A$4:$A$10,0),MATCH(1,($U$2=GRID!$B$1:$BI$1)*(КАЛЕНДАРЬ!AZ9=GRID!$B$3:$BI$3), 0))*(1-GRID!$B$29))} -> 151700 | P107: {=IF($I$2="Открытый тариф", INDEX(GRID!$B$13:$BI$19,MATCH($O$7,GRID!$A$13:$A$19,0),MATCH(1,($U$2=GRID!$B$1:$BI$1)*(КАЛЕНДАРЬ!$AZ9=GRID!$B$3:$BI$3), 0)), INDEX(GRID!$B$13:$BI$19,MATCH($O$7,GRID!$A$13:$A$19,0),MATCH(1,($U$2=GRID!$B$1:$BI$1)*(КАЛЕНДАРЬ!$AZ9=GRID!$B$3:$BI$3), 0))*(1-GRID!$B$29))} -> 155000
